| lamb1 |
Linux (SUSE 10.1) / x86_64 | | | |
| wilson2 |
Linux (openSUSE 10.3) / x86_64 | | | |
| wellington |
Linux (openSUSE 10.3) / i686 | | | |
| liverpool |
Windows Server 2003 R2 (32-bit) / x64 | | | |
| lemming |
Windows Server 2003 (32-bit) / x64 | | | |
|
| A [A] B C D E F G H I J K L M N O P Q R S T U V W X Y Z |
ABarray 1.7.0 Yongming Andrew Sun
| Last Changed Rev: 27716 / Revision: 29143 | | Last Changed Date: 2007-10-02 18:16:39 -0700 |
| lamb1 | Linux (SUSE 10.1) / x86_64 | OK | OK | |
| wilson2 | Linux (openSUSE 10.3) / x86_64 | OK | OK | |
| wellington | Linux (openSUSE 10.3) / i686 | OK | OK | |
| liverpool | Windows Server 2003 R2 (32-bit) / x64 | OK | OK | OK |
| lemming | Windows Server 2003 (32-bit) / x64 | OK | OK | OK |
aCGH 1.13.0 Jane Fridlyand
| Last Changed Rev: 28557 / Revision: 29143 | | Last Changed Date: 2007-11-07 23:00:31 -0800 |
| lamb1 | Linux (SUSE 10.1) / x86_64 | OK | WARNINGS | |
| wilson2 | Linux (openSUSE 10.3) / x86_64 | OK | WARNINGS | |
| wellington | Linux (openSUSE 10.3) / i686 | OK | WARNINGS | |
| liverpool | Windows Server 2003 R2 (32-bit) / x64 | OK | WARNINGS | OK |
| lemming | Windows Server 2003 (32-bit) / x64 | OK | WARNINGS | OK |
ACME 1.5.0 Sean Davis
| Last Changed Rev: 28557 / Revision: 29143 | | Last Changed Date: 2007-11-07 23:00:31 -0800 |
| lamb1 | Linux (SUSE 10.1) / x86_64 | OK | OK | |
| wilson2 | Linux (openSUSE 10.3) / x86_64 | OK | OK | |
| wellington | Linux (openSUSE 10.3) / i686 | OK | OK | |
| liverpool | Windows Server 2003 R2 (32-bit) / x64 | OK | OK | OK |
| lemming | Windows Server 2003 (32-bit) / x64 | OK | OK | OK |
adSplit 1.9.1 Claudio Lottaz
| Last Changed Rev: 28491 / Revision: 29143 | | Last Changed Date: 2007-11-06 01:07:03 -0800 |
| lamb1 | Linux (SUSE 10.1) / x86_64 | OK | OK | |
| wilson2 | Linux (openSUSE 10.3) / x86_64 | OK | OK | |
| wellington | Linux (openSUSE 10.3) / i686 | OK | OK | |
| liverpool | Windows Server 2003 R2 (32-bit) / x64 | OK | OK | OK |
| lemming | Windows Server 2003 (32-bit) / x64 | OK | OK | OK |
affxparser 1.11.3 Kasper Daniel Hansen
| Last Changed Rev: 29110 / Revision: 29143 | | Last Changed Date: 2007-12-08 11:33:34 -0800 |
| lamb1 | Linux (SUSE 10.1) / x86_64 | OK | OK | |
| wilson2 | Linux (openSUSE 10.3) / x86_64 | OK | ERROR | |
| wellington | Linux (openSUSE 10.3) / i686 | OK | ERROR | |
| liverpool | Windows Server 2003 R2 (32-bit) / x64 | OK | OK | OK |
| lemming | Windows Server 2003 (32-bit) / x64 | OK | OK | OK |
affy 1.17.3 Rafael A. Irizarry
| Last Changed Rev: 28641 / Revision: 29143 | | Last Changed Date: 2007-11-12 06:00:38 -0800 |
| lamb1 | Linux (SUSE 10.1) / x86_64 | OK | WARNINGS | |
| wilson2 | Linux (openSUSE 10.3) / x86_64 | OK | WARNINGS | |
| wellington | Linux (openSUSE 10.3) / i686 | OK | WARNINGS | |
| liverpool | Windows Server 2003 R2 (32-bit) / x64 | OK | WARNINGS | OK |
| lemming | Windows Server 2003 (32-bit) / x64 | OK | WARNINGS | OK |
affycomp 1.15.0 Rafael A. Irizarry
| Last Changed Rev: 27716 / Revision: 29143 | | Last Changed Date: 2007-10-02 18:16:39 -0700 |
| lamb1 | Linux (SUSE 10.1) / x86_64 | OK | OK | |
| wilson2 | Linux (openSUSE 10.3) / x86_64 | OK | OK | |
| wellington | Linux (openSUSE 10.3) / i686 | OK | OK | |
| liverpool | Windows Server 2003 R2 (32-bit) / x64 | OK | OK | OK |
| lemming | Windows Server 2003 (32-bit) / x64 | OK | OK | OK |
affycoretools 1.11.2 James W. MacDonald
| Last Changed Rev: 28320 / Revision: 29143 | | Last Changed Date: 2007-10-30 14:03:22 -0700 |
| lamb1 | Linux (SUSE 10.1) / x86_64 | OK | OK | |
| wilson2 | Linux (openSUSE 10.3) / x86_64 | OK | OK | |
| wellington | Linux (openSUSE 10.3) / i686 | OK | OK | |
| liverpool | Windows Server 2003 R2 (32-bit) / x64 | OK | OK | OK |
| lemming | Windows Server 2003 (32-bit) / x64 | OK | OK | OK |
AffyExpress 1.4.0 Xuejun Arthur Li
| Last Changed Rev: 28359 / Revision: 29143 | | Last Changed Date: 2007-10-31 14:40:04 -0700 |
| lamb1 | Linux (SUSE 10.1) / x86_64 | OK | ERROR | |
| wilson2 | Linux (openSUSE 10.3) / x86_64 | OK | ERROR | |
| wellington | Linux (openSUSE 10.3) / i686 | OK | ERROR | |
| liverpool | Windows Server 2003 R2 (32-bit) / x64 | OK | OK | OK |
| lemming | Windows Server 2003 (32-bit) / x64 | OK | OK | OK |
affyio 1.7.6 Benjamin Milo Bolstad
| Last Changed Rev: 28611 / Revision: 29143 | | Last Changed Date: 2007-11-09 07:35:58 -0800 |
| lamb1 | Linux (SUSE 10.1) / x86_64 | OK | OK | |
| wilson2 | Linux (openSUSE 10.3) / x86_64 | OK | OK | |
| wellington | Linux (openSUSE 10.3) / i686 | OK | OK | |
| liverpool | Windows Server 2003 R2 (32-bit) / x64 | OK | OK | OK |
| lemming | Windows Server 2003 (32-bit) / x64 | OK | OK | OK |
affylmGUI 1.13.0 Keith Satterley
| Last Changed Rev: 28350 / Revision: 29143 | | Last Changed Date: 2007-10-31 10:03:59 -0700 |
| lamb1 | Linux (SUSE 10.1) / x86_64 | OK | OK | |
| wilson2 | Linux (openSUSE 10.3) / x86_64 | OK | OK | |
| wellington | Linux (openSUSE 10.3) / i686 | OK | OK | |
| liverpool | Windows Server 2003 R2 (32-bit) / x64 | OK | OK | OK |
| lemming | Windows Server 2003 (32-bit) / x64 | OK | OK | OK |
affypdnn 1.13.2 Laurent Gautier
| Last Changed Rev: 28605 / Revision: 29143 | | Last Changed Date: 2007-11-08 22:33:01 -0800 |
| lamb1 | Linux (SUSE 10.1) / x86_64 | OK | OK | |
| wilson2 | Linux (openSUSE 10.3) / x86_64 | OK | OK | |
| wellington | Linux (openSUSE 10.3) / i686 | OK | TIMEOUT | |
| liverpool | Windows Server 2003 R2 (32-bit) / x64 | OK | OK | OK |
| lemming | Windows Server 2003 (32-bit) / x64 | OK | TIMEOUT | OK |
affyPLM 1.15.4 Ben Bolstad
| Last Changed Rev: 28987 / Revision: 29143 | | Last Changed Date: 2007-12-01 11:30:04 -0800 |
| lamb1 | Linux (SUSE 10.1) / x86_64 | OK | OK | |
| wilson2 | Linux (openSUSE 10.3) / x86_64 | OK | OK | |
| wellington | Linux (openSUSE 10.3) / i686 | OK | OK | |
| liverpool | Windows Server 2003 R2 (32-bit) / x64 | OK | OK | OK |
| lemming | Windows Server 2003 (32-bit) / x64 | OK | OK | OK |
affyQCReport 1.17.0 Craig Parman
| Last Changed Rev: 27716 / Revision: 29143 | | Last Changed Date: 2007-10-02 18:16:39 -0700 |
| lamb1 | Linux (SUSE 10.1) / x86_64 | OK | OK | |
| wilson2 | Linux (openSUSE 10.3) / x86_64 | OK | OK | |
| wellington | Linux (openSUSE 10.3) / i686 | OK | OK | |
| liverpool | Windows Server 2003 R2 (32-bit) / x64 | OK | OK | OK |
| lemming | Windows Server 2003 (32-bit) / x64 | OK | OK | OK |
altcdfenvs 1.13.1 Laurent Gautier
| Last Changed Rev: 28536 / Revision: 29143 | | Last Changed Date: 2007-11-06 20:37:42 -0800 |
| lamb1 | Linux (SUSE 10.1) / x86_64 | OK | WARNINGS | |
| wilson2 | Linux (openSUSE 10.3) / x86_64 | OK | WARNINGS | |
| wellington | Linux (openSUSE 10.3) / i686 | OK | WARNINGS | |
| liverpool | Windows Server 2003 R2 (32-bit) / x64 | OK | WARNINGS | OK |
| lemming | Windows Server 2003 (32-bit) / x64 | OK | WARNINGS | OK |
annaffy 1.11.2 Colin A. Smith
| Last Changed Rev: 29047 / Revision: 29143 | | Last Changed Date: 2007-12-05 04:14:21 -0800 |
| lamb1 | Linux (SUSE 10.1) / x86_64 | OK | ERROR | |
| wilson2 | Linux (openSUSE 10.3) / x86_64 | OK | ERROR | |
| wellington | Linux (openSUSE 10.3) / i686 | OK | ERROR | |
| liverpool | Windows Server 2003 R2 (32-bit) / x64 | OK | ERROR | OK |
| lemming | Windows Server 2003 (32-bit) / x64 | OK | ERROR | OK |
AnnBuilder 1.17.0 J. Zhang
| Last Changed Rev: 27716 / Revision: 29143 | | Last Changed Date: 2007-10-02 18:16:39 -0700 |
| lamb1 | Linux (SUSE 10.1) / x86_64 | OK | OK | |
| wilson2 | Linux (openSUSE 10.3) / x86_64 | OK | OK | |
| wellington | Linux (openSUSE 10.3) / i686 | OK | OK | |
| liverpool | Windows Server 2003 R2 (32-bit) / x64 | OK | OK | OK |
| lemming | Windows Server 2003 (32-bit) / x64 | OK | OK | OK |
annotate 1.17.3 Biocore Team c/o BioC user list
| Last Changed Rev: 28881 / Revision: 29143 | | Last Changed Date: 2007-11-21 09:05:51 -0800 |
| lamb1 | Linux (SUSE 10.1) / x86_64 | OK | WARNINGS | |
| wilson2 | Linux (openSUSE 10.3) / x86_64 | OK | WARNINGS | |
| wellington | Linux (openSUSE 10.3) / i686 | OK | WARNINGS | |
| liverpool | Windows Server 2003 R2 (32-bit) / x64 | OK | WARNINGS | OK |
| lemming | Windows Server 2003 (32-bit) / x64 | OK | WARNINGS | OK |
AnnotationDbi 1.1.6 Biocore Team c/o BioC user list
| Last Changed Rev: 28265 / Revision: 29143 | | Last Changed Date: 2007-10-26 16:05:50 -0700 |
| lamb1 | Linux (SUSE 10.1) / x86_64 | OK | WARNINGS | |
| wilson2 | Linux (openSUSE 10.3) / x86_64 | OK | WARNINGS | |
| wellington | Linux (openSUSE 10.3) / i686 | OK | WARNINGS | |
| liverpool | Windows Server 2003 R2 (32-bit) / x64 | OK | WARNINGS | OK |
| lemming | Windows Server 2003 (32-bit) / x64 | OK | WARNINGS | OK |
annotationTools 1.9.0 Alexandre Kuhn
| Last Changed Rev: 27716 / Revision: 29143 | | Last Changed Date: 2007-10-02 18:16:39 -0700 |
| lamb1 | Linux (SUSE 10.1) / x86_64 | OK | OK | |
| wilson2 | Linux (openSUSE 10.3) / x86_64 | OK | OK | |
| wellington | Linux (openSUSE 10.3) / i686 | OK | OK | |
| liverpool | Windows Server 2003 R2 (32-bit) / x64 | OK | OK | OK |
| lemming | Windows Server 2003 (32-bit) / x64 | OK | OK | OK |
apComplex 2.5.0 Denise Scholtens
| Last Changed Rev: 27716 / Revision: 29143 | | Last Changed Date: 2007-10-02 18:16:39 -0700 |
| lamb1 | Linux (SUSE 10.1) / x86_64 | OK | OK | |
| wilson2 | Linux (openSUSE 10.3) / x86_64 | OK | OK | |
| wellington | Linux (openSUSE 10.3) / i686 | OK | OK | |
| liverpool | Windows Server 2003 R2 (32-bit) / x64 | OK | ERROR | OK |
| lemming | Windows Server 2003 (32-bit) / x64 | OK | OK | OK |
aroma.light 1.7.1 Henrik Bengtsson
| Last Changed Rev: 28959 / Revision: 29143 | | Last Changed Date: 2007-11-28 14:54:24 -0800 |
| lamb1 | Linux (SUSE 10.1) / x86_64 | OK | ERROR | |
| wilson2 | Linux (openSUSE 10.3) / x86_64 | OK | ERROR | |
| wellington | Linux (openSUSE 10.3) / i686 | OK | OK | |
| liverpool | Windows Server 2003 R2 (32-bit) / x64 | OK | OK | OK |
| lemming | Windows Server 2003 (32-bit) / x64 | OK | OK | OK |
arrayMagic 1.17.2 Andreas Buness
| Last Changed Rev: 28902 / Revision: 29143 | | Last Changed Date: 2007-11-25 08:43:29 -0800 |
| lamb1 | Linux (SUSE 10.1) / x86_64 | ERROR | skipped | |
| wilson2 | Linux (openSUSE 10.3) / x86_64 | ERROR | skipped | |
| wellington | Linux (openSUSE 10.3) / i686 | ERROR | skipped | |
| liverpool | Windows Server 2003 R2 (32-bit) / x64 | ERROR | skipped | skipped |
| lemming | Windows Server 2003 (32-bit) / x64 | ERROR | skipped | skipped |
arrayQuality 1.15.0 Agnes Paquet
| Last Changed Rev: 27716 / Revision: 29143 | | Last Changed Date: 2007-10-02 18:16:39 -0700 |
| lamb1 | Linux (SUSE 10.1) / x86_64 | OK | WARNINGS | |
| wilson2 | Linux (openSUSE 10.3) / x86_64 | OK | WARNINGS | |
| wellington | Linux (openSUSE 10.3) / i686 | OK | WARNINGS | |
| liverpool | Windows Server 2003 R2 (32-bit) / x64 | OK | WARNINGS | OK |
| lemming | Windows Server 2003 (32-bit) / x64 | OK | WARNINGS | OK |
arrayQualityMetrics 1.3.5 Audrey Kauffmann
| Last Changed Rev: 28925 / Revision: 29143 | | Last Changed Date: 2007-11-27 03:12:05 -0800 |
| lamb1 | Linux (SUSE 10.1) / x86_64 | OK | OK | |
| wilson2 | Linux (openSUSE 10.3) / x86_64 | OK | OK | |
| wellington | Linux (openSUSE 10.3) / i686 | OK | OK | |
| liverpool | Windows Server 2003 R2 (32-bit) / x64 | OK | OK | OK |
| lemming | Windows Server 2003 (32-bit) / x64 | OK | OK | OK |
|
| B A [B] C D E F G H I J K L M N O P Q R S T U V W X Y Z |
beadarray 1.7.2 Mark Dunning
| Last Changed Rev: 28646 / Revision: 29143 | | Last Changed Date: 2007-11-12 10:13:27 -0800 |
| lamb1 | Linux (SUSE 10.1) / x86_64 | OK | OK | |
| wilson2 | Linux (openSUSE 10.3) / x86_64 | OK | OK | |
| wellington | Linux (openSUSE 10.3) / i686 | OK | OK | |
| liverpool | Windows Server 2003 R2 (32-bit) / x64 | OK | OK | OK |
| lemming | Windows Server 2003 (32-bit) / x64 | OK | OK | OK |
beadarraySNP 1.5.2 Jan Oosting
| Last Changed Rev: 28736 / Revision: 29143 | | Last Changed Date: 2007-11-15 09:28:03 -0800 |
| lamb1 | Linux (SUSE 10.1) / x86_64 | OK | WARNINGS | |
| wilson2 | Linux (openSUSE 10.3) / x86_64 | OK | WARNINGS | |
| wellington | Linux (openSUSE 10.3) / i686 | OK | WARNINGS | |
| liverpool | Windows Server 2003 R2 (32-bit) / x64 | OK | WARNINGS | OK |
| lemming | Windows Server 2003 (32-bit) / x64 | OK | WARNINGS | OK |
BeadExplorer 1.5.0 Gareth Elvidge
| Last Changed Rev: 27716 / Revision: 29143 | | Last Changed Date: 2007-10-02 18:16:39 -0700 |
| lamb1 | Linux (SUSE 10.1) / x86_64 | OK | OK | |
| wilson2 | Linux (openSUSE 10.3) / x86_64 | OK | OK | |
| wellington | Linux (openSUSE 10.3) / i686 | OK | OK | |
| liverpool | Windows Server 2003 R2 (32-bit) / x64 | OK | OK | OK |
| lemming | Windows Server 2003 (32-bit) / x64 | OK | OK | OK |
bgafun 1.1.0 Iain Wallace
| Last Changed Rev: 27716 / Revision: 29143 | | Last Changed Date: 2007-10-02 18:16:39 -0700 |
| lamb1 | Linux (SUSE 10.1) / x86_64 | OK | ERROR | |
| wilson2 | Linux (openSUSE 10.3) / x86_64 | OK | ERROR | |
| wellington | Linux (openSUSE 10.3) / i686 | OK | ERROR | |
| liverpool | Windows Server 2003 R2 (32-bit) / x64 | OK | ERROR | OK |
| lemming | Windows Server 2003 (32-bit) / x64 | OK | ERROR | OK |
BGmix 0.9.0 Alex Lewin
| Last Changed Rev: 29137 / Revision: 29143 | | Last Changed Date: 2007-12-10 18:44:31 -0800 |
| lamb1 | Linux (SUSE 10.1) / x86_64 | OK | OK | |
| wilson2 | Linux (openSUSE 10.3) / x86_64 | OK | OK | |
| wellington | Linux (openSUSE 10.3) / i686 | OK | OK | |
| liverpool | Windows Server 2003 R2 (32-bit) / x64 | N O T S U P P O R T E D |
| lemming | Windows Server 2003 (32-bit) / x64 | N O T S U P P O R T E D |
bgx 1.3.0 Ernest Turro
| Last Changed Rev: 27981 / Revision: 29143 | | Last Changed Date: 2007-10-13 04:46:15 -0700 |
| lamb1 | Linux (SUSE 10.1) / x86_64 | OK | OK | |
| wilson2 | Linux (openSUSE 10.3) / x86_64 | OK | OK | |
| wellington | Linux (openSUSE 10.3) / i686 | OK | OK | |
| liverpool | Windows Server 2003 R2 (32-bit) / x64 | OK | OK | OK |
| lemming | Windows Server 2003 (32-bit) / x64 | OK | OK | OK |
Biobase 1.17.7 Biocore Team c/o BioC user list
| Last Changed Rev: 28965 / Revision: 29143 | | Last Changed Date: 2007-11-29 10:08:27 -0800 |
| lamb1 | Linux (SUSE 10.1) / x86_64 | OK | OK | |
| wilson2 | Linux (openSUSE 10.3) / x86_64 | OK | OK | |
| wellington | Linux (openSUSE 10.3) / i686 | OK | OK | |
| liverpool | Windows Server 2003 R2 (32-bit) / x64 | OK | OK | OK |
| lemming | Windows Server 2003 (32-bit) / x64 | OK | OK | OK |
BiocCaseStudies 1.1.1 Biocore Team c/o BioC user list
| Last Changed Rev: 29045 / Revision: 29143 | | Last Changed Date: 2007-12-04 20:33:06 -0800 |
| lamb1 | Linux (SUSE 10.1) / x86_64 | OK | OK | |
| wilson2 | Linux (openSUSE 10.3) / x86_64 | OK | OK | |
| wellington | Linux (openSUSE 10.3) / i686 | OK | OK | |
| liverpool | Windows Server 2003 R2 (32-bit) / x64 | OK | ERROR | OK |
| lemming | Windows Server 2003 (32-bit) / x64 | OK | OK | OK |
biocGraph 1.1.1 Li Long
| Last Changed Rev: 28360 / Revision: 29143 | | Last Changed Date: 2007-10-31 17:26:28 -0700 |
| lamb1 | Linux (SUSE 10.1) / x86_64 | OK | OK | |
| wilson2 | Linux (openSUSE 10.3) / x86_64 | OK | OK | |
| wellington | Linux (openSUSE 10.3) / i686 | OK | OK | |
| liverpool | Windows Server 2003 R2 (32-bit) / x64 | ERROR | skipped | skipped |
| lemming | Windows Server 2003 (32-bit) / x64 | ERROR | skipped | skipped |
biocViews 1.7.1 Biocore Team c/o BioC user list
| Last Changed Rev: 28917 / Revision: 29143 | | Last Changed Date: 2007-11-26 15:21:22 -0800 |
| lamb1 | Linux (SUSE 10.1) / x86_64 | OK | OK | |
| wilson2 | Linux (openSUSE 10.3) / x86_64 | OK | OK | |
| wellington | Linux (openSUSE 10.3) / i686 | OK | OK | |
| liverpool | Windows Server 2003 R2 (32-bit) / x64 | OK | OK | OK |
| lemming | Windows Server 2003 (32-bit) / x64 | OK | OK | OK |
bioDist 1.11.3 Biocore Team c/o BioC user list
| Last Changed Rev: 28905 / Revision: 29143 | | Last Changed Date: 2007-11-25 21:55:57 -0800 |
| lamb1 | Linux (SUSE 10.1) / x86_64 | ERROR | skipped | |
| wilson2 | Linux (openSUSE 10.3) / x86_64 | ERROR | skipped | |
| wellington | Linux (openSUSE 10.3) / i686 | ERROR | skipped | |
| liverpool | Windows Server 2003 R2 (32-bit) / x64 | ERROR | skipped | skipped |
| lemming | Windows Server 2003 (32-bit) / x64 | ERROR | skipped | skipped |
biomaRt 1.13.6 Steffen Durinck
| Last Changed Rev: 29080 / Revision: 29143 | | Last Changed Date: 2007-12-06 08:30:53 -0800 |
| lamb1 | Linux (SUSE 10.1) / x86_64 | OK | OK | |
| wilson2 | Linux (openSUSE 10.3) / x86_64 | OK | OK | |
| wellington | Linux (openSUSE 10.3) / i686 | OK | OK | |
| liverpool | Windows Server 2003 R2 (32-bit) / x64 | OK | OK | OK |
| lemming | Windows Server 2003 (32-bit) / x64 | OK | OK | OK |
BioMVCClass 1.7.0 Elizabeth Whalen
| Last Changed Rev: 27716 / Revision: 29143 | | Last Changed Date: 2007-10-02 18:16:39 -0700 |
| lamb1 | Linux (SUSE 10.1) / x86_64 | OK | OK | |
| wilson2 | Linux (openSUSE 10.3) / x86_64 | OK | OK | |
| wellington | Linux (openSUSE 10.3) / i686 | OK | OK | |
| liverpool | Windows Server 2003 R2 (32-bit) / x64 | OK | ERROR | OK |
| lemming | Windows Server 2003 (32-bit) / x64 | OK | ERROR | OK |
Biostrings 2.7.6 H. Pages
| Last Changed Rev: 29007 / Revision: 29143 | | Last Changed Date: 2007-12-03 14:37:37 -0800 |
| lamb1 | Linux (SUSE 10.1) / x86_64 | OK | WARNINGS | |
| wilson2 | Linux (openSUSE 10.3) / x86_64 | OK | WARNINGS | |
| wellington | Linux (openSUSE 10.3) / i686 | OK | WARNINGS | |
| liverpool | Windows Server 2003 R2 (32-bit) / x64 | OK | WARNINGS | OK |
| lemming | Windows Server 2003 (32-bit) / x64 | OK | WARNINGS | OK |
bridge 1.11.0 Raphael Gottardo
| Last Changed Rev: 28557 / Revision: 29143 | | Last Changed Date: 2007-11-07 23:00:31 -0800 |
| lamb1 | Linux (SUSE 10.1) / x86_64 | OK | OK | |
| wilson2 | Linux (openSUSE 10.3) / x86_64 | OK | OK | |
| wellington | Linux (openSUSE 10.3) / i686 | OK | OK | |
| liverpool | Windows Server 2003 R2 (32-bit) / x64 | OK | OK | OK |
| lemming | Windows Server 2003 (32-bit) / x64 | OK | OK | OK |
BSgenome 1.7.1 H. Pages
| Last Changed Rev: 28208 / Revision: 29143 | | Last Changed Date: 2007-10-24 18:35:11 -0700 |
| lamb1 | Linux (SUSE 10.1) / x86_64 | OK | OK | |
| wilson2 | Linux (openSUSE 10.3) / x86_64 | OK | OK | |
| wellington | Linux (openSUSE 10.3) / i686 | OK | OK | |
| liverpool | Windows Server 2003 R2 (32-bit) / x64 | OK | OK | OK |
| lemming | Windows Server 2003 (32-bit) / x64 | OK | OK | OK |
BufferedMatrix 1.3.0 Benjamin Milo Bolstad
| Last Changed Rev: 27716 / Revision: 29143 | | Last Changed Date: 2007-10-02 18:16:39 -0700 |
| lamb1 | Linux (SUSE 10.1) / x86_64 | OK | ERROR | |
| wilson2 | Linux (openSUSE 10.3) / x86_64 | OK | ERROR | |
| wellington | Linux (openSUSE 10.3) / i686 | OK | ERROR | |
| liverpool | Windows Server 2003 R2 (32-bit) / x64 | OK | ERROR | OK |
| lemming | Windows Server 2003 (32-bit) / x64 | OK | ERROR | OK |
BufferedMatrixMethods 1.3.0 B. M. Bolstad
| Last Changed Rev: 27716 / Revision: 29143 | | Last Changed Date: 2007-10-02 18:16:39 -0700 |
| lamb1 | Linux (SUSE 10.1) / x86_64 | OK | OK | |
| wilson2 | Linux (openSUSE 10.3) / x86_64 | OK | OK | |
| wellington | Linux (openSUSE 10.3) / i686 | OK | OK | |
| liverpool | Windows Server 2003 R2 (32-bit) / x64 | OK | OK | OK |
| lemming | Windows Server 2003 (32-bit) / x64 | OK | OK | OK |
|
| C A B [C] D E F G H I J K L M N O P Q R S T U V W X Y Z |
CALIB 1.5.0 Hui Zhao
| Last Changed Rev: 27716 / Revision: 29143 | | Last Changed Date: 2007-10-02 18:16:39 -0700 |
| lamb1 | Linux (SUSE 10.1) / x86_64 | OK | OK | |
| wilson2 | Linux (openSUSE 10.3) / x86_64 | OK | OK | |
| wellington | Linux (openSUSE 10.3) / i686 | OK | OK | |
| liverpool | Windows Server 2003 R2 (32-bit) / x64 | OK | OK | OK |
| lemming | Windows Server 2003 (32-bit) / x64 | OK | OK | OK |
Category 2.5.0 Robert Gentleman
| Last Changed Rev: 27716 / Revision: 29143 | | Last Changed Date: 2007-10-02 18:16:39 -0700 |
| lamb1 | Linux (SUSE 10.1) / x86_64 | OK | OK | |
| wilson2 | Linux (openSUSE 10.3) / x86_64 | OK | OK | |
| wellington | Linux (openSUSE 10.3) / i686 | OK | OK | |
| liverpool | Windows Server 2003 R2 (32-bit) / x64 | OK | ERROR | OK |
| lemming | Windows Server 2003 (32-bit) / x64 | OK | OK | OK |
cellHTS 1.9.2 Ligia Bras
| Last Changed Rev: 29122 / Revision: 29143 | | Last Changed Date: 2007-12-10 08:21:44 -0800 |
| lamb1 | Linux (SUSE 10.1) / x86_64 | OK | OK | |
| wilson2 | Linux (openSUSE 10.3) / x86_64 | OK | OK | |
| wellington | Linux (openSUSE 10.3) / i686 | OK | OK | |
| liverpool | Windows Server 2003 R2 (32-bit) / x64 | OK | OK | OK |
| lemming | Windows Server 2003 (32-bit) / x64 | OK | OK | OK |
cellHTS2 2.3.11 Ligia Bras
| Last Changed Rev: 29123 / Revision: 29143 | | Last Changed Date: 2007-12-10 08:30:08 -0800 |
| lamb1 | Linux (SUSE 10.1) / x86_64 | OK | OK | |
| wilson2 | Linux (openSUSE 10.3) / x86_64 | OK | OK | |
| wellington | Linux (openSUSE 10.3) / i686 | OK | OK | |
| liverpool | Windows Server 2003 R2 (32-bit) / x64 | OK | OK | OK |
| lemming | Windows Server 2003 (32-bit) / x64 | OK | OK | OK |
CGHcall 1.1.9 Sjoerd Vosse
| Last Changed Rev: 29011 / Revision: 29143 | | Last Changed Date: 2007-12-04 03:09:56 -0800 |
| lamb1 | Linux (SUSE 10.1) / x86_64 | OK | OK | |
| wilson2 | Linux (openSUSE 10.3) / x86_64 | OK | OK | |
| wellington | Linux (openSUSE 10.3) / i686 | OK | OK | |
| liverpool | Windows Server 2003 R2 (32-bit) / x64 | OK | OK | OK |
| lemming | Windows Server 2003 (32-bit) / x64 | OK | OK | OK |
cghMCR 1.9.0 J. Zhang
| Last Changed Rev: 27716 / Revision: 29143 | | Last Changed Date: 2007-10-02 18:16:39 -0700 |
| lamb1 | Linux (SUSE 10.1) / x86_64 | OK | OK | |
| wilson2 | Linux (openSUSE 10.3) / x86_64 | OK | OK | |
| wellington | Linux (openSUSE 10.3) / i686 | OK | OK | |
| liverpool | Windows Server 2003 R2 (32-bit) / x64 | OK | OK | OK |
| lemming | Windows Server 2003 (32-bit) / x64 | OK | OK | OK |
clusterStab 1.11.0 James W. MacDonald
| Last Changed Rev: 27716 / Revision: 29143 | | Last Changed Date: 2007-10-02 18:16:39 -0700 |
| lamb1 | Linux (SUSE 10.1) / x86_64 | OK | OK | |
| wilson2 | Linux (openSUSE 10.3) / x86_64 | OK | OK | |
| wellington | Linux (openSUSE 10.3) / i686 | OK | OK | |
| liverpool | Windows Server 2003 R2 (32-bit) / x64 | OK | OK | OK |
| lemming | Windows Server 2003 (32-bit) / x64 | OK | OK | OK |
CoCiteStats 1.11.0 R. Gentleman
| Last Changed Rev: 27716 / Revision: 29143 | | Last Changed Date: 2007-10-02 18:16:39 -0700 |
| lamb1 | Linux (SUSE 10.1) / x86_64 | OK | OK | |
| wilson2 | Linux (openSUSE 10.3) / x86_64 | OK | OK | |
| wellington | Linux (openSUSE 10.3) / i686 | OK | OK | |
| liverpool | Windows Server 2003 R2 (32-bit) / x64 | OK | OK | OK |
| lemming | Windows Server 2003 (32-bit) / x64 | OK | OK | OK |
codelink 1.7.1 Diego Diez
| Last Changed Rev: 27861 / Revision: 29143 | | Last Changed Date: 2007-10-08 23:24:41 -0700 |
| lamb1 | Linux (SUSE 10.1) / x86_64 | OK | WARNINGS | |
| wilson2 | Linux (openSUSE 10.3) / x86_64 | OK | WARNINGS | |
| wellington | Linux (openSUSE 10.3) / i686 | OK | WARNINGS | |
| liverpool | Windows Server 2003 R2 (32-bit) / x64 | OK | WARNINGS | OK |
| lemming | Windows Server 2003 (32-bit) / x64 | OK | WARNINGS | OK |
convert 1.15.0 Yee Hwa (Jean) Yang
| Last Changed Rev: 27716 / Revision: 29143 | | Last Changed Date: 2007-10-02 18:16:39 -0700 |
| lamb1 | Linux (SUSE 10.1) / x86_64 | OK | OK | |
| wilson2 | Linux (openSUSE 10.3) / x86_64 | OK | OK | |
| wellington | Linux (openSUSE 10.3) / i686 | OK | OK | |
| liverpool | Windows Server 2003 R2 (32-bit) / x64 | OK | OK | OK |
| lemming | Windows Server 2003 (32-bit) / x64 | OK | OK | OK |
copa 1.7.0 James W. MacDonald
| Last Changed Rev: 28083 / Revision: 29143 | | Last Changed Date: 2007-10-19 13:14:15 -0700 |
| lamb1 | Linux (SUSE 10.1) / x86_64 | OK | OK | |
| wilson2 | Linux (openSUSE 10.3) / x86_64 | OK | OK | |
| wellington | Linux (openSUSE 10.3) / i686 | OK | OK | |
| liverpool | Windows Server 2003 R2 (32-bit) / x64 | OK | OK | OK |
| lemming | Windows Server 2003 (32-bit) / x64 | OK | OK | OK |
CORREP 1.5.0 Dongxiao Zhu
| Last Changed Rev: 27716 / Revision: 29143 | | Last Changed Date: 2007-10-02 18:16:39 -0700 |
| lamb1 | Linux (SUSE 10.1) / x86_64 | OK | OK | |
| wilson2 | Linux (openSUSE 10.3) / x86_64 | OK | OK | |
| wellington | Linux (openSUSE 10.3) / i686 | OK | OK | |
| liverpool | Windows Server 2003 R2 (32-bit) / x64 | OK | OK | OK |
| lemming | Windows Server 2003 (32-bit) / x64 | OK | OK | OK |
cosmo 1.5.0 Oliver Bembom
| Last Changed Rev: 28471 / Revision: 29143 | | Last Changed Date: 2007-11-05 11:15:13 -0800 |
| lamb1 | Linux (SUSE 10.1) / x86_64 | OK | OK | |
| wilson2 | Linux (openSUSE 10.3) / x86_64 | OK | OK | |
| wellington | Linux (openSUSE 10.3) / i686 | OK | OK | |
| liverpool | Windows Server 2003 R2 (32-bit) / x64 | OK | OK | OK |
| lemming | Windows Server 2003 (32-bit) / x64 | OK | OK | OK |
cosmoGUI 1.5.0 Oliver Bembom
| Last Changed Rev: 28472 / Revision: 29143 | | Last Changed Date: 2007-11-05 11:16:37 -0800 |
| lamb1 | Linux (SUSE 10.1) / x86_64 | OK | OK | |
| wilson2 | Linux (openSUSE 10.3) / x86_64 | OK | OK | |
| wellington | Linux (openSUSE 10.3) / i686 | OK | OK | |
| liverpool | Windows Server 2003 R2 (32-bit) / x64 | OK | OK | OK |
| lemming | Windows Server 2003 (32-bit) / x64 | OK | OK | OK |
ctc 1.13.0 Antoine Lucas
| Last Changed Rev: 27716 / Revision: 29143 | | Last Changed Date: 2007-10-02 18:16:39 -0700 |
| lamb1 | Linux (SUSE 10.1) / x86_64 | OK | OK | |
| wilson2 | Linux (openSUSE 10.3) / x86_64 | OK | OK | |
| wellington | Linux (openSUSE 10.3) / i686 | OK | OK | |
| liverpool | Windows Server 2003 R2 (32-bit) / x64 | OK | OK | OK |
| lemming | Windows Server 2003 (32-bit) / x64 | OK | OK | OK |
|
| D A B C [D] E F G H I J K L M N O P Q R S T U V W X Y Z |
daMA 1.11.0 Jobst Landgrebe
| Last Changed Rev: 27716 / Revision: 29143 | | Last Changed Date: 2007-10-02 18:16:39 -0700 |
| lamb1 | Linux (SUSE 10.1) / x86_64 | OK | OK | |
| wilson2 | Linux (openSUSE 10.3) / x86_64 | OK | OK | |
| wellington | Linux (openSUSE 10.3) / i686 | OK | OK | |
| liverpool | Windows Server 2003 R2 (32-bit) / x64 | OK | OK | OK |
| lemming | Windows Server 2003 (32-bit) / x64 | OK | OK | OK |
DEDS 1.13.0 Yuanyuan Xiao
| Last Changed Rev: 28017 / Revision: 29143 | | Last Changed Date: 2007-10-16 10:37:13 -0700 |
| lamb1 | Linux (SUSE 10.1) / x86_64 | OK | OK | |
| wilson2 | Linux (openSUSE 10.3) / x86_64 | OK | OK | |
| wellington | Linux (openSUSE 10.3) / i686 | OK | OK | |
| liverpool | Windows Server 2003 R2 (32-bit) / x64 | OK | OK | OK |
| lemming | Windows Server 2003 (32-bit) / x64 | OK | OK | OK |
diffGeneAnalysis 1.21.0 Choudary Jagarlamudi
| Last Changed Rev: 27716 / Revision: 29143 | | Last Changed Date: 2007-10-02 18:16:39 -0700 |
| lamb1 | Linux (SUSE 10.1) / x86_64 | OK | OK | |
| wilson2 | Linux (openSUSE 10.3) / x86_64 | OK | OK | |
| wellington | Linux (openSUSE 10.3) / i686 | OK | OK | |
| liverpool | Windows Server 2003 R2 (32-bit) / x64 | OK | OK | OK |
| lemming | Windows Server 2003 (32-bit) / x64 | OK | OK | OK |
DNAcopy 1.13.2 Venkatraman E. Seshan
| Last Changed Rev: 28980 / Revision: 29143 | | Last Changed Date: 2007-11-30 07:57:12 -0800 |
| lamb1 | Linux (SUSE 10.1) / x86_64 | OK | OK | |
| wilson2 | Linux (openSUSE 10.3) / x86_64 | OK | OK | |
| wellington | Linux (openSUSE 10.3) / i686 | OK | OK | |
| liverpool | Windows Server 2003 R2 (32-bit) / x64 | OK | OK | OK |
| lemming | Windows Server 2003 (32-bit) / x64 | OK | OK | OK |
DynDoc 1.17.0 Biocore Team c/o BioC user list
| Last Changed Rev: 28000 / Revision: 29143 | | Last Changed Date: 2007-10-15 11:28:10 -0700 |
| lamb1 | Linux (SUSE 10.1) / x86_64 | OK | OK | |
| wilson2 | Linux (openSUSE 10.3) / x86_64 | OK | OK | |
| wellington | Linux (openSUSE 10.3) / i686 | OK | OK | |
| liverpool | Windows Server 2003 R2 (32-bit) / x64 | OK | OK | OK |
| lemming | Windows Server 2003 (32-bit) / x64 | OK | OK | OK |
|
| E A B C D [E] F G H I J K L M N O P Q R S T U V W X Y Z |
EBarrays 2.3.0 Ming Yuan
| Last Changed Rev: 28098 / Revision: 29143 | | Last Changed Date: 2007-10-21 09:03:02 -0700 |
| lamb1 | Linux (SUSE 10.1) / x86_64 | OK | OK | |
| wilson2 | Linux (openSUSE 10.3) / x86_64 | OK | OK | |
| wellington | Linux (openSUSE 10.3) / i686 | OK | OK | |
| liverpool | Windows Server 2003 R2 (32-bit) / x64 | OK | OK | OK |
| lemming | Windows Server 2003 (32-bit) / x64 | OK | OK | OK |
EBImage 2.3.11 Oleg Sklyar
| Last Changed Rev: 28470 / Revision: 29143 | | Last Changed Date: 2007-11-05 09:40:50 -0800 |
| lamb1 | Linux (SUSE 10.1) / x86_64 | OK | OK | |
| wilson2 | Linux (openSUSE 10.3) / x86_64 | OK | OK | |
| wellington | Linux (openSUSE 10.3) / i686 | OK | OK | |
| liverpool | Windows Server 2003 R2 (32-bit) / x64 | OK | WARNINGS | OK |
| lemming | Windows Server 2003 (32-bit) / x64 | N O T S U P P O R T E D |
ecolitk 1.11.2 Laurent
| Last Changed Rev: 27983 / Revision: 29143 | | Last Changed Date: 2007-10-13 06:47:39 -0700 |
| lamb1 | Linux (SUSE 10.1) / x86_64 | OK | OK | |
| wilson2 | Linux (openSUSE 10.3) / x86_64 | OK | OK | |
| wellington | Linux (openSUSE 10.3) / i686 | OK | OK | |
| liverpool | Windows Server 2003 R2 (32-bit) / x64 | OK | OK | OK |
| lemming | Windows Server 2003 (32-bit) / x64 | OK | OK | OK |
edd 1.17.0 Vince Carey
| Last Changed Rev: 27716 / Revision: 29143 | | Last Changed Date: 2007-10-02 18:16:39 -0700 |
| lamb1 | Linux (SUSE 10.1) / x86_64 | OK | OK | |
| wilson2 | Linux (openSUSE 10.3) / x86_64 | OK | OK | |
| wellington | Linux (openSUSE 10.3) / i686 | OK | OK | |
| liverpool | Windows Server 2003 R2 (32-bit) / x64 | OK | OK | OK |
| lemming | Windows Server 2003 (32-bit) / x64 | OK | OK | OK |
exonmap 1.5.0 Michal Okoniewski
| Last Changed Rev: 28830 / Revision: 29143 | | Last Changed Date: 2007-11-19 08:32:00 -0800 |
| lamb1 | Linux (SUSE 10.1) / x86_64 | OK | WARNINGS | |
| wilson2 | Linux (openSUSE 10.3) / x86_64 | OK | WARNINGS | |
| wellington | Linux (openSUSE 10.3) / i686 | OK | WARNINGS | |
| liverpool | Windows Server 2003 R2 (32-bit) / x64 | OK | WARNINGS | OK |
| lemming | Windows Server 2003 (32-bit) / x64 | OK | WARNINGS | OK |
explorase 1.3.0 Michael Lawrence
| Last Changed Rev: 28198 / Revision: 29143 | | Last Changed Date: 2007-10-24 12:05:01 -0700 |
| lamb1 | Linux (SUSE 10.1) / x86_64 | OK | OK | |
| wilson2 | Linux (openSUSE 10.3) / x86_64 | OK | OK | |
| wellington | Linux (openSUSE 10.3) / i686 | OK | OK | |
| liverpool | Windows Server 2003 R2 (32-bit) / x64 | OK | OK | OK |
| lemming | Windows Server 2003 (32-bit) / x64 | OK | OK | OK |
externalVector 1.5.2 Biocore Team c/o BioC user list
| Last Changed Rev: 26527 / Revision: 29143 | | Last Changed Date: 2007-08-20 09:33:20 -0700 |
| lamb1 | Linux (SUSE 10.1) / x86_64 | OK | ERROR | |
| wilson2 | Linux (openSUSE 10.3) / x86_64 | OK | ERROR | |
| wellington | Linux (openSUSE 10.3) / i686 | OK | ERROR | |
| liverpool | Windows Server 2003 R2 (32-bit) / x64 | OK | ERROR | ERROR |
| lemming | Windows Server 2003 (32-bit) / x64 | OK | ERROR | ERROR |
|
| F A B C D E [F] G H I J K L M N O P Q R S T U V W X Y Z |
factDesign 1.13.0 Denise Scholtens
| Last Changed Rev: 27716 / Revision: 29143 | | Last Changed Date: 2007-10-02 18:16:39 -0700 |
| lamb1 | Linux (SUSE 10.1) / x86_64 | OK | ERROR | |
| wilson2 | Linux (openSUSE 10.3) / x86_64 | OK | ERROR | |
| wellington | Linux (openSUSE 10.3) / i686 | OK | ERROR | |
| liverpool | Windows Server 2003 R2 (32-bit) / x64 | OK | ERROR | OK |
| lemming | Windows Server 2003 (32-bit) / x64 | OK | ERROR | OK |
fbat 1.3.0 Weiliang Qiu
| Last Changed Rev: 27716 / Revision: 29143 | | Last Changed Date: 2007-10-02 18:16:39 -0700 |
| lamb1 | Linux (SUSE 10.1) / x86_64 | OK | OK | |
| wilson2 | Linux (openSUSE 10.3) / x86_64 | OK | OK | |
| wellington | Linux (openSUSE 10.3) / i686 | OK | OK | |
| liverpool | Windows Server 2003 R2 (32-bit) / x64 | OK | OK | OK |
| lemming | Windows Server 2003 (32-bit) / x64 | OK | OK | OK |
fdrame 1.11.0 Effi Kenigsberg
| Last Changed Rev: 27716 / Revision: 29143 | | Last Changed Date: 2007-10-02 18:16:39 -0700 |
| lamb1 | Linux (SUSE 10.1) / x86_64 | OK | WARNINGS | |
| wilson2 | Linux (openSUSE 10.3) / x86_64 | OK | WARNINGS | |
| wellington | Linux (openSUSE 10.3) / i686 | OK | WARNINGS | |
| liverpool | Windows Server 2003 R2 (32-bit) / x64 | OK | WARNINGS | OK |
| lemming | Windows Server 2003 (32-bit) / x64 | OK | WARNINGS | OK |
flowCore 1.5.7 Nolwenn Le Meur
| Last Changed Rev: 29112 / Revision: 29143 | | Last Changed Date: 2007-12-08 23:02:01 -0800 |
| lamb1 | Linux (SUSE 10.1) / x86_64 | OK | WARNINGS | |
| wilson2 | Linux (openSUSE 10.3) / x86_64 | OK | WARNINGS | |
| wellington | Linux (openSUSE 10.3) / i686 | OK | WARNINGS | |
| liverpool | Windows Server 2003 R2 (32-bit) / x64 | OK | WARNINGS | OK |
| lemming | Windows Server 2003 (32-bit) / x64 | OK | WARNINGS | OK |
flowQ 0.2.4 N. Le Meur
| Last Changed Rev: 26990 / Revision: 29143 | | Last Changed Date: 2007-09-10 07:12:43 -0700 |
| lamb1 | Linux (SUSE 10.1) / x86_64 | OK | OK | |
| wilson2 | Linux (openSUSE 10.3) / x86_64 | OK | OK | |
| wellington | Linux (openSUSE 10.3) / i686 | OK | OK | |
| liverpool | Windows Server 2003 R2 (32-bit) / x64 | OK | OK | OK |
| lemming | Windows Server 2003 (32-bit) / x64 | OK | OK | OK |
flowUtils 0.5.0 Florian Hahne
| Last Changed Rev: 28842 / Revision: 29143 | | Last Changed Date: 2007-11-19 13:03:44 -0800 |
| lamb1 | Linux (SUSE 10.1) / x86_64 | OK | WARNINGS | |
| wilson2 | Linux (openSUSE 10.3) / x86_64 | OK | WARNINGS | |
| wellington | Linux (openSUSE 10.3) / i686 | OK | WARNINGS | |
| liverpool | Windows Server 2003 R2 (32-bit) / x64 | OK | WARNINGS | OK |
| lemming | Windows Server 2003 (32-bit) / x64 | OK | WARNINGS | OK |
flowViz 1.3.2 Florian Hahne
| Last Changed Rev: 29141 / Revision: 29143 | | Last Changed Date: 2007-12-10 20:29:49 -0800 |
| lamb1 | Linux (SUSE 10.1) / x86_64 | OK | OK | |
| wilson2 | Linux (openSUSE 10.3) / x86_64 | OK | OK | |
| wellington | Linux (openSUSE 10.3) / i686 | OK | OK | |
| liverpool | Windows Server 2003 R2 (32-bit) / x64 | OK | OK | OK |
| lemming | Windows Server 2003 (32-bit) / x64 | OK | OK | OK |
|
| G A B C D E F [G] H I J K L M N O P Q R S T U V W X Y Z |
gaggle 1.7.0 Paul Shannon
| Last Changed Rev: 27716 / Revision: 29143 | | Last Changed Date: 2007-10-02 18:16:39 -0700 |
| lamb1 | Linux (SUSE 10.1) / x86_64 | OK | OK | |
| wilson2 | Linux (openSUSE 10.3) / x86_64 | OK | OK | |
| wellington | Linux (openSUSE 10.3) / i686 | OK | OK | |
| liverpool | Windows Server 2003 R2 (32-bit) / x64 | OK | OK | OK |
| lemming | Windows Server 2003 (32-bit) / x64 | OK | OK | OK |
gcrma 2.11.1 Z. Wu
| Last Changed Rev: 28347 / Revision: 29143 | | Last Changed Date: 2007-10-31 09:11:12 -0700 |
| lamb1 | Linux (SUSE 10.1) / x86_64 | OK | WARNINGS | |
| wilson2 | Linux (openSUSE 10.3) / x86_64 | OK | WARNINGS | |
| wellington | Linux (openSUSE 10.3) / i686 | OK | WARNINGS | |
| liverpool | Windows Server 2003 R2 (32-bit) / x64 | OK | WARNINGS | OK |
| lemming | Windows Server 2003 (32-bit) / x64 | OK | WARNINGS | OK |
genArise 1.15.0 IFC Development Team
| Last Changed Rev: 27716 / Revision: 29143 | | Last Changed Date: 2007-10-02 18:16:39 -0700 |
| lamb1 | Linux (SUSE 10.1) / x86_64 | OK | OK | |
| wilson2 | Linux (openSUSE 10.3) / x86_64 | OK | OK | |
| wellington | Linux (openSUSE 10.3) / i686 | OK | OK | |
| liverpool | Windows Server 2003 R2 (32-bit) / x64 | OK | OK | OK |
| lemming | Windows Server 2003 (32-bit) / x64 | OK | OK | OK |
genefilter 1.17.7 Biocore Team c/o BioC user list
| Last Changed Rev: 29117 / Revision: 29143 | | Last Changed Date: 2007-12-09 16:53:07 -0800 |
| lamb1 | Linux (SUSE 10.1) / x86_64 | OK | OK | |
| wilson2 | Linux (openSUSE 10.3) / x86_64 | OK | OK | |
| wellington | Linux (openSUSE 10.3) / i686 | OK | OK | |
| liverpool | Windows Server 2003 R2 (32-bit) / x64 | OK | WARNINGS | OK |
| lemming | Windows Server 2003 (32-bit) / x64 | OK | WARNINGS | OK |
GeneMeta 1.11.0 Biocore Team c/o BioC user list
| Last Changed Rev: 27716 / Revision: 29143 | | Last Changed Date: 2007-10-02 18:16:39 -0700 |
| lamb1 | Linux (SUSE 10.1) / x86_64 | OK | OK | |
| wilson2 | Linux (openSUSE 10.3) / x86_64 | OK | OK | |
| wellington | Linux (openSUSE 10.3) / i686 | OK | OK | |
| liverpool | Windows Server 2003 R2 (32-bit) / x64 | OK | OK | OK |
| lemming | Windows Server 2003 (32-bit) / x64 | OK | OK | OK |
geneplotter 1.17.3 Biocore Team c/o BioC user list
| Last Changed Rev: 28926 / Revision: 29143 | | Last Changed Date: 2007-11-27 05:48:25 -0800 |
| lamb1 | Linux (SUSE 10.1) / x86_64 | OK | OK | |
| wilson2 | Linux (openSUSE 10.3) / x86_64 | OK | OK | |
| wellington | Linux (openSUSE 10.3) / i686 | OK | OK | |
| liverpool | Windows Server 2003 R2 (32-bit) / x64 | OK | ERROR | OK |
| lemming | Windows Server 2003 (32-bit) / x64 | OK | OK | OK |
GeneR 2.9.0 Y. d'Aubenton-Carafa
| Last Changed Rev: 28107 / Revision: 29143 | | Last Changed Date: 2007-10-21 09:09:38 -0700 |
| lamb1 | Linux (SUSE 10.1) / x86_64 | ERROR | skipped | |
| wilson2 | Linux (openSUSE 10.3) / x86_64 | ERROR | skipped | |
| wellington | Linux (openSUSE 10.3) / i686 | ERROR | skipped | |
| liverpool | Windows Server 2003 R2 (32-bit) / x64 | ERROR | skipped | skipped |
| lemming | Windows Server 2003 (32-bit) / x64 | ERROR | skipped | skipped |
geneRecommender 1.11.0 Greg Hather
| Last Changed Rev: 27716 / Revision: 29143 | | Last Changed Date: 2007-10-02 18:16:39 -0700 |
| lamb1 | Linux (SUSE 10.1) / x86_64 | OK | OK | |
| wilson2 | Linux (openSUSE 10.3) / x86_64 | OK | OK | |
| wellington | Linux (openSUSE 10.3) / i686 | OK | OK | |
| liverpool | Windows Server 2003 R2 (32-bit) / x64 | OK | OK | OK |
| lemming | Windows Server 2003 (32-bit) / x64 | OK | OK | OK |
GeneRfold 0.1.3 Antoine Lucas
| Last Changed Rev: 28108 / Revision: 29143 | | Last Changed Date: 2007-10-21 09:10:13 -0700 |
| lamb1 | Linux (SUSE 10.1) / x86_64 | ERROR | skipped | |
| wilson2 | Linux (openSUSE 10.3) / x86_64 | ERROR | skipped | |
| wellington | Linux (openSUSE 10.3) / i686 | ERROR | skipped | |
| liverpool | Windows Server 2003 R2 (32-bit) / x64 | ERROR | skipped | skipped |
| lemming | Windows Server 2003 (32-bit) / x64 | ERROR | skipped | skipped |
GeneSpring 2.13.0 Thon de Boer
| Last Changed Rev: 27716 / Revision: 29143 | | Last Changed Date: 2007-10-02 18:16:39 -0700 |
| lamb1 | Linux (SUSE 10.1) / x86_64 | OK | OK | |
| wilson2 | Linux (openSUSE 10.3) / x86_64 | OK | OK | |
| wellington | Linux (openSUSE 10.3) / i686 | OK | OK | |
| liverpool | Windows Server 2003 R2 (32-bit) / x64 | OK | OK | OK |
| lemming | Windows Server 2003 (32-bit) / x64 | OK | OK | OK |
GeneticsBase 1.3.1 Gregory Warnes
| Last Changed Rev: 27963 / Revision: 29143 | | Last Changed Date: 2007-10-12 11:47:40 -0700 |
| lamb1 | Linux (SUSE 10.1) / x86_64 | OK | OK | |
| wilson2 | Linux (openSUSE 10.3) / x86_64 | OK | OK | |
| wellington | Linux (openSUSE 10.3) / i686 | OK | OK | |
| liverpool | Windows Server 2003 R2 (32-bit) / x64 | OK | OK | OK |
| lemming | Windows Server 2003 (32-bit) / x64 | OK | OK | OK |
GeneticsDesign 1.5.0 Weiliang Qiu
| Last Changed Rev: 28997 / Revision: 29143 | | Last Changed Date: 2007-12-01 19:55:15 -0800 |
| lamb1 | Linux (SUSE 10.1) / x86_64 | OK | OK | |
| wilson2 | Linux (openSUSE 10.3) / x86_64 | OK | OK | |
| wellington | Linux (openSUSE 10.3) / i686 | OK | OK | |
| liverpool | Windows Server 2003 R2 (32-bit) / x64 | OK | OK | OK |
| lemming | Windows Server 2003 (32-bit) / x64 | OK | OK | OK |
GeneticsPed 1.1.0 Gregor Gorjanc
| Last Changed Rev: 28616 / Revision: 29143 | | Last Changed Date: 2007-11-09 11:11:24 -0800 |
| lamb1 | Linux (SUSE 10.1) / x86_64 | OK | ERROR | |
| wilson2 | Linux (openSUSE 10.3) / x86_64 | OK | ERROR | |
| wellington | Linux (openSUSE 10.3) / i686 | OK | ERROR | |
| liverpool | Windows Server 2003 R2 (32-bit) / x64 | OK | ERROR | OK |
| lemming | Windows Server 2003 (32-bit) / x64 | OK | ERROR | OK |
GeneTraffic 1.11.0 Daniel Iordan
| Last Changed Rev: 27716 / Revision: 29143 | | Last Changed Date: 2007-10-02 18:16:39 -0700 |
| lamb1 | Linux (SUSE 10.1) / x86_64 | OK | OK | |
| wilson2 | Linux (openSUSE 10.3) / x86_64 | OK | OK | |
| wellington | Linux (openSUSE 10.3) / i686 | OK | OK | |
| liverpool | Windows Server 2003 R2 (32-bit) / x64 | OK | OK | OK |
| lemming | Windows Server 2003 (32-bit) / x64 | OK | OK | OK |
GEOquery 2.3.0 Sean Davis
| Last Changed Rev: 28557 / Revision: 29143 | | Last Changed Date: 2007-11-07 23:00:31 -0800 |
| lamb1 | Linux (SUSE 10.1) / x86_64 | OK | OK | |
| wilson2 | Linux (openSUSE 10.3) / x86_64 | OK | OK | |
| wellington | Linux (openSUSE 10.3) / i686 | OK | OK | |
| liverpool | Windows Server 2003 R2 (32-bit) / x64 | OK | OK | OK |
| lemming | Windows Server 2003 (32-bit) / x64 | OK | ERROR | OK |
GGtools 1.7.9 Vince Carey
| Last Changed Rev: 29142 / Revision: 29143 | | Last Changed Date: 2007-12-10 20:36:13 -0800 |
| lamb1 | Linux (SUSE 10.1) / x86_64 | OK | OK | |
| wilson2 | Linux (openSUSE 10.3) / x86_64 | OK | OK | |
| wellington | Linux (openSUSE 10.3) / i686 | OK | OK | |
| liverpool | Windows Server 2003 R2 (32-bit) / x64 | OK | OK | OK |
| lemming | Windows Server 2003 (32-bit) / x64 | OK | OK | OK |
GLAD 1.13.0 Philippe Hupe
| Last Changed Rev: 29013 / Revision: 29143 | | Last Changed Date: 2007-12-04 06:21:00 -0800 |
| lamb1 | Linux (SUSE 10.1) / x86_64 | OK | WARNINGS | |
| wilson2 | Linux (openSUSE 10.3) / x86_64 | OK | WARNINGS | |
| wellington | Linux (openSUSE 10.3) / i686 | OK | WARNINGS | |
| liverpool | Windows Server 2003 R2 (32-bit) / x64 | OK | WARNINGS | OK |
| lemming | Windows Server 2003 (32-bit) / x64 | OK | WARNINGS | OK |
GlobalAncova 3.5.0 R. Meister
| Last Changed Rev: 28575 / Revision: 29143 | | Last Changed Date: 2007-11-08 06:29:02 -0800 |
| lamb1 | Linux (SUSE 10.1) / x86_64 | OK | OK | |
| wilson2 | Linux (openSUSE 10.3) / x86_64 | OK | OK | |
| wellington | Linux (openSUSE 10.3) / i686 | OK | OK | |
| liverpool | Windows Server 2003 R2 (32-bit) / x64 | OK | OK | OK |
| lemming | Windows Server 2003 (32-bit) / x64 | OK | OK | OK |
globaltest 4.9.0 Jelle Goeman
| Last Changed Rev: 27716 / Revision: 29143 | | Last Changed Date: 2007-10-02 18:16:39 -0700 |
| lamb1 | Linux (SUSE 10.1) / x86_64 | OK | OK | |
| wilson2 | Linux (openSUSE 10.3) / x86_64 | OK | OK | |
| wellington | Linux (openSUSE 10.3) / i686 | OK | OK | |
| liverpool | Windows Server 2003 R2 (32-bit) / x64 | ERROR | skipped | skipped |
| lemming | Windows Server 2003 (32-bit) / x64 | ERROR | skipped | skipped |
GOstats 2.5.0 Robert Gentleman
| Last Changed Rev: 28111 / Revision: 29143 | | Last Changed Date: 2007-10-21 09:23:03 -0700 |
| lamb1 | Linux (SUSE 10.1) / x86_64 | OK | OK | |
| wilson2 | Linux (openSUSE 10.3) / x86_64 | OK | OK | |
| wellington | Linux (openSUSE 10.3) / i686 | OK | OK | |
| liverpool | Windows Server 2003 R2 (32-bit) / x64 | ERROR | skipped | skipped |
| lemming | Windows Server 2003 (32-bit) / x64 | ERROR | skipped | skipped |
goTools 1.11.0 Agnes Paquet
| Last Changed Rev: 27716 / Revision: 29143 | | Last Changed Date: 2007-10-02 18:16:39 -0700 |
| lamb1 | Linux (SUSE 10.1) / x86_64 | OK | OK | |
| wilson2 | Linux (openSUSE 10.3) / x86_64 | OK | OK | |
| wellington | Linux (openSUSE 10.3) / i686 | OK | OK | |
| liverpool | Windows Server 2003 R2 (32-bit) / x64 | OK | OK | OK |
| lemming | Windows Server 2003 (32-bit) / x64 | OK | OK | OK |
gpls 1.11.0 Biocore Team c/o BioC user list
| Last Changed Rev: 27716 / Revision: 29143 | | Last Changed Date: 2007-10-02 18:16:39 -0700 |
| lamb1 | Linux (SUSE 10.1) / x86_64 | OK | OK | |
| wilson2 | Linux (openSUSE 10.3) / x86_64 | OK | OK | |
| wellington | Linux (openSUSE 10.3) / i686 | OK | OK | |
| liverpool | Windows Server 2003 R2 (32-bit) / x64 | OK | OK | OK |
| lemming | Windows Server 2003 (32-bit) / x64 | OK | OK | OK |
graph 1.17.14 Robert Gentleman
| Last Changed Rev: 28662 / Revision: 29143 | | Last Changed Date: 2007-11-12 22:49:14 -0800 |
| lamb1 | Linux (SUSE 10.1) / x86_64 | OK | OK | |
| wilson2 | Linux (openSUSE 10.3) / x86_64 | OK | OK | |
| wellington | Linux (openSUSE 10.3) / i686 | OK | OK | |
| liverpool | Windows Server 2003 R2 (32-bit) / x64 | OK | OK | OK |
| lemming | Windows Server 2003 (32-bit) / x64 | OK | OK | OK |
GraphAT 1.11.0 Thomas LaFramboise
| Last Changed Rev: 28214 / Revision: 29143 | | Last Changed Date: 2007-10-24 23:38:31 -0700 |
| lamb1 | Linux (SUSE 10.1) / x86_64 | OK | ERROR | |
| wilson2 | Linux (openSUSE 10.3) / x86_64 | OK | ERROR | |
| wellington | Linux (openSUSE 10.3) / i686 | OK | ERROR | |
| liverpool | Windows Server 2003 R2 (32-bit) / x64 | OK | ERROR | OK |
| lemming | Windows Server 2003 (32-bit) / x64 | OK | ERROR | OK |
GSEABase 1.1.14 Biocore Team c/o BioC user list
| Last Changed Rev: 29050 / Revision: 29143 | | Last Changed Date: 2007-12-05 13:57:42 -0800 |
| lamb1 | Linux (SUSE 10.1) / x86_64 | OK | WARNINGS | |
| wilson2 | Linux (openSUSE 10.3) / x86_64 | OK | WARNINGS | |
| wellington | Linux (openSUSE 10.3) / i686 | OK | WARNINGS | |
| liverpool | Windows Server 2003 R2 (32-bit) / x64 | OK | ERROR | OK |
| lemming | Windows Server 2003 (32-bit) / x64 | OK | WARNINGS | OK |
|
| H A B C D E F G [H] I J K L M N O P Q R S T U V W X Y Z |
Harshlight 1.9.0 Maurizio Pellegrino
| Last Changed Rev: 29019 / Revision: 29143 | | Last Changed Date: 2007-12-04 13:10:19 -0800 |
| lamb1 | Linux (SUSE 10.1) / x86_64 | OK | OK | |
| wilson2 | Linux (openSUSE 10.3) / x86_64 | OK | OK | |
| wellington | Linux (openSUSE 10.3) / i686 | OK | OK | |
| liverpool | Windows Server 2003 R2 (32-bit) / x64 | OK | OK | OK |
| lemming | Windows Server 2003 (32-bit) / x64 | OK | OK | OK |
Heatplus 1.9.0 Alexander Ploner
| Last Changed Rev: 27716 / Revision: 29143 | | Last Changed Date: 2007-10-02 18:16:39 -0700 |
| lamb1 | Linux (SUSE 10.1) / x86_64 | OK | OK | |
| wilson2 | Linux (openSUSE 10.3) / x86_64 | OK | OK | |
| wellington | Linux (openSUSE 10.3) / i686 | OK | OK | |
| liverpool | Windows Server 2003 R2 (32-bit) / x64 | OK | OK | OK |
| lemming | Windows Server 2003 (32-bit) / x64 | OK | OK | OK |
HEM 1.11.0 HyungJun Cho
| Last Changed Rev: 27716 / Revision: 29143 | | Last Changed Date: 2007-10-02 18:16:39 -0700 |
| lamb1 | Linux (SUSE 10.1) / x86_64 | OK | OK | |
| wilson2 | Linux (openSUSE 10.3) / x86_64 | OK | OK | |
| wellington | Linux (openSUSE 10.3) / i686 | OK | OK | |
| liverpool | Windows Server 2003 R2 (32-bit) / x64 | OK | OK | OK |
| lemming | Windows Server 2003 (32-bit) / x64 | OK | OK | OK |
hexbin 1.13.0 Nicholas Lewin-Koh
| Last Changed Rev: 27716 / Revision: 29143 | | Last Changed Date: 2007-10-02 18:16:39 -0700 |
| lamb1 | Linux (SUSE 10.1) / x86_64 | ERROR | skipped | |
| wilson2 | Linux (openSUSE 10.3) / x86_64 | ERROR | skipped | |
| wellington | Linux (openSUSE 10.3) / i686 | ERROR | skipped | |
| liverpool | Windows Server 2003 R2 (32-bit) / x64 | ERROR | skipped | skipped |
| lemming | Windows Server 2003 (32-bit) / x64 | ERROR | skipped | skipped |
hopach 1.13.0 Katherine S. Pollard
| Last Changed Rev: 27716 / Revision: 29143 | | Last Changed Date: 2007-10-02 18:16:39 -0700 |
| lamb1 | Linux (SUSE 10.1) / x86_64 | OK | OK | |
| wilson2 | Linux (openSUSE 10.3) / x86_64 | OK | OK | |
| wellington | Linux (openSUSE 10.3) / i686 | OK | OK | |
| liverpool | Windows Server 2003 R2 (32-bit) / x64 | OK | OK | OK |
| lemming | Windows Server 2003 (32-bit) / x64 | OK | OK | OK |
hypergraph 1.11.0 Robert Gentleman
| Last Changed Rev: 27716 / Revision: 29143 | | Last Changed Date: 2007-10-02 18:16:39 -0700 |
| lamb1 | Linux (SUSE 10.1) / x86_64 | OK | OK | |
| wilson2 | Linux (openSUSE 10.3) / x86_64 | OK | OK | |
| wellington | Linux (openSUSE 10.3) / i686 | OK | OK | |
| liverpool | Windows Server 2003 R2 (32-bit) / x64 | OK | OK | OK |
| lemming | Windows Server 2003 (32-bit) / x64 | OK | OK | OK |
|
| I A B C D E F G H [I] J K L M N O P Q R S T U V W X Y Z |
Icens 1.11.1 Biocore Team c/o BioC user list
| Last Changed Rev: 28117 / Revision: 29143 | | Last Changed Date: 2007-10-21 14:44:11 -0700 |
| lamb1 | Linux (SUSE 10.1) / x86_64 | OK | OK | |
| wilson2 | Linux (openSUSE 10.3) / x86_64 | OK | OK | |
| wellington | Linux (openSUSE 10.3) / i686 | OK | OK | |
| liverpool | Windows Server 2003 R2 (32-bit) / x64 | OK | OK | OK |
| lemming | Windows Server 2003 (32-bit) / x64 | OK | OK | OK |
idiogram 1.13.0 Karl J. Dykema
| Last Changed Rev: 27716 / Revision: 29143 | | Last Changed Date: 2007-10-02 18:16:39 -0700 |
| lamb1 | Linux (SUSE 10.1) / x86_64 | OK | OK | |
| wilson2 | Linux (openSUSE 10.3) / x86_64 | OK | OK | |
| wellington | Linux (openSUSE 10.3) / i686 | OK | OK | |
| liverpool | Windows Server 2003 R2 (32-bit) / x64 | OK | OK | OK |
| lemming | Windows Server 2003 (32-bit) / x64 | OK | OK | OK |
impute 1.11.0 Balasubramanian Narasimhan
| Last Changed Rev: 27716 / Revision: 29143 | | Last Changed Date: 2007-10-02 18:16:39 -0700 |
| lamb1 | Linux (SUSE 10.1) / x86_64 | OK | OK | |
| wilson2 | Linux (openSUSE 10.3) / x86_64 | OK | OK | |
| wellington | Linux (openSUSE 10.3) / i686 | OK | OK | |
| liverpool | Windows Server 2003 R2 (32-bit) / x64 | OK | OK | OK |
| lemming | Windows Server 2003 (32-bit) / x64 | OK | OK | OK |
iSNetwork 1.9.0 Elizabeth Whalen
| Last Changed Rev: 28111 / Revision: 29143 | | Last Changed Date: 2007-10-21 09:23:03 -0700 |
| lamb1 | Linux (SUSE 10.1) / x86_64 | OK | WARNINGS | |
| wilson2 | Linux (openSUSE 10.3) / x86_64 | OK | OK | |
| wellington | Linux (openSUSE 10.3) / i686 | OK | OK | |
| liverpool | Windows Server 2003 R2 (32-bit) / x64 | N O T S U P P O R T E D |
| lemming | Windows Server 2003 (32-bit) / x64 | N O T S U P P O R T E D |
iSPlot 1.13.0 Elizabeth Whalen
| Last Changed Rev: 27716 / Revision: 29143 | | Last Changed Date: 2007-10-02 18:16:39 -0700 |
| lamb1 | Linux (SUSE 10.1) / x86_64 | OK | OK | |
| wilson2 | Linux (openSUSE 10.3) / x86_64 | OK | OK | |
| wellington | Linux (openSUSE 10.3) / i686 | OK | OK | |
| liverpool | Windows Server 2003 R2 (32-bit) / x64 | N O T S U P P O R T E D |
| lemming | Windows Server 2003 (32-bit) / x64 | N O T S U P P O R T E D |
|
| K A B C D E F G H I J [K] L M N O P Q R S T U V W X Y Z |
keggorth 1.1.0 VJ Carey
| Last Changed Rev: 27813 / Revision: 29143 | | Last Changed Date: 2007-10-05 18:31:10 -0700 |
| lamb1 | Linux (SUSE 10.1) / x86_64 | OK | OK | |
| wilson2 | Linux (openSUSE 10.3) / x86_64 | OK | OK | |
| wellington | Linux (openSUSE 10.3) / i686 | OK | OK | |
| liverpool | Windows Server 2003 R2 (32-bit) / x64 | OK | OK | OK |
| lemming | Windows Server 2003 (32-bit) / x64 | OK | OK | OK |
KEGGSOAP 1.13.0 Robert Gentleman
| Last Changed Rev: 27716 / Revision: 29143 | | Last Changed Date: 2007-10-02 18:16:39 -0700 |
| lamb1 | Linux (SUSE 10.1) / x86_64 | OK | ERROR | |
| wilson2 | Linux (openSUSE 10.3) / x86_64 | OK | ERROR | |
| wellington | Linux (openSUSE 10.3) / i686 | OK | ERROR | |
| liverpool | Windows Server 2003 R2 (32-bit) / x64 | OK | ERROR | OK |
| lemming | Windows Server 2003 (32-bit) / x64 | OK | ERROR | OK |
|
| L A B C D E F G H I J K [L] M N O P Q R S T U V W X Y Z |
lapmix 1.5.2 Yann Ruffieux
| Last Changed Rev: 27837 / Revision: 29143 | | Last Changed Date: 2007-10-08 06:25:10 -0700 |
| lamb1 | Linux (SUSE 10.1) / x86_64 | OK | OK | |
| wilson2 | Linux (openSUSE 10.3) / x86_64 | OK | OK | |
| wellington | Linux (openSUSE 10.3) / i686 | OK | OK | |
| liverpool | Windows Server 2003 R2 (32-bit) / x64 | OK | OK | OK |
| lemming | Windows Server 2003 (32-bit) / x64 | OK | OK | OK |
LBE 1.7.0 Cyril Dalmasso
| Last Changed Rev: 27716 / Revision: 29143 | | Last Changed Date: 2007-10-02 18:16:39 -0700 |
| lamb1 | Linux (SUSE 10.1) / x86_64 | OK | OK | |
| wilson2 | Linux (openSUSE 10.3) / x86_64 | OK | OK | |
| wellington | Linux (openSUSE 10.3) / i686 | OK | OK | |
| liverpool | Windows Server 2003 R2 (32-bit) / x64 | OK | OK | OK |
| lemming | Windows Server 2003 (32-bit) / x64 | OK | OK | OK |
limma 2.13.1 Gordon Smyth
| Last Changed Rev: 28272 / Revision: 29143 | | Last Changed Date: 2007-10-27 03:55:48 -0700 |
| lamb1 | Linux (SUSE 10.1) / x86_64 | OK | OK | |
| wilson2 | Linux (openSUSE 10.3) / x86_64 | OK | OK | |
| wellington | Linux (openSUSE 10.3) / i686 | OK | OK | |
| liverpool | Windows Server 2003 R2 (32-bit) / x64 | OK | OK | OK |
| lemming | Windows Server 2003 (32-bit) / x64 | OK | OK | OK |
limmaGUI 1.15.0 Keith Satterley
| Last Changed Rev: 28351 / Revision: 29143 | | Last Changed Date: 2007-10-31 10:04:47 -0700 |
| lamb1 | Linux (SUSE 10.1) / x86_64 | OK | OK | |
| wilson2 | Linux (openSUSE 10.3) / x86_64 | OK | OK | |
| wellington | Linux (openSUSE 10.3) / i686 | OK | OK | |
| liverpool | Windows Server 2003 R2 (32-bit) / x64 | OK | OK | OK |
| lemming | Windows Server 2003 (32-bit) / x64 | OK | OK | OK |
LMGene 1.9.0 John Tillinghast
| Last Changed Rev: 27716 / Revision: 29143 | | Last Changed Date: 2007-10-02 18:16:39 -0700 |
| lamb1 | Linux (SUSE 10.1) / x86_64 | OK | OK | |
| wilson2 | Linux (openSUSE 10.3) / x86_64 | OK | OK | |
| wellington | Linux (openSUSE 10.3) / i686 | OK | OK | |
| liverpool | Windows Server 2003 R2 (32-bit) / x64 | OK | OK | OK |
| lemming | Windows Server 2003 (32-bit) / x64 | OK | OK | OK |
logicFS 1.9.1 Holger Schwender
| Last Changed Rev: 28187 / Revision: 29143 | | Last Changed Date: 2007-10-24 04:33:50 -0700 |
| lamb1 | Linux (SUSE 10.1) / x86_64 | OK | OK | |
| wilson2 | Linux (openSUSE 10.3) / x86_64 | OK | OK | |
| wellington | Linux (openSUSE 10.3) / i686 | OK | OK | |
| liverpool | Windows Server 2003 R2 (32-bit) / x64 | OK | OK | OK |
| lemming | Windows Server 2003 (32-bit) / x64 | OK | OK | OK |
LPE 1.13.0 Nitin Jain
| Last Changed Rev: 27716 / Revision: 29143 | | Last Changed Date: 2007-10-02 18:16:39 -0700 |
| lamb1 | Linux (SUSE 10.1) / x86_64 | OK | OK | |
| wilson2 | Linux (openSUSE 10.3) / x86_64 | OK | OK | |
| wellington | Linux (openSUSE 10.3) / i686 | OK | OK | |
| liverpool | Windows Server 2003 R2 (32-bit) / x64 | OK | OK | OK |
| lemming | Windows Server 2003 (32-bit) / x64 | OK | OK | OK |
lumi 1.5.10 Pan Du
| Last Changed Rev: 29097 / Revision: 29143 | | Last Changed Date: 2007-12-07 10:16:44 -0800 |
| lamb1 | Linux (SUSE 10.1) / x86_64 | OK | WARNINGS | |
| wilson2 | Linux (openSUSE 10.3) / x86_64 | OK | WARNINGS | |
| wellington | Linux (openSUSE 10.3) / i686 | OK | WARNINGS | |
| liverpool | Windows Server 2003 R2 (32-bit) / x64 | OK | WARNINGS | OK |
| lemming | Windows Server 2003 (32-bit) / x64 | OK | WARNINGS | OK |
|
| M A B C D E F G H I J K L [M] N O P Q R S T U V W X Y Z |
maanova 1.7.1 Hyuna Yang
| Last Changed Rev: 27736 / Revision: 29143 | | Last Changed Date: 2007-10-03 15:14:01 -0700 |
| lamb1 | Linux (SUSE 10.1) / x86_64 | OK | WARNINGS | |
| wilson2 | Linux (openSUSE 10.3) / x86_64 | OK | WARNINGS | |
| wellington | Linux (openSUSE 10.3) / i686 | OK | WARNINGS | |
| liverpool | Windows Server 2003 R2 (32-bit) / x64 | OK | WARNINGS | OK |
| lemming | Windows Server 2003 (32-bit) / x64 | OK | WARNINGS | OK |
macat 1.13.1 Joern Toedling
| Last Changed Rev: 29090 / Revision: 29143 | | Last Changed Date: 2007-12-07 03:46:51 -0800 |
| lamb1 | Linux (SUSE 10.1) / x86_64 | OK | OK | |
| wilson2 | Linux (openSUSE 10.3) / x86_64 | OK | OK | |
| wellington | Linux (openSUSE 10.3) / i686 | OK | OK | |
| liverpool | Windows Server 2003 R2 (32-bit) / x64 | OK | OK | OK |
| lemming | Windows Server 2003 (32-bit) / x64 | OK | OK | OK |
maCorrPlot 1.9.0 Alexander Ploner
| Last Changed Rev: 27716 / Revision: 29143 | | Last Changed Date: 2007-10-02 18:16:39 -0700 |
| lamb1 | Linux (SUSE 10.1) / x86_64 | OK | OK | |
| wilson2 | Linux (openSUSE 10.3) / x86_64 | OK | OK | |
| wellington | Linux (openSUSE 10.3) / i686 | OK | OK | |
| liverpool | Windows Server 2003 R2 (32-bit) / x64 | OK | OK | OK |
| lemming | Windows Server 2003 (32-bit) / x64 | OK | OK | OK |
maDB 1.11.0 Johannes Rainer
| Last Changed Rev: 27716 / Revision: 29143 | | Last Changed Date: 2007-10-02 18:16:39 -0700 |
| lamb1 | Linux (SUSE 10.1) / x86_64 | OK | OK | |
| wilson2 | Linux (openSUSE 10.3) / x86_64 | OK | OK | |
| wellington | Linux (openSUSE 10.3) / i686 | OK | OK | |
| liverpool | Windows Server 2003 R2 (32-bit) / x64 | N O T S U P P O R T E D |
| lemming | Windows Server 2003 (32-bit) / x64 | N O T S U P P O R T E D |
made4 1.13.1 Aedin Culhane
| Last Changed Rev: 28106 / Revision: 29143 | | Last Changed Date: 2007-10-21 09:08:54 -0700 |
| lamb1 | Linux (SUSE 10.1) / x86_64 | OK | OK | |
| wilson2 | Linux (openSUSE 10.3) / x86_64 | OK | OK | |
| wellington | Linux (openSUSE 10.3) / i686 | OK | OK | |
| liverpool | Windows Server 2003 R2 (32-bit) / x64 | OK | OK | OK |
| lemming | Windows Server 2003 (32-bit) / x64 | OK | OK | OK |
maigesPack 1.3.3 Gustavo H. Esteves
| Last Changed Rev: 28882 / Revision: 29143 | | Last Changed Date: 2007-11-21 10:01:47 -0800 |
| lamb1 | Linux (SUSE 10.1) / x86_64 | OK | ERROR | |
| wilson2 | Linux (openSUSE 10.3) / x86_64 | OK | ERROR | |
| wellington | Linux (openSUSE 10.3) / i686 | OK | ERROR | |
| liverpool | Windows Server 2003 R2 (32-bit) / x64 | OK | ERROR | OK |
| lemming | Windows Server 2003 (32-bit) / x64 | OK | ERROR | OK |
makecdfenv 1.17.0 James W. MacDonald
| Last Changed Rev: 27716 / Revision: 29143 | | Last Changed Date: 2007-10-02 18:16:39 -0700 |
| lamb1 | Linux (SUSE 10.1) / x86_64 | OK | OK | |
| wilson2 | Linux (openSUSE 10.3) / x86_64 | OK | OK | |
| wellington | Linux (openSUSE 10.3) / i686 | OK | OK | |
| liverpool | Windows Server 2003 R2 (32-bit) / x64 | OK | OK | OK |
| lemming | Windows Server 2003 (32-bit) / x64 | OK | OK | OK |
makePlatformDesign 1.3.0 Benilton Carvalho
| Last Changed Rev: 28000 / Revision: 29143 | | Last Changed Date: 2007-10-15 11:28:10 -0700 |
| lamb1 | Linux (SUSE 10.1) / x86_64 | OK | OK | |
| wilson2 | Linux (openSUSE 10.3) / x86_64 | OK | OK | |
| wellington | Linux (openSUSE 10.3) / i686 | OK | OK | |
| liverpool | Windows Server 2003 R2 (32-bit) / x64 | OK | OK | OK |
| lemming | Windows Server 2003 (32-bit) / x64 | OK | OK | OK |
MANOR 1.11.0 Pierre Neuvial
| Last Changed Rev: 27716 / Revision: 29143 | | Last Changed Date: 2007-10-02 18:16:39 -0700 |
| lamb1 | Linux (SUSE 10.1) / x86_64 | OK | ERROR | |
| wilson2 | Linux (openSUSE 10.3) / x86_64 | OK | ERROR | |
| wellington | Linux (openSUSE 10.3) / i686 | OK | ERROR | |
| liverpool | Windows Server 2003 R2 (32-bit) / x64 | OK | ERROR | OK |
| lemming | Windows Server 2003 (32-bit) / x64 | OK | ERROR | OK |
MantelCorr 1.9.0 Brian Steinmeyer
| Last Changed Rev: 28097 / Revision: 29143 | | Last Changed Date: 2007-10-21 09:02:13 -0700 |
| lamb1 | Linux (SUSE 10.1) / x86_64 | OK | OK | |
| wilson2 | Linux (openSUSE 10.3) / x86_64 | OK | OK | |
| wellington | Linux (openSUSE 10.3) / i686 | OK | OK | |
| liverpool | Windows Server 2003 R2 (32-bit) / x64 | OK | OK | OK |
| lemming | Windows Server 2003 (32-bit) / x64 | OK | OK | OK |
marray 1.17.0 Yee Hwa (Jean) Yang
| Last Changed Rev: 28557 / Revision: 29143 | | Last Changed Date: 2007-11-07 23:00:31 -0800 |
| lamb1 | Linux (SUSE 10.1) / x86_64 | OK | OK | |
| wilson2 | Linux (openSUSE 10.3) / x86_64 | OK | OK | |
| wellington | Linux (openSUSE 10.3) / i686 | OK | OK | |
| liverpool | Windows Server 2003 R2 (32-bit) / x64 | OK | OK | OK |
| lemming | Windows Server 2003 (32-bit) / x64 | OK | OK | OK |
maSigPro 1.11.0 Ana Conesa
| Last Changed Rev: 27716 / Revision: 29143 | | Last Changed Date: 2007-10-02 18:16:39 -0700 |
| lamb1 | Linux (SUSE 10.1) / x86_64 | OK | OK | |
| wilson2 | Linux (openSUSE 10.3) / x86_64 | OK | OK | |
| wellington | Linux (openSUSE 10.3) / i686 | OK | OK | |
| liverpool | Windows Server 2003 R2 (32-bit) / x64 | OK | OK | OK |
| lemming | Windows Server 2003 (32-bit) / x64 | OK | OK | OK |
MassSpecWavelet 1.5.1 Pan Du
| Last Changed Rev: 28852 / Revision: 29143 | | Last Changed Date: 2007-11-19 15:14:37 -0800 |
| lamb1 | Linux (SUSE 10.1) / x86_64 | OK | OK | |
| wilson2 | Linux (openSUSE 10.3) / x86_64 | OK | OK | |
| wellington | Linux (openSUSE 10.3) / i686 | OK | OK | |
| liverpool | Windows Server 2003 R2 (32-bit) / x64 | OK | OK | OK |
| lemming | Windows Server 2003 (32-bit) / x64 | OK | OK | OK |
matchprobes 1.11.0 Biocore Team c/o BioC user list
| Last Changed Rev: 27716 / Revision: 29143 | | Last Changed Date: 2007-10-02 18:16:39 -0700 |
| lamb1 | Linux (SUSE 10.1) / x86_64 | OK | OK | |
| wilson2 | Linux (openSUSE 10.3) / x86_64 | OK | OK | |
| wellington | Linux (openSUSE 10.3) / i686 | OK | OK | |
| liverpool | Windows Server 2003 R2 (32-bit) / x64 | OK | OK | OK |
| lemming | Windows Server 2003 (32-bit) / x64 | OK | OK | OK |
MCRestimate 1.11.2 Markus Ruschhaupt
| Last Changed Rev: 28537 / Revision: 29143 | | Last Changed Date: 2007-11-07 00:36:48 -0800 |
| lamb1 | Linux (SUSE 10.1) / x86_64 | OK | OK | |
| wilson2 | Linux (openSUSE 10.3) / x86_64 | OK | OK | |
| wellington | Linux (openSUSE 10.3) / i686 | OK | OK | |
| liverpool | Windows Server 2003 R2 (32-bit) / x64 | OK | OK | OK |
| lemming | Windows Server 2003 (32-bit) / x64 | OK | OK | OK |
MeasurementError.cor 1.11.0 Beiying Ding
| Last Changed Rev: 28557 / Revision: 29143 | | Last Changed Date: 2007-11-07 23:00:31 -0800 |
| lamb1 | Linux (SUSE 10.1) / x86_64 | OK | OK | |
| wilson2 | Linux (openSUSE 10.3) / x86_64 | OK | OK | |
| wellington | Linux (openSUSE 10.3) / i686 | OK | OK | |
| liverpool | Windows Server 2003 R2 (32-bit) / x64 | OK | OK | OK |
| lemming | Windows Server 2003 (32-bit) / x64 | OK | OK | OK |
MergeMaid 2.11.0 Xiaogang Zhong
| Last Changed Rev: 27716 / Revision: 29143 | | Last Changed Date: 2007-10-02 18:16:39 -0700 |
| lamb1 | Linux (SUSE 10.1) / x86_64 | OK | OK | |
| wilson2 | Linux (openSUSE 10.3) / x86_64 | OK | OK | |
| wellington | Linux (openSUSE 10.3) / i686 | OK | OK | |
| liverpool | Windows Server 2003 R2 (32-bit) / x64 | OK | OK | OK |
| lemming | Windows Server 2003 (32-bit) / x64 | OK | OK | OK |
metaArray 1.13.0 Hyungwon Choi
| Last Changed Rev: 27716 / Revision: 29143 | | Last Changed Date: 2007-10-02 18:16:39 -0700 |
| lamb1 | Linux (SUSE 10.1) / x86_64 | OK | OK | |
| wilson2 | Linux (openSUSE 10.3) / x86_64 | OK | OK | |
| wellington | Linux (openSUSE 10.3) / i686 | OK | OK | |
| liverpool | Windows Server 2003 R2 (32-bit) / x64 | OK | OK | OK |
| lemming | Windows Server 2003 (32-bit) / x64 | OK | OK | OK |
Mfuzz 1.9.0 Matthias Futschik
| Last Changed Rev: 27716 / Revision: 29143 | | Last Changed Date: 2007-10-02 18:16:39 -0700 |
| lamb1 | Linux (SUSE 10.1) / x86_64 | OK | OK | |
| wilson2 | Linux (openSUSE 10.3) / x86_64 | OK | OK | |
| wellington | Linux (openSUSE 10.3) / i686 | OK | OK | |
| liverpool | Windows Server 2003 R2 (32-bit) / x64 | OK | OK | OK |
| lemming | Windows Server 2003 (32-bit) / x64 | OK | OK | OK |
MiPP 1.11.0 Sukwoo Kim
| Last Changed Rev: 27716 / Revision: 29143 | | Last Changed Date: 2007-10-02 18:16:39 -0700 |
| lamb1 | Linux (SUSE 10.1) / x86_64 | OK | OK | |
| wilson2 | Linux (openSUSE 10.3) / x86_64 | OK | OK | |
| wellington | Linux (openSUSE 10.3) / i686 | OK | OK | |
| liverpool | Windows Server 2003 R2 (32-bit) / x64 | OK | OK | OK |
| lemming | Windows Server 2003 (32-bit) / x64 | OK | OK | OK |
MLInterfaces 1.13.18 V. Carey
| Last Changed Rev: 28924 / Revision: 29143 | | Last Changed Date: 2007-11-27 02:59:05 -0800 |
| lamb1 | Linux (SUSE 10.1) / x86_64 | OK | OK | |
| wilson2 | Linux (openSUSE 10.3) / x86_64 | OK | OK | |
| wellington | Linux (openSUSE 10.3) / i686 | OK | OK | |
| liverpool | Windows Server 2003 R2 (32-bit) / x64 | OK | OK | OK |
| lemming | Windows Server 2003 (32-bit) / x64 | OK | OK | OK |
mmgmos 1.7.0 Xuejun Liu
| Last Changed Rev: 25301 / Revision: 29143 | | Last Changed Date: 2007-06-10 10:22:32 -0700 |
| lamb1 | Linux (SUSE 10.1) / x86_64 | OK | ERROR | |
| wilson2 | Linux (openSUSE 10.3) / x86_64 | OK | ERROR | |
| wellington | Linux (openSUSE 10.3) / i686 | OK | ERROR | |
| liverpool | Windows Server 2003 R2 (32-bit) / x64 | OK | ERROR | OK |
| lemming | Windows Server 2003 (32-bit) / x64 | OK | ERROR | OK |
multtest 1.19.0 Katherine S. Pollard
| Last Changed Rev: 28557 / Revision: 29143 | | Last Changed Date: 2007-11-07 23:00:31 -0800 |
| lamb1 | Linux (SUSE 10.1) / x86_64 | OK | OK | |
| wilson2 | Linux (openSUSE 10.3) / x86_64 | OK | OK | |
| wellington | Linux (openSUSE 10.3) / i686 | OK | OK | |
| liverpool | Windows Server 2003 R2 (32-bit) / x64 | OK | OK | OK |
| lemming | Windows Server 2003 (32-bit) / x64 | OK | OK | OK |
MVCClass 1.13.0 Elizabeth Whalen
| Last Changed Rev: 27716 / Revision: 29143 | | Last Changed Date: 2007-10-02 18:16:39 -0700 |
| lamb1 | Linux (SUSE 10.1) / x86_64 | OK | OK | |
| wilson2 | Linux (openSUSE 10.3) / x86_64 | OK | OK | |
| wellington | Linux (openSUSE 10.3) / i686 | OK | OK | |
| liverpool | Windows Server 2003 R2 (32-bit) / x64 | OK | OK | OK |
| lemming | Windows Server 2003 (32-bit) / x64 | OK | OK | OK |
|
| N A B C D E F G H I J K L M [N] O P Q R S T U V W X Y Z |
nem 2.3.2 Florian Markowetz
| Last Changed Rev: 29077 / Revision: 29143 | | Last Changed Date: 2007-12-06 05:31:56 -0800 |
| lamb1 | Linux (SUSE 10.1) / x86_64 | OK | OK | |
| wilson2 | Linux (openSUSE 10.3) / x86_64 | OK | OK | |
| wellington | Linux (openSUSE 10.3) / i686 | OK | OK | |
| liverpool | Windows Server 2003 R2 (32-bit) / x64 | ERROR | skipped | skipped |
| lemming | Windows Server 2003 (32-bit) / x64 | ERROR | skipped | skipped |
nnNorm 2.3.0 Adi Laurentiu Tarca
| Last Changed Rev: 28557 / Revision: 29143 | | Last Changed Date: 2007-11-07 23:00:31 -0800 |
| lamb1 | Linux (SUSE 10.1) / x86_64 | OK | OK | |
| wilson2 | Linux (openSUSE 10.3) / x86_64 | OK | OK | |
| wellington | Linux (openSUSE 10.3) / i686 | OK | OK | |
| liverpool | Windows Server 2003 R2 (32-bit) / x64 | OK | OK | OK |
| lemming | Windows Server 2003 (32-bit) / x64 | OK | OK | OK |
nudge 1.5.1 N. Dean
| Last Changed Rev: 24052 / Revision: 29143 | | Last Changed Date: 2007-04-19 15:27:45 -0700 |
| lamb1 | Linux (SUSE 10.1) / x86_64 | OK | ERROR | |
| wilson2 | Linux (openSUSE 10.3) / x86_64 | OK | ERROR | |
| wellington | Linux (openSUSE 10.3) / i686 | OK | ERROR | |
| liverpool | Windows Server 2003 R2 (32-bit) / x64 | OK | ERROR | OK |
| lemming | Windows Server 2003 (32-bit) / x64 | OK | OK | OK |
|
| O A B C D E F G H I J K L M N [O] P Q R S T U V W X Y Z |
occugene 0.1.0 Oliver Will
| Last Changed Rev: 28102 / Revision: 29143 | | Last Changed Date: 2007-10-21 09:04:35 -0700 |
| lamb1 | Linux (SUSE 10.1) / x86_64 | OK | WARNINGS | |
| wilson2 | Linux (openSUSE 10.3) / x86_64 | OK | WARNINGS | |
| wellington | Linux (openSUSE 10.3) / i686 | OK | WARNINGS | |
| liverpool | Windows Server 2003 R2 (32-bit) / x64 | OK | WARNINGS | OK |
| lemming | Windows Server 2003 (32-bit) / x64 | OK | WARNINGS | OK |
OCplus 1.13.0 Alexander Ploner
| Last Changed Rev: 27716 / Revision: 29143 | | Last Changed Date: 2007-10-02 18:16:39 -0700 |
| lamb1 | Linux (SUSE 10.1) / x86_64 | OK | OK | |
| wilson2 | Linux (openSUSE 10.3) / x86_64 | OK | OK | |
| wellington | Linux (openSUSE 10.3) / i686 | OK | OK | |
| liverpool | Windows Server 2003 R2 (32-bit) / x64 | OK | OK | OK |
| lemming | Windows Server 2003 (32-bit) / x64 | OK | OK | OK |
oligo 1.3.7 Benilton Carvalho
| Last Changed Rev: 28222 / Revision: 29143 | | Last Changed Date: 2007-10-25 07:56:21 -0700 |
| lamb1 | Linux (SUSE 10.1) / x86_64 | ERROR | skipped | |
| wilson2 | Linux (openSUSE 10.3) / x86_64 | ERROR | skipped | |
| wellington | Linux (openSUSE 10.3) / i686 | ERROR | skipped | |
| liverpool | Windows Server 2003 R2 (32-bit) / x64 | ERROR | skipped | skipped |
| lemming | Windows Server 2003 (32-bit) / x64 | ERROR | skipped | skipped |
oligoClasses 1.1.6 Benilton Carvalho
| Last Changed Rev: 28163 / Revision: 29143 | | Last Changed Date: 2007-10-23 08:50:48 -0700 |
| lamb1 | Linux (SUSE 10.1) / x86_64 | OK | OK | |
| wilson2 | Linux (openSUSE 10.3) / x86_64 | OK | OK | |
| wellington | Linux (openSUSE 10.3) / i686 | OK | OK | |
| liverpool | Windows Server 2003 R2 (32-bit) / x64 | OK | OK | OK |
| lemming | Windows Server 2003 (32-bit) / x64 | OK | OK | OK |
OLIN 1.15.0 Matthias Futschik
| Last Changed Rev: 27716 / Revision: 29143 | | Last Changed Date: 2007-10-02 18:16:39 -0700 |
| lamb1 | Linux (SUSE 10.1) / x86_64 | OK | OK | |
| wilson2 | Linux (openSUSE 10.3) / x86_64 | OK | OK | |
| wellington | Linux (openSUSE 10.3) / i686 | OK | OK | |
| liverpool | Windows Server 2003 R2 (32-bit) / x64 | OK | OK | OK |
| lemming | Windows Server 2003 (32-bit) / x64 | OK | OK | OK |
OLINgui 1.13.0 Matthias Futschik
| Last Changed Rev: 27716 / Revision: 29143 | | Last Changed Date: 2007-10-02 18:16:39 -0700 |
| lamb1 | Linux (SUSE 10.1) / x86_64 | OK | OK | |
| wilson2 | Linux (openSUSE 10.3) / x86_64 | OK | OK | |
| wellington | Linux (openSUSE 10.3) / i686 | OK | OK | |
| liverpool | Windows Server 2003 R2 (32-bit) / x64 | OK | OK | OK |
| lemming | Windows Server 2003 (32-bit) / x64 | OK | OK | OK |
oneChannelGUI 1.5.4 Raffaele A Calogero
| Last Changed Rev: 29107 / Revision: 29143 | | Last Changed Date: 2007-12-07 22:54:35 -0800 |
| lamb1 | Linux (SUSE 10.1) / x86_64 | ERROR | skipped | |
| wilson2 | Linux (openSUSE 10.3) / x86_64 | ERROR | skipped | |
| wellington | Linux (openSUSE 10.3) / i686 | ERROR | skipped | |
| liverpool | Windows Server 2003 R2 (32-bit) / x64 | ERROR | skipped | skipped |
| lemming | Windows Server 2003 (32-bit) / x64 | ERROR | skipped | skipped |
ontoTools 1.15.0 Vince Carey
| Last Changed Rev: 27716 / Revision: 29143 | | Last Changed Date: 2007-10-02 18:16:39 -0700 |
| lamb1 | Linux (SUSE 10.1) / x86_64 | OK | OK | |
| wilson2 | Linux (openSUSE 10.3) / x86_64 | OK | OK | |
| wellington | Linux (openSUSE 10.3) / i686 | OK | OK | |
| liverpool | Windows Server 2003 R2 (32-bit) / x64 | OK | OK | OK |
| lemming | Windows Server 2003 (32-bit) / x64 | OK | OK | OK |
OrderedList 1.11.3 Claudio Lottaz
| Last Changed Rev: 28643 / Revision: 29143 | | Last Changed Date: 2007-11-12 07:20:44 -0800 |
| lamb1 | Linux (SUSE 10.1) / x86_64 | OK | OK | |
| wilson2 | Linux (openSUSE 10.3) / x86_64 | OK | OK | |
| wellington | Linux (openSUSE 10.3) / i686 | OK | OK | |
| liverpool | Windows Server 2003 R2 (32-bit) / x64 | OK | OK | OK |
| lemming | Windows Server 2003 (32-bit) / x64 | OK | OK | OK |
OutlierD 1.3.0 Sukwoo Kim
| Last Changed Rev: 27716 / Revision: 29143 | | Last Changed Date: 2007-10-02 18:16:39 -0700 |
| lamb1 | Linux (SUSE 10.1) / x86_64 | OK | OK | |
| wilson2 | Linux (openSUSE 10.3) / x86_64 | OK | OK | |
| wellington | Linux (openSUSE 10.3) / i686 | OK | OK | |
| liverpool | Windows Server 2003 R2 (32-bit) / x64 | OK | OK | OK |
| lemming | Windows Server 2003 (32-bit) / x64 | OK | OK | OK |
|
| P A B C D E F G H I J K L M N O [P] Q R S T U V W X Y Z |
pairseqsim 1.9.3 Witold Wolski
| Last Changed Rev: 25301 / Revision: 29143 | | Last Changed Date: 2007-06-10 10:22:32 -0700 |
| lamb1 | Linux (SUSE 10.1) / x86_64 | ERROR | skipped | |
| wilson2 | Linux (openSUSE 10.3) / x86_64 | ERROR | skipped | |
| wellington | Linux (openSUSE 10.3) / i686 | ERROR | skipped | |
| liverpool | Windows Server 2003 R2 (32-bit) / x64 | ERROR | skipped | skipped |
| lemming | Windows Server 2003 (32-bit) / x64 | ERROR | skipped | skipped |
pamr 1.37.0 Rob Tibshirani
| Last Changed Rev: 27716 / Revision: 29143 | | Last Changed Date: 2007-10-02 18:16:39 -0700 |
| lamb1 | Linux (SUSE 10.1) / x86_64 | OK | OK | |
| wilson2 | Linux (openSUSE 10.3) / x86_64 | OK | WARNINGS | |
| wellington | Linux (openSUSE 10.3) / i686 | OK | WARNINGS | |
| liverpool | Windows Server 2003 R2 (32-bit) / x64 | OK | OK | OK |
| lemming | Windows Server 2003 (32-bit) / x64 | OK | OK | OK |
panp 1.9.0 Peter Warren
| Last Changed Rev: 27716 / Revision: 29143 | | Last Changed Date: 2007-10-02 18:16:39 -0700 |
| lamb1 | Linux (SUSE 10.1) / x86_64 | OK | OK | |
| wilson2 | Linux (openSUSE 10.3) / x86_64 | OK | OK | |
| wellington | Linux (openSUSE 10.3) / i686 | OK | OK | |
| liverpool | Windows Server 2003 R2 (32-bit) / x64 | OK | OK | OK |
| lemming | Windows Server 2003 (32-bit) / x64 | OK | OK | OK |
pathRender 1.7.3 Li Long
| Last Changed Rev: 28219 / Revision: 29143 | | Last Changed Date: 2007-10-25 04:52:29 -0700 |
| lamb1 | Linux (SUSE 10.1) / x86_64 | OK | OK | |
| wilson2 | Linux (openSUSE 10.3) / x86_64 | OK | OK | |
| wellington | Linux (openSUSE 10.3) / i686 | OK | OK | |
| liverpool | Windows Server 2003 R2 (32-bit) / x64 | ERROR | skipped | skipped |
| lemming | Windows Server 2003 (32-bit) / x64 | ERROR | skipped | skipped |
pcaMethods 1.15.2 Wolfram Stacklies
| Last Changed Rev: 27836 / Revision: 29143 | | Last Changed Date: 2007-10-08 03:33:45 -0700 |
| lamb1 | Linux (SUSE 10.1) / x86_64 | OK | OK | |
| wilson2 | Linux (openSUSE 10.3) / x86_64 | ERROR | skipped | |
| wellington | Linux (openSUSE 10.3) / i686 | OK | OK | |
| liverpool | Windows Server 2003 R2 (32-bit) / x64 | OK | OK | OK |
| lemming | Windows Server 2003 (32-bit) / x64 | OK | OK | OK |
pcot2 1.7.0 Sarah Song
| Last Changed Rev: 27716 / Revision: 29143 | | Last Changed Date: 2007-10-02 18:16:39 -0700 |
| lamb1 | Linux (SUSE 10.1) / x86_64 | OK | OK | |
| wilson2 | Linux (openSUSE 10.3) / x86_64 | OK | OK | |
| wellington | Linux (openSUSE 10.3) / i686 | OK | OK | |
| liverpool | Windows Server 2003 R2 (32-bit) / x64 | OK | OK | OK |
| lemming | Windows Server 2003 (32-bit) / x64 | OK | OK | OK |
pdInfoBuilder 1.3.5 Vince Carey
| Last Changed Rev: 28206 / Revision: 29143 | | Last Changed Date: 2007-10-24 16:15:35 -0700 |
| lamb1 | Linux (SUSE 10.1) / x86_64 | OK | WARNINGS | |
| wilson2 | Linux (openSUSE 10.3) / x86_64 | OK | WARNINGS | |
| wellington | Linux (openSUSE 10.3) / i686 | OK | WARNINGS | |
| liverpool | Windows Server 2003 R2 (32-bit) / x64 | OK | WARNINGS | OK |
| lemming | Windows Server 2003 (32-bit) / x64 | OK | WARNINGS | OK |
pdmclass 1.11.0 James W. MacDonald
| Last Changed Rev: 27716 / Revision: 29143 | | Last Changed Date: 2007-10-02 18:16:39 -0700 |
| lamb1 | Linux (SUSE 10.1) / x86_64 | OK | OK | |
| wilson2 | Linux (openSUSE 10.3) / x86_64 | OK | OK | |
| wellington | Linux (openSUSE 10.3) / i686 | OK | OK | |
| liverpool | Windows Server 2003 R2 (32-bit) / x64 | OK | OK | OK |
| lemming | Windows Server 2003 (32-bit) / x64 | OK | OK | OK |
PGSEA 1.7.0 Karl Dykema
| Last Changed Rev: 29102 / Revision: 29143 | | Last Changed Date: 2007-12-07 12:45:26 -0800 |
| lamb1 | Linux (SUSE 10.1) / x86_64 | ERROR | skipped | |
| wilson2 | Linux (openSUSE 10.3) / x86_64 | ERROR | skipped | |
| wellington | Linux (openSUSE 10.3) / i686 | ERROR | skipped | |
| liverpool | Windows Server 2003 R2 (32-bit) / x64 | ERROR | skipped | skipped |
| lemming | Windows Server 2003 (32-bit) / x64 | ERROR | skipped | skipped |
pgUtils 1.11.0 Johannes Rainer
| Last Changed Rev: 27716 / Revision: 29143 | | Last Changed Date: 2007-10-02 18:16:39 -0700 |
| lamb1 | Linux (SUSE 10.1) / x86_64 | OK | OK | |
| wilson2 | Linux (openSUSE 10.3) / x86_64 | OK | OK | |
| wellington | Linux (openSUSE 10.3) / i686 | OK | OK | |
| liverpool | Windows Server 2003 R2 (32-bit) / x64 | N O T S U P P O R T E D |
| lemming | Windows Server 2003 (32-bit) / x64 | N O T S U P P O R T E D |
pickgene 1.11.0 Brian S. Yandell
| Last Changed Rev: 27716 / Revision: 29143 | | Last Changed Date: 2007-10-02 18:16:39 -0700 |
| lamb1 | Linux (SUSE 10.1) / x86_64 | OK | WARNINGS | |
| wilson2 | Linux (openSUSE 10.3) / x86_64 | OK | WARNINGS | |
| wellington | Linux (openSUSE 10.3) / i686 | OK | WARNINGS | |
| liverpool | Windows Server 2003 R2 (32-bit) / x64 | OK | WARNINGS | OK |
| lemming | Windows Server 2003 (32-bit) / x64 | OK | WARNINGS | OK |
pkgDepTools 1.5.1 Seth Falcon
| Last Changed Rev: 28761 / Revision: 29143 | | Last Changed Date: 2007-11-15 21:23:40 -0800 |
| lamb1 | Linux (SUSE 10.1) / x86_64 | OK | OK | |
| wilson2 | Linux (openSUSE 10.3) / x86_64 | OK | OK | |
| wellington | Linux (openSUSE 10.3) / i686 | OK | OK | |
| liverpool | Windows Server 2003 R2 (32-bit) / x64 | ERROR | skipped | skipped |
| lemming | Windows Server 2003 (32-bit) / x64 | ERROR | skipped | skipped |
plgem 1.11.0 Mattia Pelizzola
| Last Changed Rev: 27716 / Revision: 29143 | | Last Changed Date: 2007-10-02 18:16:39 -0700 |
| lamb1 | Linux (SUSE 10.1) / x86_64 | OK | OK | |
| wilson2 | Linux (openSUSE 10.3) / x86_64 | OK | OK | |
| wellington | Linux (openSUSE 10.3) / i686 | OK | OK | |
| liverpool | Windows Server 2003 R2 (32-bit) / x64 | OK | OK | OK |
| lemming | Windows Server 2003 (32-bit) / x64 | OK | OK | OK |
plier 1.9.0 Crispin Miller
| Last Changed Rev: 27716 / Revision: 29143 | | Last Changed Date: 2007-10-02 18:16:39 -0700 |
| lamb1 | Linux (SUSE 10.1) / x86_64 | OK | OK | |
| wilson2 | Linux (openSUSE 10.3) / x86_64 | OK | OK | |
| wellington | Linux (openSUSE 10.3) / i686 | OK | OK | |
| liverpool | Windows Server 2003 R2 (32-bit) / x64 | OK | OK | OK |
| lemming | Windows Server 2003 (32-bit) / x64 | OK | OK | OK |
plw 0.99.2 Magnus Astrand
| Last Changed Rev: 29054 / Revision: 29143 | | Last Changed Date: 2007-12-05 15:29:37 -0800 |
| lamb1 | Linux (SUSE 10.1) / x86_64 | OK | OK | |
| wilson2 | Linux (openSUSE 10.3) / x86_64 | OK | OK | |
| wellington | Linux (openSUSE 10.3) / i686 | OK | OK | |
| liverpool | Windows Server 2003 R2 (32-bit) / x64 | ERROR | skipped | skipped |
| lemming | Windows Server 2003 (32-bit) / x64 | ERROR | skipped | skipped |
ppiStats 1.5.6 Tony Chiang
| Last Changed Rev: 28974 / Revision: 29143 | | Last Changed Date: 2007-11-29 15:20:52 -0800 |
| lamb1 | Linux (SUSE 10.1) / x86_64 | OK | OK | |
| wilson2 | Linux (openSUSE 10.3) / x86_64 | OK | OK | |
| wellington | Linux (openSUSE 10.3) / i686 | OK | OK | |
| liverpool | Windows Server 2003 R2 (32-bit) / x64 | OK | ERROR | ERROR |
| lemming | Windows Server 2003 (32-bit) / x64 | OK | ERROR | ERROR |
prada 1.15.0 Florian Hahne
| Last Changed Rev: 28842 / Revision: 29143 | | Last Changed Date: 2007-11-19 13:03:44 -0800 |
| lamb1 | Linux (SUSE 10.1) / x86_64 | OK | OK | |
| wilson2 | Linux (openSUSE 10.3) / x86_64 | OK | OK | |
| wellington | Linux (openSUSE 10.3) / i686 | OK | OK | |
| liverpool | Windows Server 2003 R2 (32-bit) / x64 | OK | OK | OK |
| lemming | Windows Server 2003 (32-bit) / x64 | OK | OK | OK |
preprocessCore 1.1.5 Benjamin Milo Bolstad
| Last Changed Rev: 29138 / Revision: 29143 | | Last Changed Date: 2007-12-10 18:56:28 -0800 |
| lamb1 | Linux (SUSE 10.1) / x86_64 | OK | OK | |
| wilson2 | Linux (openSUSE 10.3) / x86_64 | OK | OK | |
| wellington | Linux (openSUSE 10.3) / i686 | OK | OK | |
| liverpool | Windows Server 2003 R2 (32-bit) / x64 | OK | OK | OK |
| lemming | Windows Server 2003 (32-bit) / x64 | OK | OK | OK |
prism 0.1.2 Raphael Gottardo
| Last Changed Rev: 27591 / Revision: 29143 | | Last Changed Date: 2007-09-28 09:14:15 -0700 |
| lamb1 | Linux (SUSE 10.1) / x86_64 | OK | WARNINGS | |
| wilson2 | Linux (openSUSE 10.3) / x86_64 | OK | WARNINGS | |
| wellington | Linux (openSUSE 10.3) / i686 | OK | WARNINGS | |
| liverpool | Windows Server 2003 R2 (32-bit) / x64 | OK | WARNINGS | OK |
| lemming | Windows Server 2003 (32-bit) / x64 | N O T S U P P O R T E D |
PROcess 1.15.0 Xiaochun Li
| Last Changed Rev: 27716 / Revision: 29143 | | Last Changed Date: 2007-10-02 18:16:39 -0700 |
| lamb1 | Linux (SUSE 10.1) / x86_64 | OK | WARNINGS | |
| wilson2 | Linux (openSUSE 10.3) / x86_64 | OK | WARNINGS | |
| wellington | Linux (openSUSE 10.3) / i686 | OK | WARNINGS | |
| liverpool | Windows Server 2003 R2 (32-bit) / x64 | OK | WARNINGS | OK |
| lemming | Windows Server 2003 (32-bit) / x64 | OK | WARNINGS | OK |
puma 1.5.3 Richard Pearson
| Last Changed Rev: 28566 / Revision: 29143 | | Last Changed Date: 2007-11-08 03:38:57 -0800 |
| lamb1 | Linux (SUSE 10.1) / x86_64 | OK | OK | |
| wilson2 | Linux (openSUSE 10.3) / x86_64 | OK | OK | |
| wellington | Linux (openSUSE 10.3) / i686 | OK | OK | |
| liverpool | Windows Server 2003 R2 (32-bit) / x64 | OK | OK | OK |
| lemming | Windows Server 2003 (32-bit) / x64 | OK | OK | OK |
|
| Q A B C D E F G H I J K L M N O P [Q] R S T U V W X Y Z |
quantsmooth 1.5.0 Jan Oosting
| Last Changed Rev: 27716 / Revision: 29143 | | Last Changed Date: 2007-10-02 18:16:39 -0700 |
| lamb1 | Linux (SUSE 10.1) / x86_64 | OK | OK | |
| wilson2 | Linux (openSUSE 10.3) / x86_64 | OK | OK | |
| wellington | Linux (openSUSE 10.3) / i686 | OK | OK | |
| liverpool | Windows Server 2003 R2 (32-bit) / x64 | OK | OK | OK |
| lemming | Windows Server 2003 (32-bit) / x64 | OK | OK | OK |
qvalue 1.13.0 John D. Storey
| Last Changed Rev: 27716 / Revision: 29143 | | Last Changed Date: 2007-10-02 18:16:39 -0700 |
| lamb1 | Linux (SUSE 10.1) / x86_64 | OK | OK | |
| wilson2 | Linux (openSUSE 10.3) / x86_64 | OK | OK | |
| wellington | Linux (openSUSE 10.3) / i686 | OK | OK | |
| liverpool | Windows Server 2003 R2 (32-bit) / x64 | OK | OK | OK |
| lemming | Windows Server 2003 (32-bit) / x64 | OK | OK | OK |
|
| R A B C D E F G H I J K L M N O P Q [R] S T U V W X Y Z |
rama 1.12.0 Raphael Gottardo
| Last Changed Rev: 29127 / Revision: 29143 | | Last Changed Date: 2007-12-10 08:46:24 -0800 |
| lamb1 | Linux (SUSE 10.1) / x86_64 | OK | OK | |
| wilson2 | Linux (openSUSE 10.3) / x86_64 | OK | OK | |
| wellington | Linux (openSUSE 10.3) / i686 | OK | OK | |
| liverpool | Windows Server 2003 R2 (32-bit) / x64 | OK | OK | OK |
| lemming | Windows Server 2003 (32-bit) / x64 | OK | OK | OK |
RankProd 2.11.0 Fangxin Hong
| Last Changed Rev: 27716 / Revision: 29143 | | Last Changed Date: 2007-10-02 18:16:39 -0700 |
| lamb1 | Linux (SUSE 10.1) / x86_64 | OK | OK | |
| wilson2 | Linux (openSUSE 10.3) / x86_64 | OK | OK | |
| wellington | Linux (openSUSE 10.3) / i686 | OK | OK | |
| liverpool | Windows Server 2003 R2 (32-bit) / x64 | OK | OK | OK |
| lemming | Windows Server 2003 (32-bit) / x64 | OK | OK | OK |
RbcBook1 1.7.0 Vince Carey
| Last Changed Rev: 27716 / Revision: 29143 | | Last Changed Date: 2007-10-02 18:16:39 -0700 |
| lamb1 | Linux (SUSE 10.1) / x86_64 | OK | ERROR | |
| wilson2 | Linux (openSUSE 10.3) / x86_64 | OK | ERROR | |
| wellington | Linux (openSUSE 10.3) / i686 | OK | ERROR | |
| liverpool | Windows Server 2003 R2 (32-bit) / x64 | OK | ERROR | OK |
| lemming | Windows Server 2003 (32-bit) / x64 | OK | ERROR | OK |
RBGL 1.15.6 Li Long
| Last Changed Rev: 29046 / Revision: 29143 | | Last Changed Date: 2007-12-05 03:54:50 -0800 |
| lamb1 | Linux (SUSE 10.1) / x86_64 | OK | WARNINGS | |
| wilson2 | Linux (openSUSE 10.3) / x86_64 | OK | WARNINGS | |
| wellington | Linux (openSUSE 10.3) / i686 | OK | WARNINGS | |
| liverpool | Windows Server 2003 R2 (32-bit) / x64 | ERROR | skipped | skipped |
| lemming | Windows Server 2003 (32-bit) / x64 | ERROR | skipped | skipped |
rbsurv 1.5.0 Sukwoo Kim
| Last Changed Rev: 27716 / Revision: 29143 | | Last Changed Date: 2007-10-02 18:16:39 -0700 |
| lamb1 | Linux (SUSE 10.1) / x86_64 | OK | OK | |
| wilson2 | Linux (openSUSE 10.3) / x86_64 | OK | OK | |
| wellington | Linux (openSUSE 10.3) / i686 | OK | OK | |
| liverpool | Windows Server 2003 R2 (32-bit) / x64 | OK | OK | OK |
| lemming | Windows Server 2003 (32-bit) / x64 | OK | OK | OK |
Rdbi 1.13.0 Jianhua Zhang
| Last Changed Rev: 27716 / Revision: 29143 | | Last Changed Date: 2007-10-02 18:16:39 -0700 |
| lamb1 | Linux (SUSE 10.1) / x86_64 | OK | OK | |
| wilson2 | Linux (openSUSE 10.3) / x86_64 | OK | OK | |
| wellington | Linux (openSUSE 10.3) / i686 | OK | OK | |
| liverpool | Windows Server 2003 R2 (32-bit) / x64 | OK | OK | OK |
| lemming | Windows Server 2003 (32-bit) / x64 | OK | OK | OK |
RdbiPgSQL 1.13.0 Jianhua Zhang
| Last Changed Rev: 27716 / Revision: 29143 | | Last Changed Date: 2007-10-02 18:16:39 -0700 |
| lamb1 | Linux (SUSE 10.1) / x86_64 | OK | OK | |
| wilson2 | Linux (openSUSE 10.3) / x86_64 | OK | OK | |
| wellington | Linux (openSUSE 10.3) / i686 | OK | OK | |
| liverpool | Windows Server 2003 R2 (32-bit) / x64 | N O T S U P P O R T E D |
| lemming | Windows Server 2003 (32-bit) / x64 | N O T S U P P O R T E D |
Rdisop 0.5.1 Steffen Neumann
| Last Changed Rev: 29100 / Revision: 29143 | | Last Changed Date: 2007-12-07 12:27:59 -0800 |
| lamb1 | Linux (SUSE 10.1) / x86_64 | OK | OK | |
| wilson2 | Linux (openSUSE 10.3) / x86_64 | OK | OK | |
| wellington | Linux (openSUSE 10.3) / i686 | OK | OK | |
| liverpool | Windows Server 2003 R2 (32-bit) / x64 | OK | OK | OK |
| lemming | Windows Server 2003 (32-bit) / x64 | OK | OK | OK |
reb 1.13.0 Karl J. Dykema
| Last Changed Rev: 27716 / Revision: 29143 | | Last Changed Date: 2007-10-02 18:16:39 -0700 |
| lamb1 | Linux (SUSE 10.1) / x86_64 | OK | OK | |
| wilson2 | Linux (openSUSE 10.3) / x86_64 | OK | OK | |
| wellington | Linux (openSUSE 10.3) / i686 | OK | OK | |
| liverpool | Windows Server 2003 R2 (32-bit) / x64 | OK | OK | OK |
| lemming | Windows Server 2003 (32-bit) / x64 | OK | OK | OK |
RefPlus 1.9.0 Kai-Ming Chang
| Last Changed Rev: 28364 / Revision: 29143 | | Last Changed Date: 2007-10-31 22:43:15 -0700 |
| lamb1 | Linux (SUSE 10.1) / x86_64 | OK | OK | |
| wilson2 | Linux (openSUSE 10.3) / x86_64 | OK | OK | |
| wellington | Linux (openSUSE 10.3) / i686 | OK | OK | |
| liverpool | Windows Server 2003 R2 (32-bit) / x64 | OK | OK | OK |
| lemming | Windows Server 2003 (32-bit) / x64 | OK | OK | OK |
Resourcerer 1.13.0 Jianhua Zhang
| Last Changed Rev: 27716 / Revision: 29143 | | Last Changed Date: 2007-10-02 18:16:39 -0700 |
| lamb1 | Linux (SUSE 10.1) / x86_64 | OK | OK | |
| wilson2 | Linux (openSUSE 10.3) / x86_64 | OK | OK | |
| wellington | Linux (openSUSE 10.3) / i686 | OK | OK | |
| liverpool | Windows Server 2003 R2 (32-bit) / x64 | OK | OK | OK |
| lemming | Windows Server 2003 (32-bit) / x64 | OK | OK | OK |
rflowcyt 1.11.0 N. LeMeur
| Last Changed Rev: 27847 / Revision: 29143 | | Last Changed Date: 2007-10-08 11:45:32 -0700 |
| lamb1 | Linux (SUSE 10.1) / x86_64 | OK | WARNINGS | |
| wilson2 | Linux (openSUSE 10.3) / x86_64 | OK | WARNINGS | |
| wellington | Linux (openSUSE 10.3) / i686 | OK | WARNINGS | |
| liverpool | Windows Server 2003 R2 (32-bit) / x64 | OK | WARNINGS | OK |
| lemming | Windows Server 2003 (32-bit) / x64 | OK | WARNINGS | OK |
Rgraphviz 1.17.11 Li Long
| Last Changed Rev: 29139 / Revision: 29143 | | Last Changed Date: 2007-12-10 19:00:09 -0800 |
| lamb1 | Linux (SUSE 10.1) / x86_64 | OK | WARNINGS | |
| wilson2 | Linux (openSUSE 10.3) / x86_64 | OK | WARNINGS | |
| wellington | Linux (openSUSE 10.3) / i686 | OK | WARNINGS | |
| liverpool | Windows Server 2003 R2 (32-bit) / x64 | ERROR | skipped | skipped |
| lemming | Windows Server 2003 (32-bit) / x64 | ERROR | skipped | skipped |
rhdf5 1.7.1 Biocore Team c/o BioC user list
| Last Changed Rev: 26527 / Revision: 29143 | | Last Changed Date: 2007-08-20 09:33:20 -0700 |
| lamb1 | Linux (SUSE 10.1) / x86_64 | ERROR | skipped | |
| wilson2 | Linux (openSUSE 10.3) / x86_64 | ERROR | skipped | |
| wellington | Linux (openSUSE 10.3) / i686 | ERROR | skipped | |
| liverpool | Windows Server 2003 R2 (32-bit) / x64 | ERROR | skipped | skipped |
| lemming | Windows Server 2003 (32-bit) / x64 | ERROR | skipped | skipped |
rHVDM 1.5.0 Martino Barenco
| Last Changed Rev: 27716 / Revision: 29143 | | Last Changed Date: 2007-10-02 18:16:39 -0700 |
| lamb1 | Linux (SUSE 10.1) / x86_64 | OK | OK | |
| wilson2 | Linux (openSUSE 10.3) / x86_64 | OK | OK | |
| wellington | Linux (openSUSE 10.3) / i686 | OK | OK | |
| liverpool | Windows Server 2003 R2 (32-bit) / x64 | OK | OK | OK |
| lemming | Windows Server 2003 (32-bit) / x64 | OK | OK | OK |
Ringo 1.3.2 J. Toedling
| Last Changed Rev: 28828 / Revision: 29143 | | Last Changed Date: 2007-11-19 07:37:06 -0800 |
| lamb1 | Linux (SUSE 10.1) / x86_64 | OK | ERROR | |
| wilson2 | Linux (openSUSE 10.3) / x86_64 | OK | ERROR | |
| wellington | Linux (openSUSE 10.3) / i686 | OK | ERROR | |
| liverpool | Windows Server 2003 R2 (32-bit) / x64 | OK | ERROR | OK |
| lemming | Windows Server 2003 (32-bit) / x64 | OK | ERROR | OK |
Rintact 1.1.4 Tony Chiang
| Last Changed Rev: 28674 / Revision: 29143 | | Last Changed Date: 2007-11-13 05:30:16 -0800 |
| lamb1 | Linux (SUSE 10.1) / x86_64 | OK | OK | |
| wilson2 | Linux (openSUSE 10.3) / x86_64 | OK | OK | |
| wellington | Linux (openSUSE 10.3) / i686 | OK | OK | |
| liverpool | Windows Server 2003 R2 (32-bit) / x64 | ERROR | skipped | skipped |
| lemming | Windows Server 2003 (32-bit) / x64 | ERROR | skipped | skipped |
RLMM 1.1.0 Nusrat Rabbee
| Last Changed Rev: 27816 / Revision: 29143 | | Last Changed Date: 2007-10-05 18:35:49 -0700 |
| lamb1 | Linux (SUSE 10.1) / x86_64 | OK | OK | |
| wilson2 | Linux (openSUSE 10.3) / x86_64 | OK | OK | |
| wellington | Linux (openSUSE 10.3) / i686 | OK | OK | |
| liverpool | Windows Server 2003 R2 (32-bit) / x64 | OK | OK | OK |
| lemming | Windows Server 2003 (32-bit) / x64 | OK | OK | OK |
RMAGEML 2.13.0 Steffen Durinck
| Last Changed Rev: 29072 / Revision: 29143 | | Last Changed Date: 2007-12-05 19:12:46 -0800 |
| lamb1 | Linux (SUSE 10.1) / x86_64 | OK | OK | |
| wilson2 | Linux (openSUSE 10.3) / x86_64 | OK | OK | |
| wellington | Linux (openSUSE 10.3) / i686 | OK | OK | |
| liverpool | Windows Server 2003 R2 (32-bit) / x64 | N O T S U P P O R T E D |
| lemming | Windows Server 2003 (32-bit) / x64 | N O T S U P P O R T E D |
ROC 1.13.0 Vince Carey
| Last Changed Rev: 27716 / Revision: 29143 | | Last Changed Date: 2007-10-02 18:16:39 -0700 |
| lamb1 | Linux (SUSE 10.1) / x86_64 | OK | OK | |
| wilson2 | Linux (openSUSE 10.3) / x86_64 | OK | OK | |
| wellington | Linux (openSUSE 10.3) / i686 | OK | OK | |
| liverpool | Windows Server 2003 R2 (32-bit) / x64 | OK | OK | OK |
| lemming | Windows Server 2003 (32-bit) / x64 | OK | OK | OK |
RPostgreSQL 0.0.0 M. Dalphin
| Last Changed Rev: 21881 / Revision: 29143 | | Last Changed Date: 2007-01-08 18:28:57 -0800 |
| lamb1 | Linux (SUSE 10.1) / x86_64 | OK | WARNINGS | |
| wilson2 | Linux (openSUSE 10.3) / x86_64 | OK | WARNINGS | |
| wellington | Linux (openSUSE 10.3) / i686 | OK | WARNINGS | |
| liverpool | Windows Server 2003 R2 (32-bit) / x64 | OK | WARNINGS | OK |
| lemming | Windows Server 2003 (32-bit) / x64 | OK | WARNINGS | OK |
Rredland 1.5.1 VJ Carey
| Last Changed Rev: 25301 / Revision: 29143 | | Last Changed Date: 2007-06-10 10:22:32 -0700 |
| lamb1 | Linux (SUSE 10.1) / x86_64 | OK | OK | |
| wilson2 | Linux (openSUSE 10.3) / x86_64 | OK | OK | |
| wellington | Linux (openSUSE 10.3) / i686 | OK | OK | |
| liverpool | Windows Server 2003 R2 (32-bit) / x64 | N O T S U P P O R T E D |
| lemming | Windows Server 2003 (32-bit) / x64 | N O T S U P P O R T E D |
rsbml 1.5.0 Michael Lawrence
| Last Changed Rev: 28215 / Revision: 29143 | | Last Changed Date: 2007-10-24 23:39:53 -0700 |
| lamb1 | Linux (SUSE 10.1) / x86_64 | OK | WARNINGS | |
| wilson2 | Linux (openSUSE 10.3) / x86_64 | OK | WARNINGS | |
| wellington | Linux (openSUSE 10.3) / i686 | OK | WARNINGS | |
| liverpool | Windows Server 2003 R2 (32-bit) / x64 | OK | WARNINGS | OK |
| lemming | Windows Server 2003 (32-bit) / x64 | OK | WARNINGS | OK |
RSNPper 1.13.0 VJ Carey
| Last Changed Rev: 27716 / Revision: 29143 | | Last Changed Date: 2007-10-02 18:16:39 -0700 |
| lamb1 | Linux (SUSE 10.1) / x86_64 | OK | OK | |
| wilson2 | Linux (openSUSE 10.3) / x86_64 | OK | OK | |
| wellington | Linux (openSUSE 10.3) / i686 | OK | OK | |
| liverpool | Windows Server 2003 R2 (32-bit) / x64 | OK | OK | OK |
| lemming | Windows Server 2003 (32-bit) / x64 | OK | OK | OK |
Rtreemix 1.0.0 Jasmina Bogojeska
| Last Changed Rev: 28790 / Revision: 29143 | | Last Changed Date: 2007-11-16 13:25:16 -0800 |
| lamb1 | Linux (SUSE 10.1) / x86_64 | OK | OK | |
| wilson2 | Linux (openSUSE 10.3) / x86_64 | OK | OK | |
| wellington | Linux (openSUSE 10.3) / i686 | OK | OK | |
| liverpool | Windows Server 2003 R2 (32-bit) / x64 | ERROR | skipped | skipped |
| lemming | Windows Server 2003 (32-bit) / x64 | ERROR | skipped | skipped |
Ruuid 1.17.1 Biocore Team c/o BioC user list
| Last Changed Rev: 27824 / Revision: 29143 | | Last Changed Date: 2007-10-06 15:09:28 -0700 |
| lamb1 | Linux (SUSE 10.1) / x86_64 | OK | OK | |
| wilson2 | Linux (openSUSE 10.3) / x86_64 | OK | OK | |
| wellington | Linux (openSUSE 10.3) / i686 | OK | OK | |
| liverpool | Windows Server 2003 R2 (32-bit) / x64 | OK | OK | OK |
| lemming | Windows Server 2003 (32-bit) / x64 | OK | OK | OK |
RWebServices 1.3.1 Martin Morgan
| Last Changed Rev: 29018 / Revision: 29143 | | Last Changed Date: 2007-12-04 11:08:50 -0800 |
| lamb1 | Linux (SUSE 10.1) / x86_64 | ERROR | skipped | |
| wilson2 | Linux (openSUSE 10.3) / x86_64 | ERROR | skipped | |
| wellington | Linux (openSUSE 10.3) / i686 | ERROR | skipped | |
| liverpool | Windows Server 2003 R2 (32-bit) / x64 | N O T S U P P O R T E D |
| lemming | Windows Server 2003 (32-bit) / x64 | N O T S U P P O R T E D |
|
| S A B C D E F G H I J K L M N O P Q R [S] T U V W X Y Z |
safe 1.11.0 William T. Barry
| Last Changed Rev: 27716 / Revision: 29143 | | Last Changed Date: 2007-10-02 18:16:39 -0700 |
| lamb1 | Linux (SUSE 10.1) / x86_64 | OK | OK | |
| wilson2 | Linux (openSUSE 10.3) / x86_64 | OK | OK | |
| wellington | Linux (openSUSE 10.3) / i686 | OK | OK | |
| liverpool | Windows Server 2003 R2 (32-bit) / x64 | OK | OK | OK |
| lemming | Windows Server 2003 (32-bit) / x64 | OK | OK | OK |
SAGElyzer 1.17.0 Jianhua Zhang
| Last Changed Rev: 27716 / Revision: 29143 | | Last Changed Date: 2007-10-02 18:16:39 -0700 |
| lamb1 | Linux (SUSE 10.1) / x86_64 | OK | WARNINGS | |
| wilson2 | Linux (openSUSE 10.3) / x86_64 | OK | WARNINGS | |
| wellington | Linux (openSUSE 10.3) / i686 | OK | WARNINGS | |
| liverpool | Windows Server 2003 R2 (32-bit) / x64 | OK | WARNINGS | OK |
| lemming | Windows Server 2003 (32-bit) / x64 | OK | WARNINGS | OK |
sagenhaft 1.9.0 Tim Beissbarth
| Last Changed Rev: 27772 / Revision: 29143 | | Last Changed Date: 2007-10-04 18:59:40 -0700 |
| lamb1 | Linux (SUSE 10.1) / x86_64 | OK | OK | |
| wilson2 | Linux (openSUSE 10.3) / x86_64 | OK | OK | |
| wellington | Linux (openSUSE 10.3) / i686 | OK | OK | |
| liverpool | Windows Server 2003 R2 (32-bit) / x64 | OK | OK | OK |
| lemming | Windows Server 2003 (32-bit) / x64 | OK | OK | OK |
SAGx 1.13.0 Per Broberg
| Last Changed Rev: 27716 / Revision: 29143 | | Last Changed Date: 2007-10-02 18:16:39 -0700 |
| lamb1 | Linux (SUSE 10.1) / x86_64 | OK | ERROR | |
| wilson2 | Linux (openSUSE 10.3) / x86_64 | OK | ERROR | |
| wellington | Linux (openSUSE 10.3) / i686 | OK | ERROR | |
| liverpool | Windows Server 2003 R2 (32-bit) / x64 | OK | ERROR | OK |
| lemming | Windows Server 2003 (32-bit) / x64 | OK | ERROR | OK |
SBMLR 1.33.0 Tomas Radivoyevitch
| Last Changed Rev: 28474 / Revision: 29143 | | Last Changed Date: 2007-11-05 11:51:11 -0800 |
| lamb1 | Linux (SUSE 10.1) / x86_64 | OK | ERROR | |
| wilson2 | Linux (openSUSE 10.3) / x86_64 | OK | ERROR | |
| wellington | Linux (openSUSE 10.3) / i686 | OK | ERROR | |
| liverpool | Windows Server 2003 R2 (32-bit) / x64 | OK | ERROR | OK |
| lemming | Windows Server 2003 (32-bit) / x64 | OK | ERROR | OK |
ScISI 1.11.2 Tony Chiang
| Last Changed Rev: 28249 / Revision: 29143 | | Last Changed Date: 2007-10-26 07:11:58 -0700 |
| lamb1 | Linux (SUSE 10.1) / x86_64 | OK | OK | |
| wilson2 | Linux (openSUSE 10.3) / x86_64 | OK | OK | |
| wellington | Linux (openSUSE 10.3) / i686 | OK | OK | |
| liverpool | Windows Server 2003 R2 (32-bit) / x64 | ERROR | skipped | skipped |
| lemming | Windows Server 2003 (32-bit) / x64 | ERROR | skipped | skipped |
SemSim 1.5.0 Xiang Guo
| Last Changed Rev: 29120 / Revision: 29143 | | Last Changed Date: 2007-12-09 21:08:47 -0800 |
| lamb1 | Linux (SUSE 10.1) / x86_64 | OK | OK | |
| wilson2 | Linux (openSUSE 10.3) / x86_64 | OK | OK | |
| wellington | Linux (openSUSE 10.3) / i686 | OK | OK | |
| liverpool | Windows Server 2003 R2 (32-bit) / x64 | OK | OK | OK |
| lemming | Windows Server 2003 (32-bit) / x64 | OK | OK | OK |
seqLogo 1.5.0 Oliver Bembom
| Last Changed Rev: 28473 / Revision: 29143 | | Last Changed Date: 2007-11-05 11:17:44 -0800 |
| lamb1 | Linux (SUSE 10.1) / x86_64 | OK | OK | |
| wilson2 | Linux (openSUSE 10.3) / x86_64 | OK | OK | |
| wellington | Linux (openSUSE 10.3) / i686 | OK | OK | |
| liverpool | Windows Server 2003 R2 (32-bit) / x64 | OK | OK | OK |
| lemming | Windows Server 2003 (32-bit) / x64 | OK | OK | OK |
siggenes 1.13.1 Holger Schwender
| Last Changed Rev: 28186 / Revision: 29143 | | Last Changed Date: 2007-10-24 04:27:42 -0700 |
| lamb1 | Linux (SUSE 10.1) / x86_64 | ERROR | skipped | |
| wilson2 | Linux (openSUSE 10.3) / x86_64 | ERROR | skipped | |
| wellington | Linux (openSUSE 10.3) / i686 | ERROR | skipped | |
| liverpool | Windows Server 2003 R2 (32-bit) / x64 | ERROR | skipped | skipped |
| lemming | Windows Server 2003 (32-bit) / x64 | ERROR | skipped | skipped |
sigPathway 1.7.0 Weil Lai
| Last Changed Rev: 27716 / Revision: 29143 | | Last Changed Date: 2007-10-02 18:16:39 -0700 |
| lamb1 | Linux (SUSE 10.1) / x86_64 | OK | OK | |
| wilson2 | Linux (openSUSE 10.3) / x86_64 | OK | OK | |
| wellington | Linux (openSUSE 10.3) / i686 | OK | OK | |
| liverpool | Windows Server 2003 R2 (32-bit) / x64 | OK | OK | OK |
| lemming | Windows Server 2003 (32-bit) / x64 | OK | OK | OK |
simpleaffy 2.15.02 Crispin Miller
| Last Changed Rev: 27998 / Revision: 29143 | | Last Changed Date: 2007-10-15 07:27:27 -0700 |
| lamb1 | Linux (SUSE 10.1) / x86_64 | OK | OK | |
| wilson2 | Linux (openSUSE 10.3) / x86_64 | OK | OK | |
| wellington | Linux (openSUSE 10.3) / i686 | OK | OK | |
| liverpool | Windows Server 2003 R2 (32-bit) / x64 | OK | OK | OK |
| lemming | Windows Server 2003 (32-bit) / x64 | OK | OK | OK |
simulatorAPMS 1.11.0 Tony Chiang
| Last Changed Rev: 27716 / Revision: 29143 | | Last Changed Date: 2007-10-02 18:16:39 -0700 |
| lamb1 | Linux (SUSE 10.1) / x86_64 | OK | OK | |
| wilson2 | Linux (openSUSE 10.3) / x86_64 | OK | OK | |
| wellington | Linux (openSUSE 10.3) / i686 | OK | OK | |
| liverpool | Windows Server 2003 R2 (32-bit) / x64 | ERROR | skipped | skipped |
| lemming | Windows Server 2003 (32-bit) / x64 | ERROR | skipped | skipped |
sizepower 1.9.0 Weiliang Qiu
| Last Changed Rev: 27716 / Revision: 29143 | | Last Changed Date: 2007-10-02 18:16:39 -0700 |
| lamb1 | Linux (SUSE 10.1) / x86_64 | OK | OK | |
| wilson2 | Linux (openSUSE 10.3) / x86_64 | OK | OK | |
| wellington | Linux (openSUSE 10.3) / i686 | OK | OK | |
| liverpool | Windows Server 2003 R2 (32-bit) / x64 | OK | OK | OK |
| lemming | Windows Server 2003 (32-bit) / x64 | OK | OK | OK |
SLqPCR 1.5.0 Matthias Kohl
| Last Changed Rev: 27716 / Revision: 29143 | | Last Changed Date: 2007-10-02 18:16:39 -0700 |
| lamb1 | Linux (SUSE 10.1) / x86_64 | OK | OK | |
| wilson2 | Linux (openSUSE 10.3) / x86_64 | OK | OK | |
| wellington | Linux (openSUSE 10.3) / i686 | OK | OK | |
| liverpool | Windows Server 2003 R2 (32-bit) / x64 | OK | OK | OK |
| lemming | Windows Server 2003 (32-bit) / x64 | OK | OK | OK |
SMAP 1.3.0 Robin Andersson
| Last Changed Rev: 27716 / Revision: 29143 | | Last Changed Date: 2007-10-02 18:16:39 -0700 |
| lamb1 | Linux (SUSE 10.1) / x86_64 | OK | OK | |
| wilson2 | Linux (openSUSE 10.3) / x86_64 | OK | OK | |
| wellington | Linux (openSUSE 10.3) / i686 | OK | OK | |
| liverpool | Windows Server 2003 R2 (32-bit) / x64 | OK | OK | OK |
| lemming | Windows Server 2003 (32-bit) / x64 | OK | OK | OK |
snapCGH 1.7.0 John Marioni
| Last Changed Rev: 27716 / Revision: 29143 | | Last Changed Date: 2007-10-02 18:16:39 -0700 |
| lamb1 | Linux (SUSE 10.1) / x86_64 | ERROR | skipped | |
| wilson2 | Linux (openSUSE 10.3) / x86_64 | ERROR | skipped | |
| wellington | Linux (openSUSE 10.3) / i686 | ERROR | skipped | |
| liverpool | Windows Server 2003 R2 (32-bit) / x64 | ERROR | skipped | skipped |
| lemming | Windows Server 2003 (32-bit) / x64 | ERROR | skipped | skipped |
SNPchip 1.3.4 Robert Scharpf
| Last Changed Rev: 29014 / Revision: 29143 | | Last Changed Date: 2007-12-04 06:37:34 -0800 |
| lamb1 | Linux (SUSE 10.1) / x86_64 | OK | OK | |
| wilson2 | Linux (openSUSE 10.3) / x86_64 | OK | OK | |
| wellington | Linux (openSUSE 10.3) / i686 | OK | OK | |
| liverpool | Windows Server 2003 R2 (32-bit) / x64 | OK | OK | OK |
| lemming | Windows Server 2003 (32-bit) / x64 | OK | OK | OK |
spikeLI 1.7.0 Enrico Carlon
| Last Changed Rev: 28109 / Revision: 29143 | | Last Changed Date: 2007-10-21 09:10:39 -0700 |
| lamb1 | Linux (SUSE 10.1) / x86_64 | OK | OK | |
| wilson2 | Linux (openSUSE 10.3) / x86_64 | OK | OK | |
| wellington | Linux (openSUSE 10.3) / i686 | OK | OK | |
| liverpool | Windows Server 2003 R2 (32-bit) / x64 | OK | OK | OK |
| lemming | Windows Server 2003 (32-bit) / x64 | OK | OK | OK |
splicegear 1.11.0 Laurent
| Last Changed Rev: 27716 / Revision: 29143 | | Last Changed Date: 2007-10-02 18:16:39 -0700 |
| lamb1 | Linux (SUSE 10.1) / x86_64 | OK | OK | |
| wilson2 | Linux (openSUSE 10.3) / x86_64 | OK | OK | |
| wellington | Linux (openSUSE 10.3) / i686 | OK | OK | |
| liverpool | Windows Server 2003 R2 (32-bit) / x64 | OK | OK | OK |
| lemming | Windows Server 2003 (32-bit) / x64 | OK | OK | OK |
splots 1.5.0 Oleg Sklyar
| Last Changed Rev: 27716 / Revision: 29143 | | Last Changed Date: 2007-10-02 18:16:39 -0700 |
| lamb1 | Linux (SUSE 10.1) / x86_64 | OK | OK | |
| wilson2 | Linux (openSUSE 10.3) / x86_64 | OK | OK | |
| wellington | Linux (openSUSE 10.3) / i686 | OK | OK | |
| liverpool | Windows Server 2003 R2 (32-bit) / x64 | OK | OK | OK |
| lemming | Windows Server 2003 (32-bit) / x64 | OK | OK | OK |
spotSegmentation 1.13.0 Chris Fraley
| Last Changed Rev: 27716 / Revision: 29143 | | Last Changed Date: 2007-10-02 18:16:39 -0700 |
| lamb1 | Linux (SUSE 10.1) / x86_64 | OK | OK | |
| wilson2 | Linux (openSUSE 10.3) / x86_64 | OK | OK | |
| wellington | Linux (openSUSE 10.3) / i686 | OK | OK | |
| liverpool | Windows Server 2003 R2 (32-bit) / x64 | OK | OK | OK |
| lemming | Windows Server 2003 (32-bit) / x64 | OK | OK | OK |
sscore 1.11.0 Richard Kennedy
| Last Changed Rev: 27716 / Revision: 29143 | | Last Changed Date: 2007-10-02 18:16:39 -0700 |
| lamb1 | Linux (SUSE 10.1) / x86_64 | OK | OK | |
| wilson2 | Linux (openSUSE 10.3) / x86_64 | OK | OK | |
| wellington | Linux (openSUSE 10.3) / i686 | OK | OK | |
| liverpool | Windows Server 2003 R2 (32-bit) / x64 | OK | OK | OK |
| lemming | Windows Server 2003 (32-bit) / x64 | OK | OK | OK |
ssize 1.11.0 Gregory R. Warnes
| Last Changed Rev: 27716 / Revision: 29143 | | Last Changed Date: 2007-10-02 18:16:39 -0700 |
| lamb1 | Linux (SUSE 10.1) / x86_64 | OK | OK | |
| wilson2 | Linux (openSUSE 10.3) / x86_64 | OK | OK | |
| wellington | Linux (openSUSE 10.3) / i686 | OK | OK | |
| liverpool | Windows Server 2003 R2 (32-bit) / x64 | OK | OK | OK |
| lemming | Windows Server 2003 (32-bit) / x64 | OK | OK | OK |
stam 1.7.1 Claudio Lottaz
| Last Changed Rev: 28490 / Revision: 29143 | | Last Changed Date: 2007-11-06 01:05:01 -0800 |
| lamb1 | Linux (SUSE 10.1) / x86_64 | ERROR | skipped | |
| wilson2 | Linux (openSUSE 10.3) / x86_64 | ERROR | skipped | |
| wellington | Linux (openSUSE 10.3) / i686 | ERROR | skipped | |
| liverpool | Windows Server 2003 R2 (32-bit) / x64 | ERROR | skipped | skipped |
| lemming | Windows Server 2003 (32-bit) / x64 | ERROR | skipped | skipped |
stepNorm 1.11.0 Yuanyuan Xiao
| Last Changed Rev: 27716 / Revision: 29143 | | Last Changed Date: 2007-10-02 18:16:39 -0700 |
| lamb1 | Linux (SUSE 10.1) / x86_64 | OK | ERROR | |
| wilson2 | Linux (openSUSE 10.3) / x86_64 | OK | ERROR | |
| wellington | Linux (openSUSE 10.3) / i686 | OK | ERROR | |
| liverpool | Windows Server 2003 R2 (32-bit) / x64 | OK | ERROR | OK |
| lemming | Windows Server 2003 (32-bit) / x64 | OK | ERROR | OK |
|
| T A B C D E F G H I J K L M N O P Q R S [T] U V W X Y Z |
tilingArray 1.17.1 W. Huber
| Last Changed Rev: 28427 / Revision: 29143 | | Last Changed Date: 2007-11-03 08:56:23 -0700 |
| lamb1 | Linux (SUSE 10.1) / x86_64 | OK | OK | |
| wilson2 | Linux (openSUSE 10.3) / x86_64 | OK | OK | |
| wellington | Linux (openSUSE 10.3) / i686 | OK | OK | |
| liverpool | Windows Server 2003 R2 (32-bit) / x64 | OK | OK | OK |
| lemming | Windows Server 2003 (32-bit) / x64 | OK | OK | OK |
timecourse 1.11.0 Yu Chuan Tai
| Last Changed Rev: 28301 / Revision: 29143 | | Last Changed Date: 2007-10-29 18:15:54 -0700 |
| lamb1 | Linux (SUSE 10.1) / x86_64 | OK | OK | |
| wilson2 | Linux (openSUSE 10.3) / x86_64 | OK | OK | |
| wellington | Linux (openSUSE 10.3) / i686 | OK | OK | |
| liverpool | Windows Server 2003 R2 (32-bit) / x64 | OK | OK | OK |
| lemming | Windows Server 2003 (32-bit) / x64 | OK | OK | OK |
tkWidgets 1.17.0 J. Zhang
| Last Changed Rev: 27716 / Revision: 29143 | | Last Changed Date: 2007-10-02 18:16:39 -0700 |
| lamb1 | Linux (SUSE 10.1) / x86_64 | OK | ERROR | |
| wilson2 | Linux (openSUSE 10.3) / x86_64 | OK | ERROR | |
| wellington | Linux (openSUSE 10.3) / i686 | OK | ERROR | |
| liverpool | Windows Server 2003 R2 (32-bit) / x64 | OK | ERROR | OK |
| lemming | Windows Server 2003 (32-bit) / x64 | OK | ERROR | OK |
topGO 1.5.0 Adrian Alexa
| Last Changed Rev: 27716 / Revision: 29143 | | Last Changed Date: 2007-10-02 18:16:39 -0700 |
| lamb1 | Linux (SUSE 10.1) / x86_64 | OK | WARNINGS | |
| wilson2 | Linux (openSUSE 10.3) / x86_64 | OK | WARNINGS | |
| wellington | Linux (openSUSE 10.3) / i686 | OK | WARNINGS | |
| liverpool | Windows Server 2003 R2 (32-bit) / x64 | ERROR | skipped | skipped |
| lemming | Windows Server 2003 (32-bit) / x64 | ERROR | skipped | skipped |
twilight 1.15.1 Stefanie Scheid
| Last Changed Rev: 27780 / Revision: 29143 | | Last Changed Date: 2007-10-05 10:49:58 -0700 |
| lamb1 | Linux (SUSE 10.1) / x86_64 | OK | OK | |
| wilson2 | Linux (openSUSE 10.3) / x86_64 | OK | OK | |
| wellington | Linux (openSUSE 10.3) / i686 | OK | OK | |
| liverpool | Windows Server 2003 R2 (32-bit) / x64 | OK | OK | OK |
| lemming | Windows Server 2003 (32-bit) / x64 | OK | OK | OK |
TypeInfo 1.5.0 Duncan Temple Lang
| Last Changed Rev: 27716 / Revision: 29143 | | Last Changed Date: 2007-10-02 18:16:39 -0700 |
| lamb1 | Linux (SUSE 10.1) / x86_64 | OK | OK | |
| wilson2 | Linux (openSUSE 10.3) / x86_64 | OK | OK | |
| wellington | Linux (openSUSE 10.3) / i686 | OK | OK | |
| liverpool | Windows Server 2003 R2 (32-bit) / x64 | OK | OK | OK |
| lemming | Windows Server 2003 (32-bit) / x64 | OK | OK | OK |
|
| V A B C D E F G H I J K L M N O P Q R S T U [V] W X Y Z |
VanillaICE 1.1.3 Robert Scharpf
| Last Changed Rev: 28928 / Revision: 29143 | | Last Changed Date: 2007-11-27 07:23:14 -0800 |
| lamb1 | Linux (SUSE 10.1) / x86_64 | OK | OK | |
| wilson2 | Linux (openSUSE 10.3) / x86_64 | OK | OK | |
| wellington | Linux (openSUSE 10.3) / i686 | OK | OK | |
| liverpool | Windows Server 2003 R2 (32-bit) / x64 | OK | OK | OK |
| lemming | Windows Server 2003 (32-bit) / x64 | OK | OK | OK |
vbmp 1.7.0 Nicola Lama
| Last Changed Rev: 27716 / Revision: 29143 | | Last Changed Date: 2007-10-02 18:16:39 -0700 |
| lamb1 | Linux (SUSE 10.1) / x86_64 | OK | OK | |
| wilson2 | Linux (openSUSE 10.3) / x86_64 | OK | OK | |
| wellington | Linux (openSUSE 10.3) / i686 | OK | OK | |
| liverpool | Windows Server 2003 R2 (32-bit) / x64 | OK | OK | OK |
| lemming | Windows Server 2003 (32-bit) / x64 | OK | OK | OK |
vsn 3.4.1 Wolfgang Huber
| Last Changed Rev: 28963 / Revision: 29143 | | Last Changed Date: 2007-11-29 03:23:05 -0800 |
| lamb1 | Linux (SUSE 10.1) / x86_64 | OK | WARNINGS | |
| wilson2 | Linux (openSUSE 10.3) / x86_64 | OK | WARNINGS | |
| wellington | Linux (openSUSE 10.3) / i686 | OK | WARNINGS | |
| liverpool | Windows Server 2003 R2 (32-bit) / x64 | OK | WARNINGS | OK |
| lemming | Windows Server 2003 (32-bit) / x64 | OK | WARNINGS | OK |
|
| W A B C D E F G H I J K L M N O P Q R S T U V [W] X Y Z |
weaver 1.5.0 Seth Falcon
| Last Changed Rev: 28274 / Revision: 29143 | | Last Changed Date: 2007-10-27 09:39:38 -0700 |
| lamb1 | Linux (SUSE 10.1) / x86_64 | OK | OK | |
| wilson2 | Linux (openSUSE 10.3) / x86_64 | OK | OK | |
| wellington | Linux (openSUSE 10.3) / i686 | OK | OK | |
| liverpool | Windows Server 2003 R2 (32-bit) / x64 | OK | OK | OK |
| lemming | Windows Server 2003 (32-bit) / x64 | OK | OK | OK |
webbioc 1.11.0 Colin A. Smith
| Last Changed Rev: 27716 / Revision: 29143 | | Last Changed Date: 2007-10-02 18:16:39 -0700 |
| lamb1 | Linux (SUSE 10.1) / x86_64 | OK | OK | |
| wilson2 | Linux (openSUSE 10.3) / x86_64 | OK | OK | |
| wellington | Linux (openSUSE 10.3) / i686 | OK | OK | |
| liverpool | Windows Server 2003 R2 (32-bit) / x64 | OK | OK | OK |
| lemming | Windows Server 2003 (32-bit) / x64 | OK | OK | OK |
widgetInvoke 1.11.0 Jeff Gentry
| Last Changed Rev: 27716 / Revision: 29143 | | Last Changed Date: 2007-10-02 18:16:39 -0700 |
| lamb1 | Linux (SUSE 10.1) / x86_64 | OK | OK | |
| wilson2 | Linux (openSUSE 10.3) / x86_64 | OK | OK | |
| wellington | Linux (openSUSE 10.3) / i686 | OK | OK | |
| liverpool | Windows Server 2003 R2 (32-bit) / x64 | N O T S U P P O R T E D |
| lemming | Windows Server 2003 (32-bit) / x64 | N O T S U P P O R T E D |
widgetTools 1.15.0 Jianhua Zhang
| Last Changed Rev: 27716 / Revision: 29143 | | Last Changed Date: 2007-10-02 18:16:39 -0700 |
| lamb1 | Linux (SUSE 10.1) / x86_64 | OK | OK | |
| wilson2 | Linux (openSUSE 10.3) / x86_64 | OK | OK | |
| wellington | Linux (openSUSE 10.3) / i686 | OK | OK | |
| liverpool | Windows Server 2003 R2 (32-bit) / x64 | OK | OK | OK |
| lemming | Windows Server 2003 (32-bit) / x64 | OK | OK | OK |
|
| X A B C D E F G H I J K L M N O P Q R S T U V W [X] Y Z |
xcms 1.11.11 Colin A. Smith
| Last Changed Rev: 29091 / Revision: 29143 | | Last Changed Date: 2007-12-07 04:36:59 -0800 |
| lamb1 | Linux (SUSE 10.1) / x86_64 | ERROR | skipped | |
| wilson2 | Linux (openSUSE 10.3) / x86_64 | ERROR | skipped | |
| wellington | Linux (openSUSE 10.3) / i686 | ERROR | skipped | |
| liverpool | Windows Server 2003 R2 (32-bit) / x64 | ERROR | skipped | skipped |
| lemming | Windows Server 2003 (32-bit) / x64 | ERROR | skipped | skipped |
xps 0.3.12 Christian Stratowa
| Last Changed Rev: 28904 / Revision: 29143 | | Last Changed Date: 2007-11-25 13:04:33 -0800 |
| lamb1 | Linux (SUSE 10.1) / x86_64 | OK | OK | |
| wilson2 | Linux (openSUSE 10.3) / x86_64 | ERROR | skipped | |
| wellington | Linux (openSUSE 10.3) / i686 | ERROR | skipped | |
| liverpool | Windows Server 2003 R2 (32-bit) / x64 | N O T S U P P O R T E D |
| lemming | Windows Server 2003 (32-bit) / x64 | N O T S U P P O R T E D |
|
| Y A B C D E F G H I J K L M N O P Q R S T U V W X [Y] Z |
yaqcaffy 0.99.1 Laurent Gatto
| Last Changed Rev: 28077 / Revision: 29143 | | Last Changed Date: 2007-10-19 06:58:49 -0700 |
| lamb1 | Linux (SUSE 10.1) / x86_64 | OK | OK | |
| wilson2 | Linux (openSUSE 10.3) / x86_64 | OK | OK | |
| wellington | Linux (openSUSE 10.3) / i686 | OK | OK | |
| liverpool | Windows Server 2003 R2 (32-bit) / x64 | OK | OK | OK |
| lemming | Windows Server 2003 (32-bit) / x64 | OK | OK | OK |