| NCIgraphData 0.99.4 Laurent Jacob
 
 | Snapshot Date: 2012-06-21 11:15:08 -0700 (Thu, 21 Jun 2012) |  | URL: https://hedgehog.fhcrc.org/bioc-data/trunk/experiment/pkgs/NCIgraphData |  | Last Changed Rev: 2037 / Revision: 2088 |  | Last Changed Date: 2012-03-30 15:20:09 -0700 (Fri, 30 Mar 2012) | 
 | lamb1 | Linux (openSUSE 12.1) / x86_64 | OK | WARNINGS |  | 
| moscato1 | Windows Server 2008 R2 Enterprise SP1 (64-bit) / x64 | OK | ERROR | OK | 
| pitt | Mac OS X Leopard (10.5.8) / i386 | OK | WARNINGS | [ OK ] | 
| perceval | Mac OS X Leopard (10.5.8) / i386 | OK | WARNINGS | OK | 
>>>>>>> 
>>>>>>> INSTALLATION WITH 'R CMD INSTALL --preclean --no-multiarch --library=NCIgraphData.buildbin-libdir NCIgraphData_0.99.4.tar.gz'
>>>>>>> 
* installing *source* package 'NCIgraphData' ...
** data
**  moving datasets to lazyload DB
** help
*** installing help indices
** building package indices
** testing if installed package can be loaded
* DONE (NCIgraphData)