| lamb1 |
Linux (openSUSE 12.1) / x86_64 | | | |
| moscato1 |
Windows Server 2008 R2 Enterprise SP1 (64-bit) / x64 | | | |
| perceval |
Mac OS X Leopard (10.5.8) / i386 | | | |
affycompData 1.1.4 Harris Jaffee
| Last Changed Rev: 2168 / Revision: 2286 | | Last Changed Date: 2012-10-01 10:57:19 -0700 |
| lamb1 | Linux (openSUSE 12.1) / x86_64 | OK | OK | |
| moscato1 | Windows Server 2008 R2 Enterprise SP1 (64-bit) / x64 | OK | OK | OK |
| perceval | Mac OS X Leopard (10.5.8) / i386 | OK | OK | OK |
affydata 1.11.17 Harris Jaffee
| Last Changed Rev: 2168 / Revision: 2286 | | Last Changed Date: 2012-10-01 10:57:19 -0700 |
| lamb1 | Linux (openSUSE 12.1) / x86_64 | OK | WARNINGS | |
| moscato1 | Windows Server 2008 R2 Enterprise SP1 (64-bit) / x64 | OK | WARNINGS | OK |
| perceval | Mac OS X Leopard (10.5.8) / i386 | OK | WARNINGS | OK |
AffymetrixDataTestFiles 0.1.5 Henrik Bengtsson
| Last Changed Rev: 2168 / Revision: 2286 | | Last Changed Date: 2012-10-01 10:57:19 -0700 |
| lamb1 | Linux (openSUSE 12.1) / x86_64 | OK | OK | |
| moscato1 | Windows Server 2008 R2 Enterprise SP1 (64-bit) / x64 | OK | OK | OK |
| perceval | Mac OS X Leopard (10.5.8) / i386 | OK | OK | OK |
ALL 1.4.13 Robert Gentleman
| Last Changed Rev: 2168 / Revision: 2286 | | Last Changed Date: 2012-10-01 10:57:19 -0700 |
| lamb1 | Linux (openSUSE 12.1) / x86_64 | OK | OK | |
| moscato1 | Windows Server 2008 R2 Enterprise SP1 (64-bit) / x64 | OK | OK | OK |
| perceval | Mac OS X Leopard (10.5.8) / i386 | OK | OK | OK |
ALLMLL 1.2.13 B. M. Bolstad
| Last Changed Rev: 2168 / Revision: 2286 | | Last Changed Date: 2012-10-01 10:57:19 -0700 |
| lamb1 | Linux (openSUSE 12.1) / x86_64 | OK | OK | |
| moscato1 | Windows Server 2008 R2 Enterprise SP1 (64-bit) / x64 | OK | OK | OK |
| perceval | Mac OS X Leopard (10.5.8) / i386 | OK | OK | OK |
AmpAffyExample 1.2.11 Rafael A. Irizarry
| Last Changed Rev: 2168 / Revision: 2286 | | Last Changed Date: 2012-10-01 10:57:19 -0700 |
| lamb1 | Linux (openSUSE 12.1) / x86_64 | OK | WARNINGS | |
| moscato1 | Windows Server 2008 R2 Enterprise SP1 (64-bit) / x64 | OK | WARNINGS | OK |
| perceval | Mac OS X Leopard (10.5.8) / i386 | OK | WARNINGS | OK |
beadarrayExampleData 1.0.5 Mark Dunning
| Last Changed Rev: 2168 / Revision: 2286 | | Last Changed Date: 2012-10-01 10:57:19 -0700 |
| lamb1 | Linux (openSUSE 12.1) / x86_64 | OK | OK | |
| moscato1 | Windows Server 2008 R2 Enterprise SP1 (64-bit) / x64 | OK | OK | OK |
| perceval | Mac OS X Leopard (10.5.8) / i386 | OK | OK | OK |
BeadArrayUseCases 1.0.9 Mike Smith
| Last Changed Rev: 2168 / Revision: 2286 | | Last Changed Date: 2012-10-01 10:57:19 -0700 |
| lamb1 | Linux (openSUSE 12.1) / x86_64 | OK | OK | |
| moscato1 | Windows Server 2008 R2 Enterprise SP1 (64-bit) / x64 | OK | OK | OK |
| perceval | Mac OS X Leopard (10.5.8) / i386 | OK | OK | OK |
beta7 1.0.4 Jean Yang
| Last Changed Rev: 2168 / Revision: 2286 | | Last Changed Date: 2012-10-01 10:57:19 -0700 |
| lamb1 | Linux (openSUSE 12.1) / x86_64 | OK | WARNINGS | |
| moscato1 | Windows Server 2008 R2 Enterprise SP1 (64-bit) / x64 | OK | WARNINGS | OK |
| perceval | Mac OS X Leopard (10.5.8) / i386 | OK | WARNINGS | OK |
bladderbatch 1.0.4 Jeffrey T. Leek
| Last Changed Rev: 2168 / Revision: 2286 | | Last Changed Date: 2012-10-01 10:57:19 -0700 |
| lamb1 | Linux (openSUSE 12.1) / x86_64 | OK | WARNINGS | |
| moscato1 | Windows Server 2008 R2 Enterprise SP1 (64-bit) / x64 | OK | WARNINGS | OK |
| perceval | Mac OS X Leopard (10.5.8) / i386 | OK | WARNINGS | OK |
breastCancerMAINZ 1.0.4 Markus Schroeder , Benjamin Haibe-Kains
| Last Changed Rev: 2168 / Revision: 2286 | | Last Changed Date: 2012-10-01 10:57:19 -0700 |
| lamb1 | Linux (openSUSE 12.1) / x86_64 | OK | WARNINGS | |
| moscato1 | Windows Server 2008 R2 Enterprise SP1 (64-bit) / x64 | OK | WARNINGS | OK |
| perceval | Mac OS X Leopard (10.5.8) / i386 | OK | WARNINGS | OK |
breastCancerNKI 1.0.4 Markus Schroeder , Benjamin Haibe-Kains
| Last Changed Rev: 2168 / Revision: 2286 | | Last Changed Date: 2012-10-01 10:57:19 -0700 |
| lamb1 | Linux (openSUSE 12.1) / x86_64 | OK | WARNINGS | |
| moscato1 | Windows Server 2008 R2 Enterprise SP1 (64-bit) / x64 | OK | WARNINGS | OK |
| perceval | Mac OS X Leopard (10.5.8) / i386 | OK | WARNINGS | OK |
breastCancerTRANSBIG 1.0.4 Markus Schroeder , Benjamin Haibe-Kains
| Last Changed Rev: 2168 / Revision: 2286 | | Last Changed Date: 2012-10-01 10:57:19 -0700 |
| lamb1 | Linux (openSUSE 12.1) / x86_64 | OK | WARNINGS | |
| moscato1 | Windows Server 2008 R2 Enterprise SP1 (64-bit) / x64 | OK | WARNINGS | OK |
| perceval | Mac OS X Leopard (10.5.8) / i386 | OK | WARNINGS | OK |
breastCancerUNT 1.0.4 Markus Schroeder , Benjamin Haibe-Kains
| Last Changed Rev: 2168 / Revision: 2286 | | Last Changed Date: 2012-10-01 10:57:19 -0700 |
| lamb1 | Linux (openSUSE 12.1) / x86_64 | OK | WARNINGS | |
| moscato1 | Windows Server 2008 R2 Enterprise SP1 (64-bit) / x64 | OK | WARNINGS | OK |
| perceval | Mac OS X Leopard (10.5.8) / i386 | OK | WARNINGS | OK |
breastCancerUPP 1.0.4 Markus Schroeder , Benjamin Haibe-Kains
| Last Changed Rev: 2168 / Revision: 2286 | | Last Changed Date: 2012-10-01 10:57:19 -0700 |
| lamb1 | Linux (openSUSE 12.1) / x86_64 | OK | WARNINGS | |
| moscato1 | Windows Server 2008 R2 Enterprise SP1 (64-bit) / x64 | OK | WARNINGS | OK |
| perceval | Mac OS X Leopard (10.5.8) / i386 | OK | WARNINGS | OK |
breastCancerVDX 1.0.4 Markus Schroeder , Benjamin Haibe-Kains
| Last Changed Rev: 2168 / Revision: 2286 | | Last Changed Date: 2012-10-01 10:57:19 -0700 |
| lamb1 | Linux (openSUSE 12.1) / x86_64 | OK | WARNINGS | |
| moscato1 | Windows Server 2008 R2 Enterprise SP1 (64-bit) / x64 | OK | WARNINGS | OK |
| perceval | Mac OS X Leopard (10.5.8) / i386 | OK | WARNINGS | OK |
bronchialIL13 1.0.10 Vince Carey
| Last Changed Rev: 2168 / Revision: 2286 | | Last Changed Date: 2012-10-01 10:57:19 -0700 |
| lamb1 | Linux (openSUSE 12.1) / x86_64 | OK | OK | |
| moscato1 | Windows Server 2008 R2 Enterprise SP1 (64-bit) / x64 | OK | OK | OK |
| perceval | Mac OS X Leopard (10.5.8) / i386 | OK | OK | OK |
bsseqData 0.1.2 Kasper Daniel Hansen
| Last Changed Rev: 2168 / Revision: 2286 | | Last Changed Date: 2012-10-01 10:57:19 -0700 |
| lamb1 | Linux (openSUSE 12.1) / x86_64 | OK | OK | |
| moscato1 | Windows Server 2008 R2 Enterprise SP1 (64-bit) / x64 | OK | OK | OK |
| perceval | Mac OS X Leopard (10.5.8) / i386 | OK | OK | OK |
cancerdata 1.1.1 Daniel Kosztyla
| Last Changed Rev: 2168 / Revision: 2286 | | Last Changed Date: 2012-10-01 10:57:19 -0700 |
| lamb1 | Linux (openSUSE 12.1) / x86_64 | OK | OK | |
| moscato1 | Windows Server 2008 R2 Enterprise SP1 (64-bit) / x64 | OK | OK | OK |
| perceval | Mac OS X Leopard (10.5.8) / i386 | OK | OK | OK |
CCl4 1.0.13 Audrey Kauffmann
| Last Changed Rev: 2168 / Revision: 2286 | | Last Changed Date: 2012-10-01 10:57:19 -0700 |
| lamb1 | Linux (openSUSE 12.1) / x86_64 | OK | WARNINGS | |
| moscato1 | Windows Server 2008 R2 Enterprise SP1 (64-bit) / x64 | OK | WARNINGS | OK |
| perceval | Mac OS X Leopard (10.5.8) / i386 | OK | WARNINGS | OK |
ccTutorial 1.0.22 Joern Toedling
| Last Changed Rev: 2168 / Revision: 2286 | | Last Changed Date: 2012-10-01 10:57:19 -0700 |
| lamb1 | Linux (openSUSE 12.1) / x86_64 | OK | OK | |
| moscato1 | Windows Server 2008 R2 Enterprise SP1 (64-bit) / x64 | OK | OK | OK |
| perceval | Mac OS X Leopard (10.5.8) / i386 | OK | OK | OK |
ceu1kg 0.0.31 VJ Carey
| Last Changed Rev: 2168 / Revision: 2286 | | Last Changed Date: 2012-10-01 10:57:19 -0700 |
| lamb1 | Linux (openSUSE 12.1) / x86_64 | OK | OK | |
| moscato1 | Windows Server 2008 R2 Enterprise SP1 (64-bit) / x64 | OK | OK | OK |
| perceval | Mac OS X Leopard (10.5.8) / i386 | OK | OK | OK |
ceuhm3 0.0.14 VJ Carey
| Last Changed Rev: 2168 / Revision: 2286 | | Last Changed Date: 2012-10-01 10:57:19 -0700 |
| lamb1 | Linux (openSUSE 12.1) / x86_64 | OK | OK | |
| moscato1 | Windows Server 2008 R2 Enterprise SP1 (64-bit) / x64 | OK | OK | OK |
| perceval | Mac OS X Leopard (10.5.8) / i386 | OK | OK | OK |
cgdv17 0.0.19 VJ Carey
| Last Changed Rev: 2187 / Revision: 2286 | | Last Changed Date: 2013-01-09 10:56:08 -0800 |
| lamb1 | Linux (openSUSE 12.1) / x86_64 | ERROR | skipped | |
| moscato1 | Windows Server 2008 R2 Enterprise SP1 (64-bit) / x64 | ERROR | skipped | skipped |
| perceval | Mac OS X Leopard (10.5.8) / i386 | ERROR | skipped | skipped |
charmData 0.99.7 Martin Aryee
| Last Changed Rev: 2168 / Revision: 2286 | | Last Changed Date: 2012-10-01 10:57:19 -0700 |
| lamb1 | Linux (openSUSE 12.1) / x86_64 | OK | WARNINGS | |
| moscato1 | Windows Server 2008 R2 Enterprise SP1 (64-bit) / x64 | OK | WARNINGS | OK |
| perceval | Mac OS X Leopard (10.5.8) / i386 | OK | WARNINGS | OK |
cheung2010 0.0.26 Vince Carey
| Last Changed Rev: 2168 / Revision: 2286 | | Last Changed Date: 2012-10-01 10:57:19 -0700 |
| lamb1 | Linux (openSUSE 12.1) / x86_64 | OK | OK | |
| moscato1 | Windows Server 2008 R2 Enterprise SP1 (64-bit) / x64 | OK | OK | OK |
| perceval | Mac OS X Leopard (10.5.8) / i386 | OK | OK | OK |
ChIPXpressData 0.99.1 George Wu
| Last Changed Rev: 2261 / Revision: 2286 | | Last Changed Date: 2013-03-19 12:26:59 -0700 |
| lamb1 | Linux (openSUSE 12.1) / x86_64 | OK | OK | |
| moscato1 | Windows Server 2008 R2 Enterprise SP1 (64-bit) / x64 | N O T S U P P O R T E D |
| perceval | Mac OS X Leopard (10.5.8) / i386 | OK | OK | OK |
CLL 1.2.13 Robert Gentleman
| Last Changed Rev: 2168 / Revision: 2286 | | Last Changed Date: 2012-10-01 10:57:19 -0700 |
| lamb1 | Linux (openSUSE 12.1) / x86_64 | OK | OK | |
| moscato1 | Windows Server 2008 R2 Enterprise SP1 (64-bit) / x64 | OK | OK | OK |
| perceval | Mac OS X Leopard (10.5.8) / i386 | OK | OK | OK |
cnvGSAdata 0.99.3 Robert Ziman
| Last Changed Rev: 2168 / Revision: 2286 | | Last Changed Date: 2012-10-01 10:57:19 -0700 |
| lamb1 | Linux (openSUSE 12.1) / x86_64 | OK | OK | |
| moscato1 | Windows Server 2008 R2 Enterprise SP1 (64-bit) / x64 | OK | OK | OK |
| perceval | Mac OS X Leopard (10.5.8) / i386 | OK | OK | OK |
colonCA 1.4.10 W Sylvia Merk
| Last Changed Rev: 2168 / Revision: 2286 | | Last Changed Date: 2012-10-01 10:57:19 -0700 |
| lamb1 | Linux (openSUSE 12.1) / x86_64 | OK | WARNINGS | |
| moscato1 | Windows Server 2008 R2 Enterprise SP1 (64-bit) / x64 | OK | WARNINGS | OK |
| perceval | Mac OS X Leopard (10.5.8) / i386 | OK | WARNINGS | OK |
davidTiling 1.2.16 Wolfgang Huber
| Last Changed Rev: 2168 / Revision: 2286 | | Last Changed Date: 2012-10-01 10:57:19 -0700 |
| lamb1 | Linux (openSUSE 12.1) / x86_64 | OK | OK | |
| moscato1 | Windows Server 2008 R2 Enterprise SP1 (64-bit) / x64 | OK | OK | OK |
| perceval | Mac OS X Leopard (10.5.8) / i386 | OK | OK | OK |
DLBCL 1.3.5 Marcus Dittrich
| Last Changed Rev: 2168 / Revision: 2286 | | Last Changed Date: 2012-10-01 10:57:19 -0700 |
| lamb1 | Linux (openSUSE 12.1) / x86_64 | OK | WARNINGS | |
| moscato1 | Windows Server 2008 R2 Enterprise SP1 (64-bit) / x64 | OK | WARNINGS | OK |
| perceval | Mac OS X Leopard (10.5.8) / i386 | OK | WARNINGS | OK |
dressCheck 0.1.6 Vincent Carey
| Last Changed Rev: 2168 / Revision: 2286 | | Last Changed Date: 2012-10-01 10:57:19 -0700 |
| lamb1 | Linux (openSUSE 12.1) / x86_64 | OK | OK | |
| moscato1 | Windows Server 2008 R2 Enterprise SP1 (64-bit) / x64 | OK | OK | OK |
| perceval | Mac OS X Leopard (10.5.8) / i386 | OK | OK | OK |
dsQTL 0.0.22 VJ Carey
| Last Changed Rev: 2174 / Revision: 2286 | | Last Changed Date: 2012-10-10 11:45:45 -0700 |
| lamb1 | Linux (openSUSE 12.1) / x86_64 | OK | OK | |
| moscato1 | Windows Server 2008 R2 Enterprise SP1 (64-bit) / x64 | OK | OK | OK |
| perceval | Mac OS X Leopard (10.5.8) / i386 | OK | OK | OK |
dyebiasexamples 1.0.9 Philip Lijnzaad
| Last Changed Rev: 2168 / Revision: 2286 | | Last Changed Date: 2012-10-01 10:57:19 -0700 |
| lamb1 | Linux (openSUSE 12.1) / x86_64 | OK | WARNINGS | |
| moscato1 | Windows Server 2008 R2 Enterprise SP1 (64-bit) / x64 | OK | WARNINGS | OK |
| perceval | Mac OS X Leopard (10.5.8) / i386 | OK | WARNINGS | OK |
EatonEtAlChIPseq 0.0.8 Patrick Aboyoun
| Last Changed Rev: 2168 / Revision: 2286 | | Last Changed Date: 2012-10-01 10:57:19 -0700 |
| lamb1 | Linux (openSUSE 12.1) / x86_64 | OK | OK | |
| moscato1 | Windows Server 2008 R2 Enterprise SP1 (64-bit) / x64 | OK | OK | OK |
| perceval | Mac OS X Leopard (10.5.8) / i386 | OK | OK | OK |
ecoliLeucine 1.2.9 Laurent Gautier
| Last Changed Rev: 2168 / Revision: 2286 | | Last Changed Date: 2012-10-01 10:57:19 -0700 |
| lamb1 | Linux (openSUSE 12.1) / x86_64 | OK | WARNINGS | |
| moscato1 | Windows Server 2008 R2 Enterprise SP1 (64-bit) / x64 | OK | WARNINGS | OK |
| perceval | Mac OS X Leopard (10.5.8) / i386 | OK | WARNINGS | OK |
encoDnaseI 0.1.15 VJ Carey
| Last Changed Rev: 2168 / Revision: 2286 | | Last Changed Date: 2012-10-01 10:57:19 -0700 |
| lamb1 | Linux (openSUSE 12.1) / x86_64 | OK | OK | |
| moscato1 | Windows Server 2008 R2 Enterprise SP1 (64-bit) / x64 | OK | OK | OK |
| perceval | Mac OS X Leopard (10.5.8) / i386 | OK | OK | OK |
estrogen 1.8.9 R. Gentleman
| Last Changed Rev: 2168 / Revision: 2286 | | Last Changed Date: 2012-10-01 10:57:19 -0700 |
| lamb1 | Linux (openSUSE 12.1) / x86_64 | OK | OK | |
| moscato1 | Windows Server 2008 R2 Enterprise SP1 (64-bit) / x64 | OK | OK | OK |
| perceval | Mac OS X Leopard (10.5.8) / i386 | OK | OK | OK |
faahKO 1.2.12 Colin A. Smith
| Last Changed Rev: 2168 / Revision: 2286 | | Last Changed Date: 2012-10-01 10:57:19 -0700 |
| lamb1 | Linux (openSUSE 12.1) / x86_64 | OK | WARNINGS | |
| moscato1 | Windows Server 2008 R2 Enterprise SP1 (64-bit) / x64 | OK | WARNINGS | OK |
| perceval | Mac OS X Leopard (10.5.8) / i386 | OK | WARNINGS | OK |
fabiaData 1.0.1 Sepp Hochreiter
| Last Changed Rev: 2168 / Revision: 2286 | | Last Changed Date: 2012-10-01 10:57:19 -0700 |
| lamb1 | Linux (openSUSE 12.1) / x86_64 | OK | OK | |
| moscato1 | Windows Server 2008 R2 Enterprise SP1 (64-bit) / x64 | OK | OK | OK |
| perceval | Mac OS X Leopard (10.5.8) / i386 | OK | OK | OK |
facsDorit 1.4.6 Florian Hahne
| Last Changed Rev: 2168 / Revision: 2286 | | Last Changed Date: 2012-10-01 10:57:19 -0700 |
| lamb1 | Linux (openSUSE 12.1) / x86_64 | OK | OK | |
| moscato1 | Windows Server 2008 R2 Enterprise SP1 (64-bit) / x64 | OK | OK | OK |
| perceval | Mac OS X Leopard (10.5.8) / i386 | OK | OK | OK |
ffpeExampleData 1.0.2 Levi Waldron
| Last Changed Rev: 2168 / Revision: 2286 | | Last Changed Date: 2012-10-01 10:57:19 -0700 |
| lamb1 | Linux (openSUSE 12.1) / x86_64 | OK | OK | |
| moscato1 | Windows Server 2008 R2 Enterprise SP1 (64-bit) / x64 | OK | OK | OK |
| perceval | Mac OS X Leopard (10.5.8) / i386 | OK | OK | OK |
fibroEset 1.4.8 Sylvia Merk
| Last Changed Rev: 2168 / Revision: 2286 | | Last Changed Date: 2012-10-01 10:57:19 -0700 |
| lamb1 | Linux (openSUSE 12.1) / x86_64 | OK | WARNINGS | |
| moscato1 | Windows Server 2008 R2 Enterprise SP1 (64-bit) / x64 | OK | WARNINGS | OK |
| perceval | Mac OS X Leopard (10.5.8) / i386 | OK | WARNINGS | OK |
flowWorkspaceData 0.99.8 Greg Finak
| Last Changed Rev: 2168 / Revision: 2286 | | Last Changed Date: 2012-10-01 10:57:19 -0700 |
| lamb1 | Linux (openSUSE 12.1) / x86_64 | OK | OK | |
| moscato1 | Windows Server 2008 R2 Enterprise SP1 (64-bit) / x64 | OK | OK | OK |
| perceval | Mac OS X Leopard (10.5.8) / i386 | OK | OK | OK |
frmaExampleData 0.99.4 Matthew N. McCall
| Last Changed Rev: 2168 / Revision: 2286 | | Last Changed Date: 2012-10-01 10:57:19 -0700 |
| lamb1 | Linux (openSUSE 12.1) / x86_64 | OK | WARNINGS | |
| moscato1 | Windows Server 2008 R2 Enterprise SP1 (64-bit) / x64 | OK | WARNINGS | OK |
| perceval | Mac OS X Leopard (10.5.8) / i386 | OK | WARNINGS | OK |
FunciSNP.data 0.99.1 Simon G. Coetzee
| Last Changed Rev: 2168 / Revision: 2286 | | Last Changed Date: 2012-10-01 10:57:19 -0700 |
| lamb1 | Linux (openSUSE 12.1) / x86_64 | OK | OK | |
| moscato1 | Windows Server 2008 R2 Enterprise SP1 (64-bit) / x64 | OK | OK | OK |
| perceval | Mac OS X Leopard (10.5.8) / i386 | OK | OK | OK |
gageData 1.1.5 Weijun Luo
| Last Changed Rev: 2168 / Revision: 2286 | | Last Changed Date: 2012-10-01 10:57:19 -0700 |
| lamb1 | Linux (openSUSE 12.1) / x86_64 | OK | WARNINGS | |
| moscato1 | Windows Server 2008 R2 Enterprise SP1 (64-bit) / x64 | OK | WARNINGS | OK |
| perceval | Mac OS X Leopard (10.5.8) / i386 | OK | WARNINGS | OK |
gaschYHS 1.0.10 Vince Carey
| Last Changed Rev: 2168 / Revision: 2286 | | Last Changed Date: 2012-10-01 10:57:19 -0700 |
| lamb1 | Linux (openSUSE 12.1) / x86_64 | OK | OK | |
| moscato1 | Windows Server 2008 R2 Enterprise SP1 (64-bit) / x64 | OK | OK | OK |
| perceval | Mac OS X Leopard (10.5.8) / i386 | OK | OK | OK |
gatingMLData 1.0.6 Nishant Gopalakrishnan
| Last Changed Rev: 2168 / Revision: 2286 | | Last Changed Date: 2012-10-01 10:57:19 -0700 |
| lamb1 | Linux (openSUSE 12.1) / x86_64 | OK | OK | |
| moscato1 | Windows Server 2008 R2 Enterprise SP1 (64-bit) / x64 | OK | OK | OK |
| perceval | Mac OS X Leopard (10.5.8) / i386 | OK | OK | OK |
gcspikelite 1.0.8 Mark Robinson
| Last Changed Rev: 2168 / Revision: 2286 | | Last Changed Date: 2012-10-01 10:57:19 -0700 |
| lamb1 | Linux (openSUSE 12.1) / x86_64 | OK | WARNINGS | |
| moscato1 | Windows Server 2008 R2 Enterprise SP1 (64-bit) / x64 | OK | WARNINGS | OK |
| perceval | Mac OS X Leopard (10.5.8) / i386 | OK | WARNINGS | OK |
geneLenDataBase 0.99.10 Matthew Young , Nadia Davidson
| Last Changed Rev: 2168 / Revision: 2286 | | Last Changed Date: 2012-10-01 10:57:19 -0700 |
| lamb1 | Linux (openSUSE 12.1) / x86_64 | OK | WARNINGS | |
| moscato1 | Windows Server 2008 R2 Enterprise SP1 (64-bit) / x64 | OK | WARNINGS | OK |
| perceval | Mac OS X Leopard (10.5.8) / i386 | OK | WARNINGS | OK |
GGdata 1.0.20 VJ Carey
| Last Changed Rev: 2168 / Revision: 2286 | | Last Changed Date: 2012-10-01 10:57:19 -0700 |
| lamb1 | Linux (openSUSE 12.1) / x86_64 | OK | OK | |
| moscato1 | Windows Server 2008 R2 Enterprise SP1 (64-bit) / x64 | OK | OK | OK |
| perceval | Mac OS X Leopard (10.5.8) / i386 | OK | OK | OK |
ggtut 0.0.43 VJ Carey
| Last Changed Rev: 2193 / Revision: 2286 | | Last Changed Date: 2013-01-10 10:06:31 -0800 |
| lamb1 | Linux (openSUSE 12.1) / x86_64 | OK | OK | |
| moscato1 | Windows Server 2008 R2 Enterprise SP1 (64-bit) / x64 | OK | OK | OK |
| perceval | Mac OS X Leopard (10.5.8) / i386 | OK | OK | OK |
golubEsets 1.4.12 Vince Carey
| Last Changed Rev: 2168 / Revision: 2286 | | Last Changed Date: 2012-10-01 10:57:19 -0700 |
| lamb1 | Linux (openSUSE 12.1) / x86_64 | OK | OK | |
| moscato1 | Windows Server 2008 R2 Enterprise SP1 (64-bit) / x64 | OK | OK | OK |
| perceval | Mac OS X Leopard (10.5.8) / i386 | OK | OK | OK |
GSVAdata 0.99.9 Robert Castelo
| Last Changed Rev: 2168 / Revision: 2286 | | Last Changed Date: 2012-10-01 10:57:19 -0700 |
| lamb1 | Linux (openSUSE 12.1) / x86_64 | OK | OK | |
| moscato1 | Windows Server 2008 R2 Enterprise SP1 (64-bit) / x64 | OK | OK | OK |
| perceval | Mac OS X Leopard (10.5.8) / i386 | OK | OK | OK |
GWASdata 1.0.7 Stephanie Gogarten
| Last Changed Rev: 2184 / Revision: 2286 | | Last Changed Date: 2012-12-06 10:30:19 -0800 |
| lamb1 | Linux (openSUSE 12.1) / x86_64 | OK | WARNINGS | |
| moscato1 | Windows Server 2008 R2 Enterprise SP1 (64-bit) / x64 | OK | WARNINGS | OK |
| perceval | Mac OS X Leopard (10.5.8) / i386 | OK | WARNINGS | OK |
hapmap100khind 1.4.1 Benilton Carvalho
| Last Changed Rev: 2168 / Revision: 2286 | | Last Changed Date: 2012-10-01 10:57:19 -0700 |
| lamb1 | Linux (openSUSE 12.1) / x86_64 | OK | OK | |
| moscato1 | Windows Server 2008 R2 Enterprise SP1 (64-bit) / x64 | OK | OK | OK |
| perceval | Mac OS X Leopard (10.5.8) / i386 | OK | OK | OK |
hapmap100kxba 1.4.1 Benilton Carvalho
| Last Changed Rev: 2168 / Revision: 2286 | | Last Changed Date: 2012-10-01 10:57:19 -0700 |
| lamb1 | Linux (openSUSE 12.1) / x86_64 | OK | OK | |
| moscato1 | Windows Server 2008 R2 Enterprise SP1 (64-bit) / x64 | OK | OK | OK |
| perceval | Mac OS X Leopard (10.5.8) / i386 | OK | OK | OK |
hapmap500knsp 1.4.1 Benilton Carvalho
| Last Changed Rev: 2168 / Revision: 2286 | | Last Changed Date: 2012-10-01 10:57:19 -0700 |
| lamb1 | Linux (openSUSE 12.1) / x86_64 | OK | OK | |
| moscato1 | Windows Server 2008 R2 Enterprise SP1 (64-bit) / x64 | OK | OK | OK |
| perceval | Mac OS X Leopard (10.5.8) / i386 | OK | OK | OK |
hapmap500ksty 1.4.1 Benilton Carvalho
| Last Changed Rev: 2168 / Revision: 2286 | | Last Changed Date: 2012-10-01 10:57:19 -0700 |
| lamb1 | Linux (openSUSE 12.1) / x86_64 | OK | OK | |
| moscato1 | Windows Server 2008 R2 Enterprise SP1 (64-bit) / x64 | OK | OK | OK |
| perceval | Mac OS X Leopard (10.5.8) / i386 | OK | OK | OK |
hapmapsnp5 1.4.1 Benilton Carvalho
| Last Changed Rev: 2168 / Revision: 2286 | | Last Changed Date: 2012-10-01 10:57:19 -0700 |
| lamb1 | Linux (openSUSE 12.1) / x86_64 | OK | OK | |
| moscato1 | Windows Server 2008 R2 Enterprise SP1 (64-bit) / x64 | OK | OK | OK |
| perceval | Mac OS X Leopard (10.5.8) / i386 | OK | OK | OK |
hapmapsnp6 1.4.1 Benilton Carvalho
| Last Changed Rev: 2168 / Revision: 2286 | | Last Changed Date: 2012-10-01 10:57:19 -0700 |
| lamb1 | Linux (openSUSE 12.1) / x86_64 | OK | OK | |
| moscato1 | Windows Server 2008 R2 Enterprise SP1 (64-bit) / x64 | OK | OK | OK |
| perceval | Mac OS X Leopard (10.5.8) / i386 | OK | OK | OK |
harbChIP 1.0.9 VJ Carey
| Last Changed Rev: 2236 / Revision: 2286 | | Last Changed Date: 2013-03-11 21:42:56 -0700 |
| lamb1 | Linux (openSUSE 12.1) / x86_64 | OK | OK | |
| moscato1 | Windows Server 2008 R2 Enterprise SP1 (64-bit) / x64 | OK | OK | OK |
| perceval | Mac OS X Leopard (10.5.8) / i386 | OK | OK | OK |
HEEBOdata 1.0.4 Agnes Paquet
| Last Changed Rev: 2168 / Revision: 2286 | | Last Changed Date: 2012-10-01 10:57:19 -0700 |
| lamb1 | Linux (openSUSE 12.1) / x86_64 | OK | WARNINGS | |
| moscato1 | Windows Server 2008 R2 Enterprise SP1 (64-bit) / x64 | OK | WARNINGS | OK |
| perceval | Mac OS X Leopard (10.5.8) / i386 | OK | WARNINGS | OK |
hgu133abarcodevecs 1.0.5 Matthew N. McCall
| Last Changed Rev: 2168 / Revision: 2286 | | Last Changed Date: 2012-10-01 10:57:19 -0700 |
| lamb1 | Linux (openSUSE 12.1) / x86_64 | OK | OK | |
| moscato1 | Windows Server 2008 R2 Enterprise SP1 (64-bit) / x64 | OK | OK | OK |
| perceval | Mac OS X Leopard (10.5.8) / i386 | OK | OK | OK |
hgu133plus2barcodevecs 1.0.5 Matthew N. McCall
| Last Changed Rev: 2168 / Revision: 2286 | | Last Changed Date: 2012-10-01 10:57:19 -0700 |
| lamb1 | Linux (openSUSE 12.1) / x86_64 | OK | OK | |
| moscato1 | Windows Server 2008 R2 Enterprise SP1 (64-bit) / x64 | OK | OK | OK |
| perceval | Mac OS X Leopard (10.5.8) / i386 | OK | OK | OK |
hgu2beta7 1.2.7 Bioconductor Package Maintainer
| Last Changed Rev: 2168 / Revision: 2286 | | Last Changed Date: 2012-10-01 10:57:19 -0700 |
| lamb1 | Linux (openSUSE 12.1) / x86_64 | OK | WARNINGS | |
| moscato1 | Windows Server 2008 R2 Enterprise SP1 (64-bit) / x64 | OK | WARNINGS | OK |
| perceval | Mac OS X Leopard (10.5.8) / i386 | OK | WARNINGS | OK |
HIVcDNAvantWout03 1.2.7 Chris Fraley
| Last Changed Rev: 2168 / Revision: 2286 | | Last Changed Date: 2012-10-01 10:57:19 -0700 |
| lamb1 | Linux (openSUSE 12.1) / x86_64 | OK | OK | |
| moscato1 | Windows Server 2008 R2 Enterprise SP1 (64-bit) / x64 | OK | OK | OK |
| perceval | Mac OS X Leopard (10.5.8) / i386 | OK | OK | OK |
hmyriB36 0.99.16 Vincent Carey
| Last Changed Rev: 2168 / Revision: 2286 | | Last Changed Date: 2012-10-01 10:57:19 -0700 |
| lamb1 | Linux (openSUSE 12.1) / x86_64 | OK | OK | |
| moscato1 | Windows Server 2008 R2 Enterprise SP1 (64-bit) / x64 | OK | OK | OK |
| perceval | Mac OS X Leopard (10.5.8) / i386 | OK | OK | OK |
humanStemCell 0.2.7 R. Gentleman
| Last Changed Rev: 2168 / Revision: 2286 | | Last Changed Date: 2012-10-01 10:57:19 -0700 |
| lamb1 | Linux (openSUSE 12.1) / x86_64 | OK | WARNINGS | |
| moscato1 | Windows Server 2008 R2 Enterprise SP1 (64-bit) / x64 | OK | WARNINGS | OK |
| perceval | Mac OS X Leopard (10.5.8) / i386 | OK | WARNINGS | OK |
ind1KG 0.1.14 VJ Carey
| Last Changed Rev: 2168 / Revision: 2286 | | Last Changed Date: 2012-10-01 10:57:19 -0700 |
| lamb1 | Linux (openSUSE 12.1) / x86_64 | OK | OK | |
| moscato1 | Windows Server 2008 R2 Enterprise SP1 (64-bit) / x64 | OK | OK | OK |
| perceval | Mac OS X Leopard (10.5.8) / i386 | OK | OK | OK |
iontreeData 0.99.7 Mingshu Cao
| Last Changed Rev: 2168 / Revision: 2286 | | Last Changed Date: 2012-10-01 10:57:19 -0700 |
| lamb1 | Linux (openSUSE 12.1) / x86_64 | OK | WARNINGS | |
| moscato1 | Windows Server 2008 R2 Enterprise SP1 (64-bit) / x64 | OK | WARNINGS | OK |
| perceval | Mac OS X Leopard (10.5.8) / i386 | OK | WARNINGS | OK |
ITALICSData 2.0.6 Guillem Rigaill
| Last Changed Rev: 2168 / Revision: 2286 | | Last Changed Date: 2012-10-01 10:57:19 -0700 |
| lamb1 | Linux (openSUSE 12.1) / x86_64 | OK | WARNINGS | |
| moscato1 | Windows Server 2008 R2 Enterprise SP1 (64-bit) / x64 | OK | WARNINGS | OK |
| perceval | Mac OS X Leopard (10.5.8) / i386 | OK | WARNINGS | OK |
Iyer517 1.4.11 Vince Carey
| Last Changed Rev: 2168 / Revision: 2286 | | Last Changed Date: 2012-10-01 10:57:19 -0700 |
| lamb1 | Linux (openSUSE 12.1) / x86_64 | OK | OK | |
| moscato1 | Windows Server 2008 R2 Enterprise SP1 (64-bit) / x64 | OK | OK | OK |
| perceval | Mac OS X Leopard (10.5.8) / i386 | OK | OK | OK |
KEGGdzPathwaysGEO 1.1.1 Gaurav Bhatti
| Last Changed Rev: 2168 / Revision: 2286 | | Last Changed Date: 2012-10-01 10:57:19 -0700 |
| lamb1 | Linux (openSUSE 12.1) / x86_64 | OK | OK | |
| moscato1 | Windows Server 2008 R2 Enterprise SP1 (64-bit) / x64 | OK | OK | OK |
| perceval | Mac OS X Leopard (10.5.8) / i386 | OK | OK | OK |
kidpack 1.5.11 Wolfgang Huber
| Last Changed Rev: 2168 / Revision: 2286 | | Last Changed Date: 2012-10-01 10:57:19 -0700 |
| lamb1 | Linux (openSUSE 12.1) / x86_64 | OK | WARNINGS | |
| moscato1 | Windows Server 2008 R2 Enterprise SP1 (64-bit) / x64 | OK | WARNINGS | OK |
| perceval | Mac OS X Leopard (10.5.8) / i386 | OK | WARNINGS | OK |
leeBamViews 0.99.21 VJ Carey
| Last Changed Rev: 2194 / Revision: 2286 | | Last Changed Date: 2013-01-10 10:11:12 -0800 |
| lamb1 | Linux (openSUSE 12.1) / x86_64 | ERROR | skipped | |
| moscato1 | Windows Server 2008 R2 Enterprise SP1 (64-bit) / x64 | ERROR | skipped | skipped |
| perceval | Mac OS X Leopard (10.5.8) / i386 | ERROR | skipped | skipped |
LiebermanAidenHiC2009 0.1.13 Felix Klein
| Last Changed Rev: 2168 / Revision: 2286 | | Last Changed Date: 2012-10-01 10:57:19 -0700 |
| lamb1 | Linux (openSUSE 12.1) / x86_64 | OK | WARNINGS | |
| moscato1 | Windows Server 2008 R2 Enterprise SP1 (64-bit) / x64 | OK | WARNINGS | OK |
| perceval | Mac OS X Leopard (10.5.8) / i386 | OK | WARNINGS | OK |
lumiBarnes 1.3.9 Pan Du
| Last Changed Rev: 2168 / Revision: 2286 | | Last Changed Date: 2012-10-01 10:57:19 -0700 |
| lamb1 | Linux (openSUSE 12.1) / x86_64 | OK | WARNINGS | |
| moscato1 | Windows Server 2008 R2 Enterprise SP1 (64-bit) / x64 | OK | WARNINGS | OK |
| perceval | Mac OS X Leopard (10.5.8) / i386 | OK | WARNINGS | OK |
LungCancerLines 0.0.7 Cory Barr
| Last Changed Rev: 2168 / Revision: 2286 | | Last Changed Date: 2012-10-01 10:57:19 -0700 |
| lamb1 | Linux (openSUSE 12.1) / x86_64 | OK | OK | |
| moscato1 | Windows Server 2008 R2 Enterprise SP1 (64-bit) / x64 | OK | OK | OK |
| perceval | Mac OS X Leopard (10.5.8) / i386 | OK | OK | OK |
lungExpression 0.0.14 Robert Scharpf
| Last Changed Rev: 2168 / Revision: 2286 | | Last Changed Date: 2012-10-01 10:57:19 -0700 |
| lamb1 | Linux (openSUSE 12.1) / x86_64 | OK | OK | |
| moscato1 | Windows Server 2008 R2 Enterprise SP1 (64-bit) / x64 | OK | OK | OK |
| perceval | Mac OS X Leopard (10.5.8) / i386 | OK | OK | OK |
maqcExpression4plex 1.6.1 Benilton Carvalho
| Last Changed Rev: 2168 / Revision: 2286 | | Last Changed Date: 2012-10-01 10:57:19 -0700 |
| lamb1 | Linux (openSUSE 12.1) / x86_64 | OK | OK | |
| moscato1 | Windows Server 2008 R2 Enterprise SP1 (64-bit) / x64 | OK | OK | OK |
| perceval | Mac OS X Leopard (10.5.8) / i386 | OK | OK | OK |
MAQCsubset 1.0.26 VJ Carey
| Last Changed Rev: 2168 / Revision: 2286 | | Last Changed Date: 2012-10-01 10:57:19 -0700 |
| lamb1 | Linux (openSUSE 12.1) / x86_64 | OK | OK | |
| moscato1 | Windows Server 2008 R2 Enterprise SP1 (64-bit) / x64 | OK | OK | OK |
| perceval | Mac OS X Leopard (10.5.8) / i386 | OK | OK | OK |
MAQCsubsetAFX 1.0.9 Laurent Gatto
| Last Changed Rev: 2284 / Revision: 2286 | | Last Changed Date: 2013-03-22 14:23:31 -0700 |
| lamb1 | Linux (openSUSE 12.1) / x86_64 | OK | OK | |
| moscato1 | Windows Server 2008 R2 Enterprise SP1 (64-bit) / x64 | OK | OK | OK |
| perceval | Mac OS X Leopard (10.5.8) / i386 | OK | OK | OK |
MAQCsubsetILM 1.0.8 Laurent Gatto
| Last Changed Rev: 2286 / Revision: 2286 | | Last Changed Date: 2013-03-22 14:43:41 -0700 |
| lamb1 | Linux (openSUSE 12.1) / x86_64 | ERROR | skipped | |
| moscato1 | Windows Server 2008 R2 Enterprise SP1 (64-bit) / x64 | ERROR | skipped | skipped |
| perceval | Mac OS X Leopard (10.5.8) / i386 | OK | OK | OK |
MEDIPSData 0.99.3 Lukas Chavez
| Last Changed Rev: 2232 / Revision: 2286 | | Last Changed Date: 2013-03-06 16:35:17 -0800 |
| lamb1 | Linux (openSUSE 12.1) / x86_64 | OK | OK | |
| moscato1 | Windows Server 2008 R2 Enterprise SP1 (64-bit) / x64 | OK | OK | OK |
| perceval | Mac OS X Leopard (10.5.8) / i386 | OK | OK | OK |
MEEBOdata 1.0.4 Agnes Paquet
| Last Changed Rev: 2168 / Revision: 2286 | | Last Changed Date: 2012-10-01 10:57:19 -0700 |
| lamb1 | Linux (openSUSE 12.1) / x86_64 | OK | WARNINGS | |
| moscato1 | Windows Server 2008 R2 Enterprise SP1 (64-bit) / x64 | OK | WARNINGS | OK |
| perceval | Mac OS X Leopard (10.5.8) / i386 | OK | WARNINGS | OK |
minfiData 0.3.1 Kasper Daniel Hansen
| Last Changed Rev: 2168 / Revision: 2286 | | Last Changed Date: 2012-10-01 10:57:19 -0700 |
| lamb1 | Linux (openSUSE 12.1) / x86_64 | OK | OK | |
| moscato1 | Windows Server 2008 R2 Enterprise SP1 (64-bit) / x64 | OK | OK | OK |
| perceval | Mac OS X Leopard (10.5.8) / i386 | OK | OK | OK |
miRNATarget 0.99.2 Y-h. Taguchi
| Last Changed Rev: 2168 / Revision: 2286 | | Last Changed Date: 2012-10-01 10:57:19 -0700 |
| lamb1 | Linux (openSUSE 12.1) / x86_64 | OK | OK | |
| moscato1 | Windows Server 2008 R2 Enterprise SP1 (64-bit) / x64 | OK | OK | OK |
| perceval | Mac OS X Leopard (10.5.8) / i386 | OK | OK | OK |
mosaicsExample 0.99.7 Dongjun Chung
| Last Changed Rev: 2168 / Revision: 2286 | | Last Changed Date: 2012-10-01 10:57:19 -0700 |
| lamb1 | Linux (openSUSE 12.1) / x86_64 | OK | OK | |
| moscato1 | Windows Server 2008 R2 Enterprise SP1 (64-bit) / x64 | OK | OK | OK |
| perceval | Mac OS X Leopard (10.5.8) / i386 | OK | OK | OK |
mouse4302barcodevecs 1.0.5 Matthew N. McCall
| Last Changed Rev: 2168 / Revision: 2286 | | Last Changed Date: 2012-10-01 10:57:19 -0700 |
| lamb1 | Linux (openSUSE 12.1) / x86_64 | OK | OK | |
| moscato1 | Windows Server 2008 R2 Enterprise SP1 (64-bit) / x64 | OK | OK | OK |
| perceval | Mac OS X Leopard (10.5.8) / i386 | OK | OK | OK |
msdata 0.1.12 Steffen Neumann
| Last Changed Rev: 2199 / Revision: 2286 | | Last Changed Date: 2013-01-16 06:08:28 -0800 |
| lamb1 | Linux (openSUSE 12.1) / x86_64 | OK | WARNINGS | |
| moscato1 | Windows Server 2008 R2 Enterprise SP1 (64-bit) / x64 | OK | WARNINGS | OK |
| perceval | Mac OS X Leopard (10.5.8) / i386 | OK | WARNINGS | OK |
Mulder2012 0.2.2 Xin Wang
| Last Changed Rev: 2168 / Revision: 2286 | | Last Changed Date: 2012-10-01 10:57:19 -0700 |
| lamb1 | Linux (openSUSE 12.1) / x86_64 | OK | OK | |
| moscato1 | Windows Server 2008 R2 Enterprise SP1 (64-bit) / x64 | OK | OK | OK |
| perceval | Mac OS X Leopard (10.5.8) / i386 | OK | OK | OK |
mvoutData 0.99.9 VJ Carey
| Last Changed Rev: 2168 / Revision: 2286 | | Last Changed Date: 2012-10-01 10:57:19 -0700 |
| lamb1 | Linux (openSUSE 12.1) / x86_64 | OK | OK | |
| moscato1 | Windows Server 2008 R2 Enterprise SP1 (64-bit) / x64 | OK | OK | OK |
| perceval | Mac OS X Leopard (10.5.8) / i386 | OK | OK | OK |
NCIgraphData 0.99.5 Laurent Jacob
| Last Changed Rev: 2168 / Revision: 2286 | | Last Changed Date: 2012-10-01 10:57:19 -0700 |
| lamb1 | Linux (openSUSE 12.1) / x86_64 | OK | WARNINGS | |
| moscato1 | Windows Server 2008 R2 Enterprise SP1 (64-bit) / x64 | OK | WARNINGS | OK |
| perceval | Mac OS X Leopard (10.5.8) / i386 | OK | WARNINGS | OK |
Neve2006 0.1.15 VJ Carey
| Last Changed Rev: 2168 / Revision: 2286 | | Last Changed Date: 2012-10-01 10:57:19 -0700 |
| lamb1 | Linux (openSUSE 12.1) / x86_64 | OK | OK | |
| moscato1 | Windows Server 2008 R2 Enterprise SP1 (64-bit) / x64 | OK | OK | OK |
| perceval | Mac OS X Leopard (10.5.8) / i386 | OK | OK | OK |
pasilla 0.2.15 Alejandro Reyes
| Last Changed Rev: 2196 / Revision: 2286 | | Last Changed Date: 2013-01-11 23:01:48 -0800 |
| lamb1 | Linux (openSUSE 12.1) / x86_64 | OK | WARNINGS | |
| moscato1 | Windows Server 2008 R2 Enterprise SP1 (64-bit) / x64 | OK | WARNINGS | OK |
| perceval | Mac OS X Leopard (10.5.8) / i386 | OK | WARNINGS | OK |
pasillaBamSubset 0.0.6 H. Pages
| Last Changed Rev: 2168 / Revision: 2286 | | Last Changed Date: 2012-10-01 10:57:19 -0700 |
| lamb1 | Linux (openSUSE 12.1) / x86_64 | OK | OK | |
| moscato1 | Windows Server 2008 R2 Enterprise SP1 (64-bit) / x64 | OK | OK | OK |
| perceval | Mac OS X Leopard (10.5.8) / i386 | OK | OK | OK |
pcaGoPromoter.Hs.hg19 0.99.3 Morten Hansen,
| Last Changed Rev: 2168 / Revision: 2286 | | Last Changed Date: 2012-10-01 10:57:19 -0700 |
| lamb1 | Linux (openSUSE 12.1) / x86_64 | OK | OK | |
| moscato1 | Windows Server 2008 R2 Enterprise SP1 (64-bit) / x64 | OK | OK | OK |
| perceval | Mac OS X Leopard (10.5.8) / i386 | OK | OK | OK |
pcaGoPromoter.Mm.mm9 0.99.3 Morten Hansen,
| Last Changed Rev: 2168 / Revision: 2286 | | Last Changed Date: 2012-10-01 10:57:19 -0700 |
| lamb1 | Linux (openSUSE 12.1) / x86_64 | OK | OK | |
| moscato1 | Windows Server 2008 R2 Enterprise SP1 (64-bit) / x64 | OK | OK | OK |
| perceval | Mac OS X Leopard (10.5.8) / i386 | OK | OK | OK |
pcaGoPromoter.Rn.rn4 0.99.3 Morten Hansen,
| Last Changed Rev: 2168 / Revision: 2286 | | Last Changed Date: 2012-10-01 10:57:19 -0700 |
| lamb1 | Linux (openSUSE 12.1) / x86_64 | OK | OK | |
| moscato1 | Windows Server 2008 R2 Enterprise SP1 (64-bit) / x64 | OK | OK | OK |
| perceval | Mac OS X Leopard (10.5.8) / i386 | OK | OK | OK |
pd.atdschip.tiling 0.0.4 Kristof De Beuf
| Last Changed Rev: 2168 / Revision: 2286 | | Last Changed Date: 2012-10-01 10:57:19 -0700 |
| lamb1 | Linux (openSUSE 12.1) / x86_64 | OK | OK | |
| moscato1 | Windows Server 2008 R2 Enterprise SP1 (64-bit) / x64 | OK | OK | OK |
| perceval | Mac OS X Leopard (10.5.8) / i386 | OK | OK | OK |
ppiData 0.1.18 Tony Chiang
| Last Changed Rev: 2237 / Revision: 2286 | | Last Changed Date: 2013-03-11 21:43:46 -0700 |
| lamb1 | Linux (openSUSE 12.1) / x86_64 | OK | WARNINGS | |
| moscato1 | Windows Server 2008 R2 Enterprise SP1 (64-bit) / x64 | OK | WARNINGS | OK |
| perceval | Mac OS X Leopard (10.5.8) / i386 | OK | WARNINGS | OK |
PREDAsampledata 0.2.6 Francesco Ferrari
| Last Changed Rev: 2168 / Revision: 2286 | | Last Changed Date: 2012-10-01 10:57:19 -0700 |
| lamb1 | Linux (openSUSE 12.1) / x86_64 | OK | WARNINGS | |
| moscato1 | Windows Server 2008 R2 Enterprise SP1 (64-bit) / x64 | OK | WARNINGS | OK |
| perceval | Mac OS X Leopard (10.5.8) / i386 | OK | WARNINGS | OK |
ProData 1.0.7 Xiaochun Li
| Last Changed Rev: 2168 / Revision: 2286 | | Last Changed Date: 2012-10-01 10:57:19 -0700 |
| lamb1 | Linux (openSUSE 12.1) / x86_64 | OK | OK | |
| moscato1 | Windows Server 2008 R2 Enterprise SP1 (64-bit) / x64 | OK | OK | OK |
| perceval | Mac OS X Leopard (10.5.8) / i386 | OK | OK | OK |
pumadata 1.99.4 Richard Pearson
| Last Changed Rev: 2168 / Revision: 2286 | | Last Changed Date: 2012-10-01 10:57:19 -0700 |
| lamb1 | Linux (openSUSE 12.1) / x86_64 | OK | WARNINGS | |
| moscato1 | Windows Server 2008 R2 Enterprise SP1 (64-bit) / x64 | OK | WARNINGS | OK |
| perceval | Mac OS X Leopard (10.5.8) / i386 | OK | WARNINGS | OK |
PWMEnrich.Dmelanogaster.background 2.0.0 Robert Stojnic
| Last Changed Rev: 2235 / Revision: 2286 | | Last Changed Date: 2013-03-08 10:19:01 -0800 |
| lamb1 | Linux (openSUSE 12.1) / x86_64 | OK | ERROR | |
| moscato1 | Windows Server 2008 R2 Enterprise SP1 (64-bit) / x64 | OK | ERROR | OK |
| perceval | Mac OS X Leopard (10.5.8) / i386 | OK | ERROR | OK |
rheumaticConditionWOLLBOLD 1.0.2 Alejandro Quiroz-Zarate
| Last Changed Rev: 2168 / Revision: 2286 | | Last Changed Date: 2012-10-01 10:57:19 -0700 |
| lamb1 | Linux (openSUSE 12.1) / x86_64 | OK | OK | |
| moscato1 | Windows Server 2008 R2 Enterprise SP1 (64-bit) / x64 | OK | OK | OK |
| perceval | Mac OS X Leopard (10.5.8) / i386 | OK | OK | OK |
RMassBankData 0.99.1 Michael Stravs
| Last Changed Rev: 2168 / Revision: 2286 | | Last Changed Date: 2012-10-01 10:57:19 -0700 |
| lamb1 | Linux (openSUSE 12.1) / x86_64 | OK | OK | |
| moscato1 | Windows Server 2008 R2 Enterprise SP1 (64-bit) / x64 | OK | OK | OK |
| perceval | Mac OS X Leopard (10.5.8) / i386 | OK | OK | OK |
RNAinteractMAPK 1.0.10 Bernd Fischer
| Last Changed Rev: 2268 / Revision: 2286 | | Last Changed Date: 2013-03-20 08:23:31 -0700 |
| lamb1 | Linux (openSUSE 12.1) / x86_64 | OK | OK | |
| moscato1 | Windows Server 2008 R2 Enterprise SP1 (64-bit) / x64 | OK | OK | OK |
| perceval | Mac OS X Leopard (10.5.8) / i386 | OK | OK | OK |
RNASeqDataSubset 0.99.1 D. Bindreither
| Last Changed Rev: 2168 / Revision: 2286 | | Last Changed Date: 2012-10-01 10:57:19 -0700 |
| lamb1 | Linux (openSUSE 12.1) / x86_64 | OK | OK | |
| moscato1 | Windows Server 2008 R2 Enterprise SP1 (64-bit) / x64 | OK | OK | OK |
| perceval | Mac OS X Leopard (10.5.8) / i386 | OK | OK | OK |
RnaSeqTutorial 0.0.11 Nicolas Delhomme
| Last Changed Rev: 2168 / Revision: 2286 | | Last Changed Date: 2012-10-01 10:57:19 -0700 |
| lamb1 | Linux (openSUSE 12.1) / x86_64 | OK | OK | |
| moscato1 | Windows Server 2008 R2 Enterprise SP1 (64-bit) / x64 | OK | OK | OK |
| perceval | Mac OS X Leopard (10.5.8) / i386 | OK | OK | OK |
serumStimulation 0.99.3 Morten Hansen,
| Last Changed Rev: 2168 / Revision: 2286 | | Last Changed Date: 2012-10-01 10:57:19 -0700 |
| lamb1 | Linux (openSUSE 12.1) / x86_64 | OK | OK | |
| moscato1 | Windows Server 2008 R2 Enterprise SP1 (64-bit) / x64 | OK | OK | OK |
| perceval | Mac OS X Leopard (10.5.8) / i386 | OK | OK | OK |
simpIntLists 0.99.3 Kircicegi Korkmaz
| Last Changed Rev: 2168 / Revision: 2286 | | Last Changed Date: 2012-10-01 10:57:19 -0700 |
| lamb1 | Linux (openSUSE 12.1) / x86_64 | OK | WARNINGS | |
| moscato1 | Windows Server 2008 R2 Enterprise SP1 (64-bit) / x64 | OK | WARNINGS | OK |
| perceval | Mac OS X Leopard (10.5.8) / i386 | OK | WARNINGS | OK |
SNAData 1.8.5 Denise Scholtens
| Last Changed Rev: 2168 / Revision: 2286 | | Last Changed Date: 2012-10-01 10:57:19 -0700 |
| lamb1 | Linux (openSUSE 12.1) / x86_64 | OK | OK | |
| moscato1 | Windows Server 2008 R2 Enterprise SP1 (64-bit) / x64 | OK | OK | OK |
| perceval | Mac OS X Leopard (10.5.8) / i386 | OK | OK | OK |
SpikeIn 1.4.9 Rafael A. Irizarry
| Last Changed Rev: 2168 / Revision: 2286 | | Last Changed Date: 2012-10-01 10:57:19 -0700 |
| lamb1 | Linux (openSUSE 12.1) / x86_64 | OK | WARNINGS | |
| moscato1 | Windows Server 2008 R2 Enterprise SP1 (64-bit) / x64 | OK | WARNINGS | OK |
| perceval | Mac OS X Leopard (10.5.8) / i386 | OK | WARNINGS | OK |
SpikeInSubset 1.2.12 Rafael A. Irizarry
| Last Changed Rev: 2168 / Revision: 2286 | | Last Changed Date: 2012-10-01 10:57:19 -0700 |
| lamb1 | Linux (openSUSE 12.1) / x86_64 | OK | WARNINGS | |
| moscato1 | Windows Server 2008 R2 Enterprise SP1 (64-bit) / x64 | OK | WARNINGS | OK |
| perceval | Mac OS X Leopard (10.5.8) / i386 | OK | WARNINGS | OK |
stemHypoxia 0.99.2 Cristobal Fresno
| Last Changed Rev: 2168 / Revision: 2286 | | Last Changed Date: 2012-10-01 10:57:19 -0700 |
| lamb1 | Linux (openSUSE 12.1) / x86_64 | OK | OK | |
| moscato1 | Windows Server 2008 R2 Enterprise SP1 (64-bit) / x64 | OK | OK | OK |
| perceval | Mac OS X Leopard (10.5.8) / i386 | OK | OK | OK |
stjudem 1.2.8 Joern Toedling
| Last Changed Rev: 2168 / Revision: 2286 | | Last Changed Date: 2012-10-01 10:57:19 -0700 |
| lamb1 | Linux (openSUSE 12.1) / x86_64 | OK | OK | |
| moscato1 | Windows Server 2008 R2 Enterprise SP1 (64-bit) / x64 | OK | OK | OK |
| perceval | Mac OS X Leopard (10.5.8) / i386 | OK | OK | OK |
synapterdata 0.99.3 Laurent Gatto
| Last Changed Rev: 2168 / Revision: 2286 | | Last Changed Date: 2012-10-01 10:57:19 -0700 |
| lamb1 | Linux (openSUSE 12.1) / x86_64 | OK | OK | |
| moscato1 | Windows Server 2008 R2 Enterprise SP1 (64-bit) / x64 | OK | OK | OK |
| perceval | Mac OS X Leopard (10.5.8) / i386 | OK | OK | OK |
TargetSearchData 1.0.8 Alvaro Cuadros-Inostroza
| Last Changed Rev: 2274 / Revision: 2286 | | Last Changed Date: 2013-03-22 06:13:53 -0700 |
| lamb1 | Linux (openSUSE 12.1) / x86_64 | OK | OK | |
| moscato1 | Windows Server 2008 R2 Enterprise SP1 (64-bit) / x64 | OK | OK | OK |
| perceval | Mac OS X Leopard (10.5.8) / i386 | OK | OK | OK |
TCGAMethylation450k 0.99.3 Sean Davis
| Last Changed Rev: 2168 / Revision: 2286 | | Last Changed Date: 2012-10-01 10:57:19 -0700 |
| lamb1 | Linux (openSUSE 12.1) / x86_64 | OK | OK | |
| moscato1 | Windows Server 2008 R2 Enterprise SP1 (64-bit) / x64 | OK | OK | OK |
| perceval | Mac OS X Leopard (10.5.8) / i386 | OK | OK | OK |
tinesath1cdf 1.0.8 Tine Casneuf
| Last Changed Rev: 2168 / Revision: 2286 | | Last Changed Date: 2012-10-01 10:57:19 -0700 |
| lamb1 | Linux (openSUSE 12.1) / x86_64 | OK | WARNINGS | |
| moscato1 | Windows Server 2008 R2 Enterprise SP1 (64-bit) / x64 | OK | WARNINGS | OK |
| perceval | Mac OS X Leopard (10.5.8) / i386 | OK | WARNINGS | OK |
tinesath1probe 1.0.8 Tine Casneuf
| Last Changed Rev: 2168 / Revision: 2286 | | Last Changed Date: 2012-10-01 10:57:19 -0700 |
| lamb1 | Linux (openSUSE 12.1) / x86_64 | OK | WARNINGS | |
| moscato1 | Windows Server 2008 R2 Enterprise SP1 (64-bit) / x64 | OK | WARNINGS | OK |
| perceval | Mac OS X Leopard (10.5.8) / i386 | OK | WARNINGS | OK |
tweeDEseqCountData 1.0.8 Juan R Gonzalez
| Last Changed Rev: 2255 / Revision: 2286 | | Last Changed Date: 2013-03-19 04:33:58 -0700 |
| lamb1 | Linux (openSUSE 12.1) / x86_64 | OK | OK | |
| moscato1 | Windows Server 2008 R2 Enterprise SP1 (64-bit) / x64 | OK | OK | OK |
| perceval | Mac OS X Leopard (10.5.8) / i386 | OK | OK | OK |
waveTilingData 0.99.1 Kristof De Beuf
| Last Changed Rev: 2168 / Revision: 2286 | | Last Changed Date: 2012-10-01 10:57:19 -0700 |
| lamb1 | Linux (openSUSE 12.1) / x86_64 | OK | OK | |
| moscato1 | Windows Server 2008 R2 Enterprise SP1 (64-bit) / x64 | OK | OK | OK |
| perceval | Mac OS X Leopard (10.5.8) / i386 | OK | OK | OK |
XhybCasneuf 1.0.10 Tineke Casneuf
| Last Changed Rev: 2168 / Revision: 2286 | | Last Changed Date: 2012-10-01 10:57:19 -0700 |
| lamb1 | Linux (openSUSE 12.1) / x86_64 | OK | WARNINGS | |
| moscato1 | Windows Server 2008 R2 Enterprise SP1 (64-bit) / x64 | OK | WARNINGS | OK |
| perceval | Mac OS X Leopard (10.5.8) / i386 | OK | WARNINGS | OK |
yeastCC 1.2.17 Sandrine Dudoit
| Last Changed Rev: 2168 / Revision: 2286 | | Last Changed Date: 2012-10-01 10:57:19 -0700 |
| lamb1 | Linux (openSUSE 12.1) / x86_64 | OK | WARNINGS | |
| moscato1 | Windows Server 2008 R2 Enterprise SP1 (64-bit) / x64 | OK | WARNINGS | OK |
| perceval | Mac OS X Leopard (10.5.8) / i386 | OK | WARNINGS | OK |
yeastExpData 0.9.21 R. Gentleman
| Last Changed Rev: 2168 / Revision: 2286 | | Last Changed Date: 2012-10-01 10:57:19 -0700 |
| lamb1 | Linux (openSUSE 12.1) / x86_64 | OK | WARNINGS | |
| moscato1 | Windows Server 2008 R2 Enterprise SP1 (64-bit) / x64 | OK | WARNINGS | OK |
| perceval | Mac OS X Leopard (10.5.8) / i386 | OK | WARNINGS | OK |
yeastGSData 0.1.9 R. Gentleman
| Last Changed Rev: 2168 / Revision: 2286 | | Last Changed Date: 2012-10-01 10:57:19 -0700 |
| lamb1 | Linux (openSUSE 12.1) / x86_64 | OK | WARNINGS | |
| moscato1 | Windows Server 2008 R2 Enterprise SP1 (64-bit) / x64 | OK | WARNINGS | OK |
| perceval | Mac OS X Leopard (10.5.8) / i386 | OK | WARNINGS | OK |
yeastNagalakshmi 0.99.5 Bioconductor Package Maintainer
| Last Changed Rev: 2168 / Revision: 2286 | | Last Changed Date: 2012-10-01 10:57:19 -0700 |
| lamb1 | Linux (openSUSE 12.1) / x86_64 | OK | OK | |
| moscato1 | Windows Server 2008 R2 Enterprise SP1 (64-bit) / x64 | OK | OK | OK |
| perceval | Mac OS X Leopard (10.5.8) / i386 | OK | OK | OK |
yeastRNASeq 0.0.7 J. Bullard
| Last Changed Rev: 2168 / Revision: 2286 | | Last Changed Date: 2012-10-01 10:57:19 -0700 |
| lamb1 | Linux (openSUSE 12.1) / x86_64 | OK | WARNINGS | |
| moscato1 | Windows Server 2008 R2 Enterprise SP1 (64-bit) / x64 | OK | WARNINGS | OK |
| perceval | Mac OS X Leopard (10.5.8) / i386 | OK | WARNINGS | OK |