| geneLenDataBase 0.99.9 Matthew Young , Nadia Davidson
 
 | Snapshot Date: 2012-09-23 10:15:26 -0700 (Sun, 23 Sep 2012) |  | URL: https://hedgehog.fhcrc.org/bioc-data/trunk/experiment/pkgs/geneLenDataBase |  | Last Changed Rev: 2048 / Revision: 2159 |  | Last Changed Date: 2012-04-26 00:13:05 -0700 (Thu, 26 Apr 2012) | 
 | lamb2 | Linux (openSUSE 11.4) / x86_64 | [ OK ] | WARNINGS |  | 
| moscato2 | Windows Server 2008 R2 Enterprise SP1 (64-bit) / x64 | OK | WARNINGS | OK | 
| petty | Mac OS X Leopard (10.5.8) / i386 | OK | WARNINGS | OK | 
* checking for file ‘geneLenDataBase/DESCRIPTION’ ... OK
* preparing ‘geneLenDataBase’:
* checking DESCRIPTION meta-information ... OK
* checking for LF line-endings in source and make files
* checking for empty or unneeded directories
* looking to see if a ‘data/datalist’ file should be added
* building ‘geneLenDataBase_0.99.9.tar.gz’