| harbChIP 0.0.4 VJ Carey
 
 | Snapshot Date: 2008-04-10 00:02:38 -0700 (Thu, 10 Apr 2008) |  | URL: https://hedgehog.fhcrc.org/bioc-data/trunk/experiment/pkgs/harbChIP |  | Last Changed Rev: 564 / Revision: 624 |  | Last Changed Date: 2008-02-19 02:52:25 -0800 (Tue, 19 Feb 2008) | 
 | lamb1 | Linux (SUSE 10.1) / x86_64 | OK | OK |  | 
| lemming | Windows Server 2003 (32-bit) / x64 | OK | OK | OK | 
| pitt | Mac OS X Tiger (10.4.11) / i386 | [ OK ] | OK | OK | 
* checking for file 'harbChIP/DESCRIPTION' ... OK
* preparing 'harbChIP':
* checking DESCRIPTION meta-information ... OK
* installing the package to re-build vignettes
* Installing *source* package 'harbChIP' ...
** R
** data
** inst
** help
 >>> Building/Updating help pages for package 'harbChIP'
     Formats: text html latex example 
  allhex                            text    html    latex   example
  buildUpstreamSeqs2                text    html    latex   example
  chkMotif4TF                       text    html    latex   example
  harbChIP                          text    html    latex   example
  sceUpstream                       text    html    latex   example
  upstreamSeqs-class                text    html    latex   example
** building package indices ...
Loading required package: methods
* DONE (harbChIP)
* creating vignettes ... OK
* removing junk files
* checking for LF line-endings in source and make files
* checking for empty or unneeded directories
* building 'harbChIP_0.0.4.tar.gz'