| ALL 1.4.3 Xiaochun Li
 
 | Snapshot Date: 2008-04-10 00:02:38 -0700 (Thu, 10 Apr 2008) |  | URL: https://hedgehog.fhcrc.org/bioc-data/trunk/experiment/pkgs/ALL |  | Last Changed Rev: 329 / Revision: 624 |  | Last Changed Date: 2007-06-05 09:16:51 -0700 (Tue, 05 Jun 2007) | 
 | lamb1 | Linux (SUSE 10.1) / x86_64 | OK | OK |  | 
| lemming | Windows Server 2003 (32-bit) / x64 | OK | OK | OK | 
| pitt | Mac OS X Tiger (10.4.11) / i386 | OK | OK | [ OK ] | 
                INSTALLATION WITH 'R CMD INSTALL ALL_1.4.3.tar.gz'
* Installing to library 'ALL.buildbin-libdir'
* Installing *source* package 'ALL' ...
** R
** data
** inst
** help
 >>> Building/Updating help pages for package 'ALL'
     Formats: text html latex example 
  ALL                               text    html    latex   example
  tojulian                          text    html    latex   example
** building package indices ...
Loading required package: methods
* DONE (ALL)