Back to Build/check report for BioC 3.21 experimental data
ABCDEF[G]HIJKLMNOPQRSTUVWXYZ

This page was generated on 2025-10-16 15:01 -0400 (Thu, 16 Oct 2025).

HostnameOSArch (*)R versionInstalled pkgs
nebbiolo1Linux (Ubuntu 24.04.3 LTS)x86_644.5.1 (2025-06-13) -- "Great Square Root" 4833
Click on any hostname to see more info about the system (e.g. compilers)      (*) as reported by 'uname -p', except on Windows and Mac OS X

Package 147/432HostnameOS / ArchINSTALLBUILDCHECK
geneLenDataBase 1.44.0  (landing page)
Federico Marini
Snapshot Date: 2025-10-16 07:30 -0400 (Thu, 16 Oct 2025)
git_url: https://git.bioconductor.org/packages/geneLenDataBase
git_branch: RELEASE_3_21
git_last_commit: ad5f383
git_last_commit_date: 2025-04-15 09:16:59 -0400 (Tue, 15 Apr 2025)
nebbiolo1Linux (Ubuntu 24.04.3 LTS) / x86_64  OK    OK    OK  UNNEEDED, same version is already published


CHECK results for geneLenDataBase on nebbiolo1

To the developers/maintainers of the geneLenDataBase package:
- Use the following Renviron settings to reproduce errors and warnings.
- If 'R CMD check' started to fail recently on the Linux builder(s) over a missing dependency, add the missing dependency to 'Suggests:' in your DESCRIPTION file. See Renviron.bioc for more information.

raw results


Summary

Package: geneLenDataBase
Version: 1.44.0
Command: /home/biocbuild/bbs-3.21-bioc/R/bin/R CMD check --install=check:geneLenDataBase.install-out.txt --library=/home/biocbuild/bbs-3.21-bioc/R/site-library --timings geneLenDataBase_1.44.0.tar.gz
StartedAt: 2025-10-16 12:20:40 -0400 (Thu, 16 Oct 2025)
EndedAt: 2025-10-16 12:29:50 -0400 (Thu, 16 Oct 2025)
EllapsedTime: 549.7 seconds
RetCode: 0
Status:   OK  
CheckDir: geneLenDataBase.Rcheck
Warnings: 0

Command output

##############################################################################
##############################################################################
###
### Running command:
###
###   /home/biocbuild/bbs-3.21-bioc/R/bin/R CMD check --install=check:geneLenDataBase.install-out.txt --library=/home/biocbuild/bbs-3.21-bioc/R/site-library --timings geneLenDataBase_1.44.0.tar.gz
###
##############################################################################
##############################################################################


* using log directory ‘/home/biocbuild/bbs-3.21-data-experiment/meat/geneLenDataBase.Rcheck’
* using R version 4.5.1 (2025-06-13)
* using platform: x86_64-pc-linux-gnu
* R was compiled by
    gcc (Ubuntu 13.3.0-6ubuntu2~24.04) 13.3.0
    GNU Fortran (Ubuntu 13.3.0-6ubuntu2~24.04) 13.3.0
* running under: Ubuntu 24.04.3 LTS
* using session charset: UTF-8
* checking for file ‘geneLenDataBase/DESCRIPTION’ ... OK
* this is package ‘geneLenDataBase’ version ‘1.44.0’
* package encoding: UTF-8
* checking package namespace information ... OK
* checking package dependencies ... OK
* checking if this is a source package ... OK
* checking if there is a namespace ... OK
* checking for hidden files and directories ... OK
* checking for portable file names ... OK
* checking for sufficient/correct file permissions ... OK
* checking whether package ‘geneLenDataBase’ can be installed ... OK
* checking installed package size ... INFO
  installed size is 100.0Mb
  sub-directories of 1Mb or more:
    data  99.5Mb
* checking package directory ... OK
* checking DESCRIPTION meta-information ... OK
* checking top-level files ... OK
* checking for left-over files ... OK
* checking index information ... OK
* checking package subdirectories ... OK
* checking code files for non-ASCII characters ... OK
* checking R files for syntax errors ... OK
* checking whether the package can be loaded ... OK
* checking whether the package can be loaded with stated dependencies ... OK
* checking whether the package can be unloaded cleanly ... OK
* checking whether the namespace can be loaded with stated dependencies ... OK
* checking whether the namespace can be unloaded cleanly ... OK
* checking loading without being on the library search path ... OK
* checking dependencies in R code ... NOTE
Unexported object imported by a ':::' call: ‘txdbmaker:::.UCSC_TXNAME2GENEID_MAPDEFS’
  See the note in ?`:::` about the use of this operator.
* checking S3 generic/method consistency ... OK
* checking replacement functions ... OK
* checking foreign function calls ... OK
* checking R code for possible problems ... OK
* checking Rd files ... OK
* checking Rd metadata ... OK
* checking Rd cross-references ... OK
* checking for missing documentation entries ... OK
* checking for code/documentation mismatches ... OK
* checking Rd \usage sections ... OK
* checking Rd contents ... OK
* checking for unstated dependencies in examples ... OK
* checking contents of ‘data’ directory ... OK
* checking data for non-ASCII characters ... OK
* checking data for ASCII and uncompressed saves ... OK
* checking examples ... OK
Examples with CPU (user + system) or elapsed time > 5s
                  user system elapsed
supportedGeneIDs 3.346  0.182   5.555
* checking PDF version of manual ... OK
* DONE

Status: 1 NOTE
See
  ‘/home/biocbuild/bbs-3.21-data-experiment/meat/geneLenDataBase.Rcheck/00check.log’
for details.


Installation output

geneLenDataBase.Rcheck/00install.out

##############################################################################
##############################################################################
###
### Running command:
###
###   /home/biocbuild/bbs-3.21-bioc/R/bin/R CMD INSTALL geneLenDataBase
###
##############################################################################
##############################################################################


* installing to library ‘/home/biocbuild/bbs-3.21-bioc/R/site-library’
* installing *source* package ‘geneLenDataBase’ ...
** this is package ‘geneLenDataBase’ version ‘1.44.0’
** using staged installation
** R
** data
** byte-compile and prepare package for lazy loading
** help
*** installing help indices
** building package indices
** testing if installed package can be loaded from temporary location
** testing if installed package can be loaded from final location
** testing if installed package keeps a record of temporary installation path
* DONE (geneLenDataBase)

Tests output


Example timings

geneLenDataBase.Rcheck/geneLenDataBase-Ex.timings

nameusersystemelapsed
anoCar1.ensGene.LENGTH0.0740.0040.079
anoCar1.genscan.LENGTH0.0480.0000.049
anoCar1.xenoRefGene.LENGTH1.4600.0111.470
anoGam1.ensGene.LENGTH0.0590.0000.058
anoGam1.geneid.LENGTH0.0410.0030.044
anoGam1.genscan.LENGTH0.0390.0010.041
apiMel1.genscan.LENGTH0.0350.0010.036
apiMel2.ensGene.LENGTH0.0880.0030.091
apiMel2.geneid.LENGTH0.0460.0020.047
apiMel2.genscan.LENGTH0.0310.0030.033
aplCal1.xenoRefGene.LENGTH0.4360.0040.440
bosTau2.geneSymbol.LENGTH0.0410.0010.043
bosTau2.geneid.LENGTH0.3020.0120.314
bosTau2.genscan.LENGTH0.0870.0010.088
bosTau2.refGene.LENGTH0.0420.0080.050
bosTau2.sgpGene.LENGTH0.1030.0030.106
bosTau3.ensGene.LENGTH0.1050.0020.107
bosTau3.geneSymbol.LENGTH0.0340.0030.037
bosTau3.geneid.LENGTH0.1220.0030.125
bosTau3.genscan.LENGTH0.0720.0030.075
bosTau3.refGene.LENGTH0.0310.0030.034
bosTau3.sgpGene.LENGTH0.0920.0010.092
bosTau4.ensGene.LENGTH0.1010.0020.102
bosTau4.geneSymbol.LENGTH0.0360.0020.037
bosTau4.genscan.LENGTH0.0650.0000.065
bosTau4.nscanGene.LENGTH0.0310.0000.031
bosTau4.refGene.LENGTH0.0320.0010.033
braFlo1.xenoRefGene.LENGTH0.4000.0020.402
caeJap1.xenoRefGene.LENGTH0.4130.0050.418
caePb1.xenoRefGene.LENGTH0.4530.0020.454
caePb2.xenoRefGene.LENGTH0.4170.0030.420
caeRem2.xenoRefGene.LENGTH0.3780.0100.389
caeRem3.xenoRefGene.LENGTH0.3440.0040.349
calJac1.genscan.LENGTH0.0810.0010.082
calJac1.nscanGene.LENGTH0.1020.0010.104
calJac1.xenoRefGene.LENGTH0.6920.0040.695
canFam1.ensGene.LENGTH0.1040.0010.105
canFam1.geneSymbol.LENGTH0.0050.0000.006
canFam1.genscan.LENGTH0.0610.0000.062
canFam1.nscanGene.LENGTH0.0590.0020.061
canFam1.refGene.LENGTH0.0030.0010.005
canFam1.xenoRefGene.LENGTH0.5860.0010.587
canFam2.ensGene.LENGTH0.0940.0000.094
canFam2.geneSymbol.LENGTH0.0040.0010.006
canFam2.genscan.LENGTH0.0540.0010.055
canFam2.nscanGene.LENGTH0.1270.0030.131
canFam2.refGene.LENGTH0.0030.0020.005
canFam2.xenoRefGene.LENGTH0.5610.0010.561
cavPor3.ensGene.LENGTH0.0870.0020.089
cavPor3.genscan.LENGTH0.0970.0000.097
cavPor3.nscanGene.LENGTH0.0670.0000.067
cavPor3.xenoRefGene.LENGTH0.5920.0050.598
cb1.xenoRefGene.LENGTH0.4400.0030.443
cb3.xenoRefGene.LENGTH0.3660.0030.370
ce2.geneSymbol.LENGTH0.0730.0010.074
ce2.geneid.LENGTH0.0600.0010.061
ce2.refGene.LENGTH0.0680.0020.069
ce4.geneSymbol.LENGTH0.0740.0000.074
ce4.refGene.LENGTH0.0640.0010.065
ce4.xenoRefGene.LENGTH0.0870.0020.088
ce6.ensGene.LENGTH0.1020.0000.101
ce6.geneSymbol.LENGTH0.0720.0000.073
ce6.refGene.LENGTH0.0670.0020.069
ce6.xenoRefGene.LENGTH0.0870.0010.088
ci1.geneSymbol.LENGTH0.0050.0000.006
ci1.refGene.LENGTH0.0050.0000.004
ci1.xenoRefGene.LENGTH0.1780.0030.182
ci2.ensGene.LENGTH0.1740.0130.187
ci2.geneSymbol.LENGTH0.0050.0000.005
ci2.refGene.LENGTH0.0040.0000.004
ci2.xenoRefGene.LENGTH0.2760.0020.278
danRer3.ensGene.LENGTH0.110.000.11
danRer3.geneSymbol.LENGTH0.0550.0020.056
danRer3.refGene.LENGTH0.0530.0000.053
danRer4.ensGene.LENGTH0.1530.0010.155
danRer4.geneSymbol.LENGTH0.0550.0010.057
danRer4.genscan.LENGTH0.0590.0020.061
danRer4.nscanGene.LENGTH0.0870.0010.088
danRer4.refGene.LENGTH0.0470.0010.048
danRer5.ensGene.LENGTH0.1090.0030.112
danRer5.geneSymbol.LENGTH0.0480.0000.048
danRer5.refGene.LENGTH0.0410.0040.045
danRer5.vegaGene.LENGTH0.0470.0020.049
danRer5.vegaPseudoGene.LENGTH0.0000.0020.002
danRer6.ensGene.LENGTH0.1110.0010.112
danRer6.geneSymbol.LENGTH0.0510.0000.051
danRer6.refGene.LENGTH0.0440.0030.047
danRer6.xenoRefGene.LENGTH0.5160.0030.519
dm1.geneSymbol.LENGTH0.0660.0010.066
dm1.genscan.LENGTH0.0260.0010.027
dm1.refGene.LENGTH0.0600.0010.061
dm2.geneSymbol.LENGTH0.0660.0010.066
dm2.geneid.LENGTH0.0400.0010.041
dm2.genscan.LENGTH0.0240.0020.026
dm2.nscanGene.LENGTH0.0540.0000.053
dm2.refGene.LENGTH0.060.000.06
dm3.geneSymbol.LENGTH0.0710.0010.072
dm3.nscanPasaGene.LENGTH0.0530.0010.053
dm3.refGene.LENGTH0.0640.0010.066
downloadLengthFromUCSC0.0000.0000.001
dp2.genscan.LENGTH0.0320.0000.032
dp2.xenoRefGene.LENGTH0.2050.0010.207
dp3.geneid.LENGTH0.0400.0010.042
dp3.genscan.LENGTH0.0250.0020.027
dp3.xenoRefGene.LENGTH0.1140.0010.114
droAna1.geneid.LENGTH0.0720.0000.072
droAna1.genscan.LENGTH0.0210.0010.022
droAna1.xenoRefGene.LENGTH0.2080.0010.208
droAna2.genscan.LENGTH0.0510.0020.052
droAna2.xenoRefGene.LENGTH0.2780.0000.278
droEre1.genscan.LENGTH0.030.000.03
droEre1.xenoRefGene.LENGTH0.3650.0040.370
droGri1.genscan.LENGTH0.0400.0000.041
droGri1.xenoRefGene.LENGTH0.2550.0030.258
droMoj1.geneid.LENGTH0.2400.0040.244
droMoj1.genscan.LENGTH0.0560.0000.056
droMoj1.xenoRefGene.LENGTH0.2100.0010.211
droMoj2.genscan.LENGTH0.0340.0010.035
droMoj2.xenoRefGene.LENGTH0.2550.0010.257
droPer1.genscan.LENGTH0.0370.0020.039
droPer1.xenoRefGene.LENGTH0.2650.0030.267
droSec1.genscan.LENGTH0.0280.0010.028
droSec1.xenoRefGene.LENGTH0.2490.0020.252
droSim1.geneid.LENGTH0.0370.0020.039
droSim1.genscan.LENGTH0.0250.0000.025
droSim1.xenoRefGene.LENGTH0.2220.0020.223
droVir1.geneid.LENGTH0.1770.0020.178
droVir1.genscan.LENGTH0.0410.0020.042
droVir1.xenoRefGene.LENGTH0.2440.0080.251
droVir2.genscan.LENGTH0.0330.0030.036
droVir2.xenoRefGene.LENGTH0.2450.0040.248
droYak1.geneid.LENGTH0.0440.0000.045
droYak1.genscan.LENGTH0.0310.0000.032
droYak1.xenoRefGene.LENGTH0.210.000.21
droYak2.genscan.LENGTH0.0270.0000.027
droYak2.xenoRefGene.LENGTH0.2570.0030.260
equCab1.geneSymbol.LENGTH0.0060.0000.006
equCab1.geneid.LENGTH0.0880.0000.089
equCab1.nscanGene.LENGTH0.0380.0010.040
equCab1.refGene.LENGTH0.0040.0010.005
equCab1.sgpGene.LENGTH0.0700.0000.071
equCab2.ensGene.LENGTH0.0940.0010.094
equCab2.geneSymbol.LENGTH0.0060.0010.007
equCab2.nscanGene.LENGTH0.0500.0000.051
equCab2.refGene.LENGTH0.0050.0020.007
equCab2.xenoRefGene.LENGTH0.8050.0020.806
felCat3.ensGene.LENGTH0.1060.0010.107
felCat3.geneSymbol.LENGTH0.0030.0010.004
felCat3.geneid.LENGTH0.5140.0030.517
felCat3.genscan.LENGTH0.1080.0070.115
felCat3.nscanGene.LENGTH1.0340.1611.194
felCat3.refGene.LENGTH0.0030.0010.004
felCat3.sgpGene.LENGTH0.1300.0030.133
felCat3.xenoRefGene.LENGTH0.9970.0141.010
fr1.ensGene.LENGTH0.0710.0010.072
fr1.genscan.LENGTH0.0490.0020.052
fr2.ensGene.LENGTH0.1220.0000.121
galGal2.ensGene.LENGTH0.0560.0000.056
galGal2.geneSymbol.LENGTH0.0140.0010.016
galGal2.geneid.LENGTH0.0370.0010.038
galGal2.genscan.LENGTH0.0450.0020.047
galGal2.refGene.LENGTH0.0140.0000.015
galGal2.sgpGene.LENGTH0.0400.0000.041
galGal3.ensGene.LENGTH0.0700.0010.071
galGal3.geneSymbol.LENGTH0.0140.0020.015
galGal3.genscan.LENGTH0.0450.0010.046
galGal3.nscanGene.LENGTH0.0660.0000.067
galGal3.refGene.LENGTH0.0130.0000.014
galGal3.xenoRefGene.LENGTH0.4810.0030.485
gasAcu1.ensGene.LENGTH0.0910.0010.092
gasAcu1.nscanGene.LENGTH0.0910.0030.094
hg16.acembly.LENGTH0.3630.0040.367
hg16.ensGene.LENGTH0.0680.0020.071
hg16.exoniphy.LENGTH0.2400.0100.249
hg16.geneSymbol.LENGTH0.1090.0030.112
hg16.geneid.LENGTH0.0480.0010.049
hg16.genscan.LENGTH0.0640.0020.065
hg16.knownGene.LENGTH0.1200.0010.121
hg16.refGene.LENGTH0.1000.0020.103
hg16.sgpGene.LENGTH0.0550.0010.056
hg17.acembly.LENGTH0.4440.0050.448
hg17.acescan.LENGTH0.0100.0020.011
hg17.ccdsGene.LENGTH0.0250.0000.025
hg17.ensGene.LENGTH0.1110.0010.112
hg17.exoniphy.LENGTH0.3880.0030.392
hg17.geneSymbol.LENGTH0.1070.0000.108
hg17.geneid.LENGTH0.0750.0010.077
hg17.genscan.LENGTH0.0570.0010.059
hg17.knownGene.LENGTH0.1080.0020.111
hg17.refGene.LENGTH0.1020.0020.104
hg17.sgpGene.LENGTH0.0730.0000.074
hg17.vegaGene.LENGTH1.0010.0001.001
hg17.vegaPseudoGene.LENGTH0.0150.0000.016
hg17.xenoRefGene.LENGTH0.1750.0010.176
hg18.acembly.LENGTH0.4060.0030.408
hg18.acescan.LENGTH0.010.000.01
hg18.ccdsGene.LENGTH0.0300.0010.032
hg18.ensGene.LENGTH0.1740.0010.175
hg18.exoniphy.LENGTH0.4110.0020.413
hg18.geneSymbol.LENGTH0.0940.0020.096
hg18.geneid.LENGTH0.0720.0000.073
hg18.genscan.LENGTH0.0590.0010.060
hg18.knownGene.LENGTH0.1460.0000.147
hg18.knownGeneOld3.LENGTH0.0660.0000.065
hg18.refGene.LENGTH0.0870.0000.088
hg18.sgpGene.LENGTH0.0680.0000.069
hg18.sibGene.LENGTH0.3360.0010.338
hg18.xenoRefGene.LENGTH0.3870.0000.388
hg19.ccdsGene.LENGTH0.0390.0010.040
hg19.ensGene.LENGTH0.2880.0000.289
hg19.exoniphy.LENGTH0.4050.0020.407
hg19.geneSymbol.LENGTH0.0950.0000.096
hg19.knownGene.LENGTH0.1640.0010.166
hg19.nscanGene.LENGTH0.1530.0000.154
hg19.refGene.LENGTH0.0980.0000.098
hg19.xenoRefGene.LENGTH0.3500.0040.354
loxAfr3.xenoRefGene.LENGTH0.7980.0010.800
mm7.ensGene.LENGTH0.1160.0020.119
mm7.geneSymbol.LENGTH0.0930.0010.093
mm7.geneid.LENGTH0.0750.0020.077
mm7.genscan.LENGTH0.2880.0010.289
mm7.knownGene.LENGTH0.0940.0020.096
mm7.refGene.LENGTH0.0840.0000.084
mm7.sgpGene.LENGTH0.0800.0010.082
mm7.xenoRefGene.LENGTH0.3420.0000.342
mm8.ccdsGene.LENGTH0.0230.0000.023
mm8.ensGene.LENGTH0.0830.0000.082
mm8.geneSymbol.LENGTH0.090.000.09
mm8.geneid.LENGTH0.0730.0000.072
mm8.genscan.LENGTH0.0580.0000.059
mm8.knownGene.LENGTH0.0880.0020.091
mm8.nscanGene.LENGTH0.0590.0010.061
mm8.refGene.LENGTH0.0830.0000.083
mm8.sgpGene.LENGTH0.0720.0000.073
mm8.sibGene.LENGTH0.4720.0090.481
mm8.xenoRefGene.LENGTH0.3580.0010.359
mm9.acembly.LENGTH0.3260.0020.328
mm9.ccdsGene.LENGTH0.0310.0000.031
mm9.ensGene.LENGTH0.1550.0000.156
mm9.exoniphy.LENGTH0.4300.0030.434
mm9.geneSymbol.LENGTH0.0890.0010.089
mm9.geneid.LENGTH0.0870.0000.086
mm9.genscan.LENGTH0.0620.0010.062
mm9.knownGene.LENGTH0.2310.0020.232
mm9.nscanGene.LENGTH0.0590.0000.059
mm9.refGene.LENGTH0.0850.0000.085
mm9.sgpGene.LENGTH0.0830.0010.083
mm9.xenoRefGene.LENGTH0.3780.0010.379
monDom1.genscan.LENGTH0.0620.0010.064
monDom4.ensGene.LENGTH0.0750.0000.076
monDom4.geneSymbol.LENGTH0.0030.0000.004
monDom4.genscan.LENGTH0.0510.0000.052
monDom4.nscanGene.LENGTH0.0520.0010.054
monDom4.refGene.LENGTH0.0040.0000.004
monDom4.xenoRefGene.LENGTH0.3730.0000.374
monDom5.ensGene.LENGTH0.1110.0010.113
monDom5.geneSymbol.LENGTH0.0020.0010.003
monDom5.genscan.LENGTH0.0530.0000.053
monDom5.nscanGene.LENGTH0.1070.0010.107
monDom5.refGene.LENGTH0.0030.0010.003
monDom5.xenoRefGene.LENGTH0.6270.0000.628
ornAna1.ensGene.LENGTH0.1000.0020.102
ornAna1.geneSymbol.LENGTH0.0000.0020.002
ornAna1.refGene.LENGTH0.0000.0020.002
ornAna1.xenoRefGene.LENGTH0.5560.0020.559
oryLat2.ensGene.LENGTH0.0790.0020.081
oryLat2.geneSymbol.LENGTH0.0040.0000.004
oryLat2.refGene.LENGTH0.0040.0000.004
oryLat2.xenoRefGene.LENGTH0.5750.0030.578
panTro1.ensGene.LENGTH0.5620.0000.562
panTro1.geneid.LENGTH0.0470.0010.047
panTro1.genscan.LENGTH0.0600.0010.061
panTro1.xenoRefGene.LENGTH0.1110.0020.112
panTro2.ensGene.LENGTH0.1110.0020.113
panTro2.geneSymbol.LENGTH0.1010.0000.101
panTro2.genscan.LENGTH0.0610.0010.063
panTro2.nscanGene.LENGTH0.0650.0000.065
panTro2.refGene.LENGTH0.1030.0000.103
panTro2.xenoRefGene.LENGTH0.5560.0010.557
petMar1.xenoRefGene.LENGTH0.2650.0000.266
ponAbe2.ensGene.LENGTH0.0870.0000.087
ponAbe2.geneSymbol.LENGTH0.0120.0000.012
ponAbe2.genscan.LENGTH0.0590.0020.061
ponAbe2.nscanGene.LENGTH0.0590.0010.059
ponAbe2.refGene.LENGTH0.0120.0000.011
ponAbe2.xenoRefGene.LENGTH0.6570.0050.662
priPac1.xenoRefGene.LENGTH0.3860.0000.386
rheMac2.ensGene.LENGTH0.1330.0010.133
rheMac2.geneSymbol.LENGTH0.0060.0000.005
rheMac2.geneid.LENGTH0.0750.0000.075
rheMac2.nscanGene.LENGTH0.0650.0000.065
rheMac2.refGene.LENGTH0.0040.0010.005
rheMac2.sgpGene.LENGTH0.0710.0010.072
rheMac2.xenoRefGene.LENGTH0.5650.0010.567
rn3.ensGene.LENGTH0.1060.0000.107
rn3.geneSymbol.LENGTH0.0530.0000.053
rn3.geneid.LENGTH0.0520.0010.054
rn3.genscan.LENGTH0.0640.0030.067
rn3.knownGene.LENGTH0.0230.0010.024
rn3.nscanGene.LENGTH0.2440.0010.245
rn3.refGene.LENGTH0.0490.0020.050
rn3.sgpGene.LENGTH0.0560.0020.058
rn3.xenoRefGene.LENGTH0.5800.0020.582
rn4.ensGene.LENGTH0.1330.0000.134
rn4.geneSymbol.LENGTH0.0510.0000.052
rn4.geneid.LENGTH0.0860.0020.087
rn4.genscan.LENGTH0.0640.0010.065
rn4.knownGene.LENGTH0.0220.0020.025
rn4.nscanGene.LENGTH0.0520.0020.054
rn4.refGene.LENGTH0.0490.0010.049
rn4.sgpGene.LENGTH0.0820.0030.084
rn4.xenoRefGene.LENGTH0.3370.0010.338
sacCer1.ensGene.LENGTH0.0170.0010.019
sacCer2.ensGene.LENGTH0.0170.0000.017
strPur1.geneSymbol.LENGTH0.0040.0000.005
strPur1.genscan.LENGTH0.0620.0010.063
strPur1.refGene.LENGTH0.0020.0020.004
strPur1.xenoRefGene.LENGTH0.5070.0030.510
strPur2.geneSymbol.LENGTH0.0040.0000.005
strPur2.genscan.LENGTH0.1050.0020.106
strPur2.refGene.LENGTH0.0040.0000.004
strPur2.xenoRefGene.LENGTH0.6980.0040.701
supportedGeneIDs3.3460.1825.555
supportedGenomes0.2290.0040.935
taeGut1.ensGene.LENGTH0.0590.0030.062
taeGut1.geneSymbol.LENGTH0.0020.0010.003
taeGut1.genscan.LENGTH0.0300.0000.031
taeGut1.nscanGene.LENGTH0.0240.0000.024
taeGut1.refGene.LENGTH0.0010.0010.003
taeGut1.xenoRefGene.LENGTH0.4130.0030.416
tetNig1.ensGene.LENGTH0.0810.0010.082
tetNig1.geneid.LENGTH0.0620.0000.062
tetNig1.genscan.LENGTH0.0480.0000.048
tetNig1.nscanGene.LENGTH0.0640.0010.065
tetNig2.ensGene.LENGTH0.0680.0020.070
unfactor0.0020.0040.006
xenTro1.genscan.LENGTH0.0780.0020.081
xenTro2.ensGene.LENGTH0.0830.0010.084
xenTro2.geneSymbol.LENGTH0.0290.0010.031
xenTro2.genscan.LENGTH0.0690.0000.069
xenTro2.refGene.LENGTH0.0280.0010.028