Back to Build/check report for BioC 3.22 experimental data
ABCDEFGHIJKLMNOPQR[S]TUVWXYZ

This page was generated on 2025-10-16 15:41 -0400 (Thu, 16 Oct 2025).

HostnameOSArch (*)R versionInstalled pkgs
nebbiolo2Linux (Ubuntu 24.04.3 LTS)x86_644.5.1 Patched (2025-08-23 r88802) -- "Great Square Root" 4867
Click on any hostname to see more info about the system (e.g. compilers)      (*) as reported by 'uname -p', except on Windows and Mac OS X

Package 359/434HostnameOS / ArchINSTALLBUILDCHECK
scRNAseq 2.23.1  (landing page)
Aaron Lun
Snapshot Date: 2025-10-16 07:30 -0400 (Thu, 16 Oct 2025)
git_url: https://git.bioconductor.org/packages/scRNAseq
git_branch: devel
git_last_commit: c47ea39
git_last_commit_date: 2025-10-10 14:11:42 -0400 (Fri, 10 Oct 2025)
nebbiolo2Linux (Ubuntu 24.04.3 LTS) / x86_64  OK    OK    ERROR  


BUILD results for scRNAseq on nebbiolo2

To the developers/maintainers of the scRNAseq package:
- Use the following Renviron settings to reproduce errors and warnings.
- If 'R CMD check' started to fail recently on the Linux builder(s) over a missing dependency, add the missing dependency to 'Suggests:' in your DESCRIPTION file. See Renviron.bioc for more information.

raw results


Summary

Package: scRNAseq
Version: 2.23.1
Command: /home/biocbuild/bbs-3.22-bioc/R/bin/R CMD build --keep-empty-dirs --no-resave-data scRNAseq
StartedAt: 2025-10-16 11:41:04 -0400 (Thu, 16 Oct 2025)
EndedAt: 2025-10-16 11:42:20 -0400 (Thu, 16 Oct 2025)
EllapsedTime: 76.6 seconds
RetCode: 0
Status:   OK  
PackageFile: scRNAseq_2.23.1.tar.gz
PackageFileSize: 304.3 KiB

Command output

##############################################################################
##############################################################################
###
### Running command:
###
###   /home/biocbuild/bbs-3.22-bioc/R/bin/R CMD build --keep-empty-dirs --no-resave-data scRNAseq
###
##############################################################################
##############################################################################


* checking for file ‘scRNAseq/DESCRIPTION’ ... OK
* preparing ‘scRNAseq’:
* checking DESCRIPTION meta-information ... OK
* installing the package to process help pages
* saving partial Rd database
* creating vignettes ... OK
* checking for LF line-endings in source and make files and shell scripts
* checking for empty or unneeded directories
* building ‘scRNAseq_2.23.1.tar.gz’