| Back to Build/check report for BioC 3.23 experimental data |
|
This page was generated on 2025-11-06 15:01 -0500 (Thu, 06 Nov 2025).
| Hostname | OS | Arch (*) | R version | Installed pkgs |
|---|---|---|---|---|
| nebbiolo1 | Linux (Ubuntu 24.04.3 LTS) | x86_64 | R Under development (unstable) (2025-10-20 r88955) -- "Unsuffered Consequences" | 4818 |
| Click on any hostname to see more info about the system (e.g. compilers) (*) as reported by 'uname -p', except on Windows and Mac OS X | ||||
| Package 251/431 | Hostname | OS / Arch | INSTALL | BUILD | CHECK | ||||||||
| miRNATarget 1.49.0 (landing page) Y-h. Taguchi
| nebbiolo1 | Linux (Ubuntu 24.04.3 LTS) / x86_64 | OK | OK | OK | ||||||||
|
To the developers/maintainers of the miRNATarget package: - Use the following Renviron settings to reproduce errors and warnings. - If 'R CMD check' started to fail recently on the Linux builder(s) over a missing dependency, add the missing dependency to 'Suggests:' in your DESCRIPTION file. See Renviron.bioc for more information. |
| Package: miRNATarget |
| Version: 1.49.0 |
| Command: /home/biocbuild/bbs-3.23-bioc/R/bin/R CMD check --install=check:miRNATarget.install-out.txt --library=/home/biocbuild/bbs-3.23-bioc/R/site-library --timings miRNATarget_1.49.0.tar.gz |
| StartedAt: 2025-11-06 12:40:18 -0500 (Thu, 06 Nov 2025) |
| EndedAt: 2025-11-06 12:41:44 -0500 (Thu, 06 Nov 2025) |
| EllapsedTime: 85.8 seconds |
| RetCode: 0 |
| Status: OK |
| CheckDir: miRNATarget.Rcheck |
| Warnings: 0 |
##############################################################################
##############################################################################
###
### Running command:
###
### /home/biocbuild/bbs-3.23-bioc/R/bin/R CMD check --install=check:miRNATarget.install-out.txt --library=/home/biocbuild/bbs-3.23-bioc/R/site-library --timings miRNATarget_1.49.0.tar.gz
###
##############################################################################
##############################################################################
* using log directory ‘/home/biocbuild/bbs-3.23-data-experiment/meat/miRNATarget.Rcheck’
* using R Under development (unstable) (2025-10-20 r88955)
* using platform: x86_64-pc-linux-gnu
* R was compiled by
gcc (Ubuntu 13.3.0-6ubuntu2~24.04) 13.3.0
GNU Fortran (Ubuntu 13.3.0-6ubuntu2~24.04) 13.3.0
* running under: Ubuntu 24.04.3 LTS
* using session charset: UTF-8
* checking for file ‘miRNATarget/DESCRIPTION’ ... OK
* this is package ‘miRNATarget’ version ‘1.49.0’
* checking package namespace information ... OK
* checking package dependencies ... OK
* checking if this is a source package ... OK
* checking if there is a namespace ... OK
* checking for hidden files and directories ... NOTE
Found the following hidden files and directories:
vignettes/.goutputstream-8N717W
These were most likely included in error. See section ‘Package
structure’ in the ‘Writing R Extensions’ manual.
* checking for portable file names ... OK
* checking for sufficient/correct file permissions ... OK
* checking whether package ‘miRNATarget’ can be installed ... OK
* checking installed package size ... INFO
installed size is 54.7Mb
sub-directories of 1Mb or more:
data 54.4Mb
* checking package directory ... OK
* checking ‘build’ directory ... OK
* checking DESCRIPTION meta-information ... NOTE
Malformed Description field: should contain one or more complete sentences.
* checking top-level files ... OK
* checking for left-over files ... OK
* checking index information ... OK
* checking package subdirectories ... OK
* checking whether the package can be loaded ... OK
* checking whether the package can be loaded with stated dependencies ... OK
* checking whether the package can be unloaded cleanly ... OK
* checking whether the namespace can be loaded with stated dependencies ... OK
* checking whether the namespace can be unloaded cleanly ... OK
* checking loading without being on the library search path ... OK
* checking Rd files ... OK
* checking Rd metadata ... OK
* checking Rd cross-references ... OK
* checking for missing documentation entries ... OK
* checking for code/documentation mismatches ... OK
* checking Rd \usage sections ... OK
* checking Rd contents ... OK
* checking for unstated dependencies in examples ... OK
* checking contents of ‘data’ directory ... OK
* checking data for non-ASCII characters ... OK
* checking data for ASCII and uncompressed saves ... OK
* checking sizes of PDF files under ‘inst/doc’ ...* checking files in ‘vignettes’ ... OK
* checking examples ... OK
* checking for unstated dependencies in vignettes ... OK
* checking package vignettes ... OK
* checking re-building of vignette outputs ... OK
* checking PDF version of manual ... OK
* DONE
Status: 2 NOTEs
See
‘/home/biocbuild/bbs-3.23-data-experiment/meat/miRNATarget.Rcheck/00check.log’
for details.
miRNATarget.Rcheck/00install.out
############################################################################## ############################################################################## ### ### Running command: ### ### /home/biocbuild/bbs-3.23-bioc/R/bin/R CMD INSTALL miRNATarget ### ############################################################################## ############################################################################## * installing to library ‘/home/biocbuild/bbs-3.23-bioc/R/site-library’ * installing *source* package ‘miRNATarget’ ... ** this is package ‘miRNATarget’ version ‘1.49.0’ ** using staged installation ** data ** help *** installing help indices ** building package indices ** installing vignettes ** testing if installed package can be loaded from temporary location ** testing if installed package can be loaded from final location ** testing if installed package keeps a record of temporary installation path * DONE (miRNATarget)
miRNATarget.Rcheck/miRNATarget-Ex.timings
| name | user | system | elapsed | |
| HS_conv_id | 0.018 | 0.001 | 0.020 | |
| HS_refseq_to_affy_hc_g110 | 0.004 | 0.000 | 0.005 | |
| HS_refseq_to_affy_hg_focus | 0.018 | 0.000 | 0.017 | |
| HS_refseq_to_affy_hg_u133_plus_2 | 0.060 | 0.002 | 0.062 | |
| HS_refseq_to_affy_hg_u133a | 0.037 | 0.001 | 0.039 | |
| HS_refseq_to_affy_hg_u133a_2 | 0.037 | 0.001 | 0.038 | |
| HS_refseq_to_affy_hg_u133b | 0.018 | 0.001 | 0.019 | |
| HS_refseq_to_affy_hg_u95a | 0.025 | 0.000 | 0.025 | |
| HS_refseq_to_affy_hg_u95av2 | 0.021 | 0.002 | 0.023 | |
| HS_refseq_to_affy_hg_u95b | 0.014 | 0.001 | 0.015 | |
| HS_refseq_to_affy_hg_u95c | 0.012 | 0.000 | 0.011 | |
| HS_refseq_to_affy_hg_u95d | 0.007 | 0.000 | 0.007 | |
| HS_refseq_to_affy_hg_u95e | 0.010 | 0.001 | 0.011 | |
| HS_refseq_to_affy_huex_1_0_st_v2 | 0.816 | 0.036 | 0.852 | |
| HS_refseq_to_affy_hugene_1_0_st_v1 | 0.053 | 0.001 | 0.054 | |
| HS_refseq_to_affy_hugenefl | 0.015 | 0.000 | 0.015 | |
| HS_refseq_to_affy_u133_x3p | 0.132 | 0.020 | 0.153 | |
| HS_refseq_to_agilent_cgh_44b | 0.010 | 0.002 | 0.013 | |
| HS_refseq_to_agilent_wholegenome | 0.064 | 0.003 | 0.068 | |
| HS_refseq_to_canonical_transcript_stable_id | 0.065 | 0.000 | 0.066 | |
| HS_refseq_to_ccds | 0.034 | 0.001 | 0.034 | |
| HS_refseq_to_codelink | 0.036 | 0.000 | 0.036 | |
| HS_refseq_to_efg_agilent_sureprint_g3_ge_8x60k | 0.000 | 0.001 | 0.002 | |
| HS_refseq_to_efg_agilent_wholegenome_4x44k_v1 | 0.000 | 0.001 | 0.002 | |
| HS_refseq_to_efg_agilent_wholegenome_4x44k_v2 | 0.002 | 0.000 | 0.002 | |
| HS_refseq_to_embl | 0.667 | 0.023 | 0.693 | |
| HS_refseq_to_ensembl_exon_id | 0.002 | 0.000 | 0.002 | |
| HS_refseq_to_ensembl_gene_id | 0.145 | 0.001 | 0.148 | |
| HS_refseq_to_ensembl_peptide_id | 0.044 | 0.001 | 0.045 | |
| HS_refseq_to_ensembl_transcript_id | 0.054 | 0.000 | 0.054 | |
| HS_refseq_to_entrezgene | 0.050 | 0.000 | 0.052 | |
| HS_refseq_to_hgnc_id | 0.046 | 0.000 | 0.048 | |
| HS_refseq_to_hgnc_symbol | 0.112 | 0.003 | 0.115 | |
| HS_refseq_to_hgnc_transcript_name | 0.044 | 0.001 | 0.047 | |
| HS_refseq_to_illumina_humanht_12 | 0.046 | 0.001 | 0.047 | |
| HS_refseq_to_illumina_humanwg_6_v1 | 0.042 | 0.000 | 0.042 | |
| HS_refseq_to_illumina_humanwg_6_v2 | 0.037 | 0.000 | 0.037 | |
| HS_refseq_to_illumina_humanwg_6_v3 | 0.042 | 0.001 | 0.045 | |
| HS_refseq_to_interpro | 0.113 | 0.000 | 0.114 | |
| HS_refseq_to_ipi | 0.103 | 0.003 | 0.107 | |
| HS_refseq_to_merops | 0.002 | 0.001 | 0.004 | |
| HS_refseq_to_pdb | 0.085 | 0.000 | 0.085 | |
| HS_refseq_to_pfam | 0.066 | 0.000 | 0.066 | |
| HS_refseq_to_phalanx_onearray | 0.076 | 0.000 | 0.076 | |
| HS_refseq_to_protein_id | 0.884 | 0.030 | 0.915 | |
| HS_refseq_to_refseq_dna | 0.056 | 0.000 | 0.057 | |
| HS_refseq_to_refseq_genomic | 0.001 | 0.000 | 0.001 | |
| HS_refseq_to_refseq_peptide | 0.088 | 0.001 | 0.089 | |
| HS_refseq_to_rfam | 0.002 | 0.000 | 0.003 | |
| HS_refseq_to_rfam_gene_name | 0.000 | 0.001 | 0.001 | |
| HS_refseq_to_rfam_transcript_name | 0.001 | 0.000 | 0.001 | |
| HS_refseq_to_smart | 0.034 | 0.000 | 0.034 | |
| HS_refseq_to_tigrfam | 0.005 | 0.000 | 0.005 | |
| HS_refseq_to_ucsc | 0.047 | 0.000 | 0.048 | |
| HS_refseq_to_unigene | 0.060 | 0.001 | 0.062 | |
| HS_refseq_to_uniprot_genename | 0.041 | 0.000 | 0.041 | |
| HS_refseq_to_uniprot_genename_transcript_name | 0.001 | 0.001 | 0.002 | |
| HS_refseq_to_uniprot_sptrembl | 0.002 | 0.000 | 0.001 | |
| HS_refseq_to_uniprot_swissprot | 0.000 | 0.001 | 0.001 | |
| HS_refseq_to_uniprot_swissprot_accession | 0.000 | 0.001 | 0.002 | |
| HS_refseq_to_wikigene_id | 0.001 | 0.000 | 0.001 | |
| HS_refseq_to_wikigene_name | 0.046 | 0.000 | 0.046 | |
| MM_conv_id | 0.002 | 0.000 | 0.003 | |
| MM_refseq_to_affy_mg_u74a | 0.015 | 0.001 | 0.016 | |
| MM_refseq_to_affy_mg_u74av2 | 0.014 | 0.000 | 0.013 | |
| MM_refseq_to_affy_mg_u74b | 0.012 | 0.001 | 0.012 | |
| MM_refseq_to_affy_mg_u74bv2 | 0.012 | 0.000 | 0.012 | |
| MM_refseq_to_affy_mg_u74c | 0.004 | 0.000 | 0.005 | |
| MM_refseq_to_affy_mg_u74cv2 | 0.005 | 0.001 | 0.006 | |
| MM_refseq_to_affy_moe430a | 0.028 | 0.004 | 0.032 | |
| MM_refseq_to_affy_moe430b | 0.014 | 0.001 | 0.015 | |
| MM_refseq_to_affy_moex_1_0_st_v1 | 0.634 | 0.007 | 0.642 | |
| MM_refseq_to_affy_mogene_1_0_st_v1 | 0.035 | 0.001 | 0.036 | |
| MM_refseq_to_affy_mouse430_2 | 0.041 | 0.001 | 0.042 | |
| MM_refseq_to_affy_mouse430a_2 | 0.026 | 0.001 | 0.027 | |
| MM_refseq_to_affy_mu11ksuba | 0.008 | 0.001 | 0.009 | |
| MM_refseq_to_affy_mu11ksubb | 0.006 | 0.001 | 0.007 | |
| MM_refseq_to_agilent_wholegenome | 0.053 | 0.002 | 0.054 | |
| MM_refseq_to_canonical_transcript_stable_id | 0.050 | 0.002 | 0.052 | |
| MM_refseq_to_ccds | 0.026 | 0.001 | 0.027 | |
| MM_refseq_to_codelink | 0.027 | 0.002 | 0.029 | |
| MM_refseq_to_efg_agilent_sureprint_g3_ge_8x60k | 0.000 | 0.001 | 0.002 | |
| MM_refseq_to_efg_agilent_wholegenome_4x44k_v1 | 0.001 | 0.000 | 0.002 | |
| MM_refseq_to_efg_agilent_wholegenome_4x44k_v2 | 0.000 | 0.001 | 0.002 | |
| MM_refseq_to_embl | 0.270 | 0.002 | 0.272 | |
| MM_refseq_to_ensembl_exon_id | 0.001 | 0.000 | 0.002 | |
| MM_refseq_to_ensembl_gene_id | 0.033 | 0.000 | 0.034 | |
| MM_refseq_to_ensembl_peptide_id | 0.032 | 0.001 | 0.033 | |
| MM_refseq_to_ensembl_transcript_id | 0.037 | 0.000 | 0.036 | |
| MM_refseq_to_entrezgene | 0.032 | 0.000 | 0.032 | |
| MM_refseq_to_fantom | 0.090 | 0.001 | 0.091 | |
| MM_refseq_to_illumina_mousewg_6_v1 | 0.045 | 0.001 | 0.046 | |
| MM_refseq_to_illumina_mousewg_6_v2 | 0.045 | 0.001 | 0.046 | |
| MM_refseq_to_interpro | 0.096 | 0.001 | 0.097 | |
| MM_refseq_to_ipi | 0.001 | 0.000 | 0.002 | |
| MM_refseq_to_merops | 0.003 | 0.001 | 0.004 | |
| MM_refseq_to_mgi_id | 0.033 | 0.002 | 0.035 | |
| MM_refseq_to_mgi_symbol | 0.036 | 0.000 | 0.036 | |
| MM_refseq_to_mgi_transcript_name | 0.036 | 0.002 | 0.038 | |
| MM_refseq_to_pdb | 0.010 | 0.000 | 0.009 | |
| MM_refseq_to_pfam | 0.057 | 0.000 | 0.057 | |
| MM_refseq_to_phalanx_onearray | 0.035 | 0.000 | 0.035 | |
| MM_refseq_to_protein_id | 0.360 | 0.001 | 0.362 | |
| MM_refseq_to_refseq_dna | 0.052 | 0.001 | 0.053 | |
| MM_refseq_to_refseq_peptide | 0.067 | 0.001 | 0.068 | |
| MM_refseq_to_rfam | 0.002 | 0.000 | 0.001 | |
| MM_refseq_to_rfam_gene_name | 0.000 | 0.001 | 0.001 | |
| MM_refseq_to_rfam_transcript_name | 0.001 | 0.000 | 0.001 | |
| MM_refseq_to_smart | 0.028 | 0.000 | 0.028 | |
| MM_refseq_to_tigrfam | 0.004 | 0.000 | 0.004 | |
| MM_refseq_to_ucsc | 0.037 | 0.000 | 0.037 | |
| MM_refseq_to_unigene | 0.048 | 0.002 | 0.050 | |
| MM_refseq_to_uniprot_genename | 0.216 | 0.000 | 0.216 | |
| MM_refseq_to_uniprot_genename_transcript_name | 0.000 | 0.001 | 0.002 | |
| MM_refseq_to_uniprot_sptrembl | 0.001 | 0.000 | 0.001 | |
| MM_refseq_to_uniprot_swissprot | 0.001 | 0.000 | 0.001 | |
| MM_refseq_to_uniprot_swissprot_accession | 0.000 | 0.001 | 0.001 | |
| MM_refseq_to_wikigene_id | 0.001 | 0.000 | 0.001 | |
| MM_refseq_to_wikigene_name | 0.033 | 0.000 | 0.033 | |
| TBL2 | 0.796 | 0.102 | 0.898 | |
| TBL2_HS | 1.205 | 0.195 | 1.400 | |
| TBL2_MM | 0.671 | 0.125 | 0.796 | |
| conv_id | 0.002 | 0.000 | 0.002 | |
| id_conv | 0.028 | 0.001 | 0.029 | |