Back to Build/check report for BioC 3.22 experimental data
ABCDEF[G]HIJKLMNOPQRSTUVWXYZ

This page was generated on 2025-10-16 15:41 -0400 (Thu, 16 Oct 2025).

HostnameOSArch (*)R versionInstalled pkgs
nebbiolo2Linux (Ubuntu 24.04.3 LTS)x86_644.5.1 Patched (2025-08-23 r88802) -- "Great Square Root" 4867
Click on any hostname to see more info about the system (e.g. compilers)      (*) as reported by 'uname -p', except on Windows and Mac OS X

Package 149/434HostnameOS / ArchINSTALLBUILDCHECK
geneLenDataBase 1.45.0  (landing page)
Federico Marini
Snapshot Date: 2025-10-16 07:30 -0400 (Thu, 16 Oct 2025)
git_url: https://git.bioconductor.org/packages/geneLenDataBase
git_branch: devel
git_last_commit: 109b234
git_last_commit_date: 2025-04-15 09:16:59 -0400 (Tue, 15 Apr 2025)
nebbiolo2Linux (Ubuntu 24.04.3 LTS) / x86_64  OK    OK    OK  UNNEEDED, same version is already published


CHECK results for geneLenDataBase on nebbiolo2

To the developers/maintainers of the geneLenDataBase package:
- Use the following Renviron settings to reproduce errors and warnings.
- If 'R CMD check' started to fail recently on the Linux builder(s) over a missing dependency, add the missing dependency to 'Suggests:' in your DESCRIPTION file. See Renviron.bioc for more information.

raw results


Summary

Package: geneLenDataBase
Version: 1.45.0
Command: /home/biocbuild/bbs-3.22-bioc/R/bin/R CMD check --install=check:geneLenDataBase.install-out.txt --library=/home/biocbuild/bbs-3.22-bioc/R/site-library --timings geneLenDataBase_1.45.0.tar.gz
StartedAt: 2025-10-16 12:25:21 -0400 (Thu, 16 Oct 2025)
EndedAt: 2025-10-16 12:35:01 -0400 (Thu, 16 Oct 2025)
EllapsedTime: 579.3 seconds
RetCode: 0
Status:   OK  
CheckDir: geneLenDataBase.Rcheck
Warnings: 0

Command output

##############################################################################
##############################################################################
###
### Running command:
###
###   /home/biocbuild/bbs-3.22-bioc/R/bin/R CMD check --install=check:geneLenDataBase.install-out.txt --library=/home/biocbuild/bbs-3.22-bioc/R/site-library --timings geneLenDataBase_1.45.0.tar.gz
###
##############################################################################
##############################################################################


* using log directory ‘/home/biocbuild/bbs-3.22-data-experiment/meat/geneLenDataBase.Rcheck’
* using R version 4.5.1 Patched (2025-08-23 r88802)
* using platform: x86_64-pc-linux-gnu
* R was compiled by
    gcc (Ubuntu 13.3.0-6ubuntu2~24.04) 13.3.0
    GNU Fortran (Ubuntu 13.3.0-6ubuntu2~24.04) 13.3.0
* running under: Ubuntu 24.04.3 LTS
* using session charset: UTF-8
* checking for file ‘geneLenDataBase/DESCRIPTION’ ... OK
* this is package ‘geneLenDataBase’ version ‘1.45.0’
* package encoding: UTF-8
* checking package namespace information ... OK
* checking package dependencies ... OK
* checking if this is a source package ... OK
* checking if there is a namespace ... OK
* checking for hidden files and directories ... OK
* checking for portable file names ... OK
* checking for sufficient/correct file permissions ... OK
* checking whether package ‘geneLenDataBase’ can be installed ... OK
* checking installed package size ... INFO
  installed size is 100.3Mb
  sub-directories of 1Mb or more:
    data  99.7Mb
* checking package directory ... OK
* checking DESCRIPTION meta-information ... OK
* checking top-level files ... OK
* checking for left-over files ... OK
* checking index information ... OK
* checking package subdirectories ... OK
* checking code files for non-ASCII characters ... OK
* checking R files for syntax errors ... OK
* checking whether the package can be loaded ... OK
* checking whether the package can be loaded with stated dependencies ... OK
* checking whether the package can be unloaded cleanly ... OK
* checking whether the namespace can be loaded with stated dependencies ... OK
* checking whether the namespace can be unloaded cleanly ... OK
* checking loading without being on the library search path ... OK
* checking dependencies in R code ... NOTE
Unexported object imported by a ':::' call: ‘txdbmaker:::.UCSC_TXNAME2GENEID_MAPDEFS’
  See the note in ?`:::` about the use of this operator.
* checking S3 generic/method consistency ... OK
* checking replacement functions ... OK
* checking foreign function calls ... OK
* checking R code for possible problems ... OK
* checking Rd files ... OK
* checking Rd metadata ... OK
* checking Rd cross-references ... OK
* checking for missing documentation entries ... OK
* checking for code/documentation mismatches ... OK
* checking Rd \usage sections ... OK
* checking Rd contents ... OK
* checking for unstated dependencies in examples ... OK
* checking contents of ‘data’ directory ... OK
* checking data for non-ASCII characters ... OK
* checking data for ASCII and uncompressed saves ... OK
* checking examples ... OK
Examples with CPU (user + system) or elapsed time > 5s
                  user system elapsed
supportedGeneIDs 3.543  0.054    5.73
* checking PDF version of manual ... OK
* DONE

Status: 1 NOTE
See
  ‘/home/biocbuild/bbs-3.22-data-experiment/meat/geneLenDataBase.Rcheck/00check.log’
for details.


Installation output

geneLenDataBase.Rcheck/00install.out

##############################################################################
##############################################################################
###
### Running command:
###
###   /home/biocbuild/bbs-3.22-bioc/R/bin/R CMD INSTALL geneLenDataBase
###
##############################################################################
##############################################################################


* installing to library ‘/home/biocbuild/bbs-3.22-bioc/R/site-library’
* installing *source* package ‘geneLenDataBase’ ...
** this is package ‘geneLenDataBase’ version ‘1.45.0’
** using staged installation
** R
** data
** byte-compile and prepare package for lazy loading
** help
*** installing help indices
** building package indices
** testing if installed package can be loaded from temporary location
** testing if installed package can be loaded from final location
** testing if installed package keeps a record of temporary installation path
* DONE (geneLenDataBase)

Tests output


Example timings

geneLenDataBase.Rcheck/geneLenDataBase-Ex.timings

nameusersystemelapsed
anoCar1.ensGene.LENGTH0.0800.0080.088
anoCar1.genscan.LENGTH0.0520.0020.054
anoCar1.xenoRefGene.LENGTH0.9070.0040.911
anoGam1.ensGene.LENGTH0.0570.0000.058
anoGam1.geneid.LENGTH0.0420.0010.043
anoGam1.genscan.LENGTH0.0400.0010.041
apiMel1.genscan.LENGTH0.0380.0000.038
apiMel2.ensGene.LENGTH0.0880.0020.089
apiMel2.geneid.LENGTH0.1280.0030.132
apiMel2.genscan.LENGTH0.0310.0010.032
aplCal1.xenoRefGene.LENGTH0.4720.0040.476
bosTau2.geneSymbol.LENGTH0.0410.0030.044
bosTau2.geneid.LENGTH0.2590.0060.265
bosTau2.genscan.LENGTH0.0870.0050.091
bosTau2.refGene.LENGTH0.0430.0010.044
bosTau2.sgpGene.LENGTH0.1060.0020.108
bosTau3.ensGene.LENGTH0.1200.0020.122
bosTau3.geneSymbol.LENGTH0.0380.0010.039
bosTau3.geneid.LENGTH0.1690.0010.171
bosTau3.genscan.LENGTH0.0720.0000.072
bosTau3.refGene.LENGTH0.0340.0010.035
bosTau3.sgpGene.LENGTH0.0940.0000.094
bosTau4.ensGene.LENGTH0.1120.0000.112
bosTau4.geneSymbol.LENGTH0.0320.0020.033
bosTau4.genscan.LENGTH0.0680.0000.068
bosTau4.nscanGene.LENGTH0.0300.0000.029
bosTau4.refGene.LENGTH0.0310.0000.031
braFlo1.xenoRefGene.LENGTH0.4530.0000.452
caeJap1.xenoRefGene.LENGTH0.4270.0010.428
caePb1.xenoRefGene.LENGTH0.5030.0010.504
caePb2.xenoRefGene.LENGTH0.4980.0000.498
caeRem2.xenoRefGene.LENGTH0.4520.0020.454
caeRem3.xenoRefGene.LENGTH0.4150.0020.417
calJac1.genscan.LENGTH0.0930.0000.093
calJac1.nscanGene.LENGTH0.1140.0000.114
calJac1.xenoRefGene.LENGTH0.9990.0031.002
canFam1.ensGene.LENGTH0.1330.0000.133
canFam1.geneSymbol.LENGTH0.0050.0000.005
canFam1.genscan.LENGTH0.0710.0000.071
canFam1.nscanGene.LENGTH0.0690.0010.070
canFam1.refGene.LENGTH0.0040.0020.006
canFam1.xenoRefGene.LENGTH0.7300.0020.732
canFam2.ensGene.LENGTH0.1150.0000.115
canFam2.geneSymbol.LENGTH0.0050.0010.006
canFam2.genscan.LENGTH0.0620.0000.063
canFam2.nscanGene.LENGTH0.0660.0010.067
canFam2.refGene.LENGTH0.0050.0010.006
canFam2.xenoRefGene.LENGTH0.7000.0030.704
cavPor3.ensGene.LENGTH0.3350.0000.335
cavPor3.genscan.LENGTH0.1010.0000.101
cavPor3.nscanGene.LENGTH0.0710.0000.070
cavPor3.xenoRefGene.LENGTH0.6730.0020.675
cb1.xenoRefGene.LENGTH0.4740.0000.474
cb3.xenoRefGene.LENGTH0.3990.0010.400
ce2.geneSymbol.LENGTH0.0690.0010.070
ce2.geneid.LENGTH0.0570.0010.058
ce2.refGene.LENGTH0.0650.0000.066
ce4.geneSymbol.LENGTH0.0690.0010.070
ce4.refGene.LENGTH0.0620.0000.062
ce4.xenoRefGene.LENGTH0.0840.0010.085
ce6.ensGene.LENGTH0.1040.0000.104
ce6.geneSymbol.LENGTH0.0670.0010.068
ce6.refGene.LENGTH0.0650.0010.066
ce6.xenoRefGene.LENGTH0.0880.0120.100
ci1.geneSymbol.LENGTH0.0050.0020.007
ci1.refGene.LENGTH0.0040.0010.005
ci1.xenoRefGene.LENGTH0.1970.0000.197
ci2.ensGene.LENGTH0.0710.0030.074
ci2.geneSymbol.LENGTH0.0040.0010.006
ci2.refGene.LENGTH0.0050.0000.005
ci2.xenoRefGene.LENGTH1.1690.1881.357
danRer3.ensGene.LENGTH0.1050.0010.106
danRer3.geneSymbol.LENGTH0.0530.0000.054
danRer3.refGene.LENGTH0.050.000.05
danRer4.ensGene.LENGTH0.1260.0010.127
danRer4.geneSymbol.LENGTH0.0530.0000.053
danRer4.genscan.LENGTH0.0590.0000.059
danRer4.nscanGene.LENGTH0.0890.0010.089
danRer4.refGene.LENGTH0.0540.0000.054
danRer5.ensGene.LENGTH0.1360.0000.135
danRer5.geneSymbol.LENGTH0.0470.0020.050
danRer5.refGene.LENGTH0.0460.0000.046
danRer5.vegaGene.LENGTH0.0480.0010.049
danRer5.vegaPseudoGene.LENGTH0.0020.0000.002
danRer6.ensGene.LENGTH0.1290.0010.129
danRer6.geneSymbol.LENGTH0.0510.0000.051
danRer6.refGene.LENGTH0.0460.0010.047
danRer6.xenoRefGene.LENGTH0.5650.0000.565
dm1.geneSymbol.LENGTH0.0650.0000.065
dm1.genscan.LENGTH0.0230.0000.023
dm1.refGene.LENGTH0.0590.0000.060
dm2.geneSymbol.LENGTH0.0660.0000.066
dm2.geneid.LENGTH0.0360.0010.037
dm2.genscan.LENGTH0.0230.0000.023
dm2.nscanGene.LENGTH0.0560.0000.056
dm2.refGene.LENGTH0.0590.0010.059
dm3.geneSymbol.LENGTH0.0770.0000.077
dm3.nscanPasaGene.LENGTH0.0530.0010.054
dm3.refGene.LENGTH0.0670.0010.069
downloadLengthFromUCSC000
dp2.genscan.LENGTH0.0320.0000.031
dp2.xenoRefGene.LENGTH0.2280.0000.227
dp3.geneid.LENGTH0.0380.0000.037
dp3.genscan.LENGTH0.0240.0010.025
dp3.xenoRefGene.LENGTH0.1120.0000.112
droAna1.geneid.LENGTH0.0690.0000.069
droAna1.genscan.LENGTH0.0220.0000.021
droAna1.xenoRefGene.LENGTH0.2350.0000.235
droAna2.genscan.LENGTH0.0490.0000.049
droAna2.xenoRefGene.LENGTH0.3180.0000.319
droEre1.genscan.LENGTH0.0280.0010.030
droEre1.xenoRefGene.LENGTH0.3290.0000.330
droGri1.genscan.LENGTH0.0390.0010.040
droGri1.xenoRefGene.LENGTH0.3410.0010.341
droMoj1.geneid.LENGTH0.1330.0010.134
droMoj1.genscan.LENGTH0.0580.0000.059
droMoj1.xenoRefGene.LENGTH0.2540.0000.254
droMoj2.genscan.LENGTH0.0360.0000.036
droMoj2.xenoRefGene.LENGTH0.3300.0010.331
droPer1.genscan.LENGTH0.0390.0010.041
droPer1.xenoRefGene.LENGTH0.3290.0020.332
droSec1.genscan.LENGTH0.0280.0000.029
droSec1.xenoRefGene.LENGTH0.3230.0060.329
droSim1.geneid.LENGTH0.0370.0000.037
droSim1.genscan.LENGTH0.0250.0000.025
droSim1.xenoRefGene.LENGTH0.3910.0000.392
droVir1.geneid.LENGTH0.1080.0010.109
droVir1.genscan.LENGTH0.0430.0010.045
droVir1.xenoRefGene.LENGTH0.2680.0010.269
droVir2.genscan.LENGTH0.0370.0090.046
droVir2.xenoRefGene.LENGTH0.3090.0000.309
droYak1.geneid.LENGTH0.0440.0010.045
droYak1.genscan.LENGTH0.0280.0010.028
droYak1.xenoRefGene.LENGTH0.2440.0000.244
droYak2.genscan.LENGTH0.0260.0010.027
droYak2.xenoRefGene.LENGTH0.3340.0010.334
equCab1.geneSymbol.LENGTH0.0050.0000.005
equCab1.geneid.LENGTH0.0910.0030.093
equCab1.nscanGene.LENGTH0.0410.0010.042
equCab1.refGene.LENGTH0.0050.0000.005
equCab1.sgpGene.LENGTH0.0710.0000.071
equCab2.ensGene.LENGTH0.1120.0020.114
equCab2.geneSymbol.LENGTH0.0070.0000.006
equCab2.nscanGene.LENGTH0.0530.0000.052
equCab2.refGene.LENGTH0.0060.0000.006
equCab2.xenoRefGene.LENGTH0.6890.0030.692
felCat3.ensGene.LENGTH0.1230.0010.124
felCat3.geneSymbol.LENGTH0.0040.0000.004
felCat3.geneid.LENGTH0.5580.0040.563
felCat3.genscan.LENGTH0.1290.0000.129
felCat3.nscanGene.LENGTH0.2990.0070.305
felCat3.refGene.LENGTH0.0030.0010.004
felCat3.sgpGene.LENGTH0.1560.0000.156
felCat3.xenoRefGene.LENGTH1.4000.0011.400
fr1.ensGene.LENGTH0.0900.0000.089
fr1.genscan.LENGTH0.0660.0000.065
fr2.ensGene.LENGTH0.7390.0070.746
galGal2.ensGene.LENGTH0.0570.0000.057
galGal2.geneSymbol.LENGTH0.0160.0000.016
galGal2.geneid.LENGTH0.0360.0010.037
galGal2.genscan.LENGTH0.050.000.05
galGal2.refGene.LENGTH0.0150.0000.015
galGal2.sgpGene.LENGTH0.0440.0020.046
galGal3.ensGene.LENGTH0.0750.0010.076
galGal3.geneSymbol.LENGTH0.0140.0010.016
galGal3.genscan.LENGTH0.050.000.05
galGal3.nscanGene.LENGTH0.0710.0010.072
galGal3.refGene.LENGTH0.0150.0000.015
galGal3.xenoRefGene.LENGTH0.5560.0010.557
gasAcu1.ensGene.LENGTH0.0960.0000.095
gasAcu1.nscanGene.LENGTH0.0900.0010.091
hg16.acembly.LENGTH0.3800.0020.383
hg16.ensGene.LENGTH0.0740.0000.074
hg16.exoniphy.LENGTH0.2380.0030.241
hg16.geneSymbol.LENGTH0.1080.0010.108
hg16.geneid.LENGTH0.0490.0000.050
hg16.genscan.LENGTH0.0620.0010.063
hg16.knownGene.LENGTH0.1210.0010.122
hg16.refGene.LENGTH0.1040.0000.104
hg16.sgpGene.LENGTH0.0590.0000.059
hg17.acembly.LENGTH0.4930.0140.507
hg17.acescan.LENGTH0.0100.0010.010
hg17.ccdsGene.LENGTH0.0230.0010.024
hg17.ensGene.LENGTH0.1100.0020.112
hg17.exoniphy.LENGTH0.4090.0010.410
hg17.geneSymbol.LENGTH0.1110.0000.112
hg17.geneid.LENGTH0.0780.0020.080
hg17.genscan.LENGTH0.0600.0010.060
hg17.knownGene.LENGTH0.120.000.12
hg17.refGene.LENGTH0.1120.0010.113
hg17.sgpGene.LENGTH0.0750.0010.076
hg17.vegaGene.LENGTH0.0400.0030.042
hg17.vegaPseudoGene.LENGTH0.0160.0020.018
hg17.xenoRefGene.LENGTH0.5270.0070.534
hg18.acembly.LENGTH0.5600.0010.561
hg18.acescan.LENGTH0.0090.0000.010
hg18.ccdsGene.LENGTH0.0350.0000.035
hg18.ensGene.LENGTH0.2240.0020.226
hg18.exoniphy.LENGTH0.4950.0010.497
hg18.geneSymbol.LENGTH0.1210.0000.121
hg18.geneid.LENGTH0.0810.0000.081
hg18.genscan.LENGTH0.0640.0010.065
hg18.knownGene.LENGTH0.1710.0010.172
hg18.knownGeneOld3.LENGTH0.0770.0000.077
hg18.refGene.LENGTH0.1140.0000.114
hg18.sgpGene.LENGTH0.0910.0000.091
hg18.sibGene.LENGTH0.8790.0000.881
hg18.xenoRefGene.LENGTH0.4440.0010.445
hg19.ccdsGene.LENGTH0.0420.0010.043
hg19.ensGene.LENGTH0.3640.0000.365
hg19.exoniphy.LENGTH0.5020.0010.505
hg19.geneSymbol.LENGTH0.110.000.11
hg19.knownGene.LENGTH0.1960.0000.196
hg19.nscanGene.LENGTH0.1620.0000.163
hg19.refGene.LENGTH0.1130.0010.114
hg19.xenoRefGene.LENGTH0.4390.0010.440
loxAfr3.xenoRefGene.LENGTH0.9050.0030.907
mm7.ensGene.LENGTH0.1400.0160.156
mm7.geneSymbol.LENGTH0.1040.0090.112
mm7.geneid.LENGTH0.0990.0040.103
mm7.genscan.LENGTH0.0660.0020.068
mm7.knownGene.LENGTH0.1030.0010.104
mm7.refGene.LENGTH0.0920.0000.091
mm7.sgpGene.LENGTH0.0820.0010.082
mm7.xenoRefGene.LENGTH0.3720.0020.373
mm8.ccdsGene.LENGTH0.0230.0010.023
mm8.ensGene.LENGTH0.0840.0010.085
mm8.geneSymbol.LENGTH0.0910.0020.093
mm8.geneid.LENGTH0.0860.0000.085
mm8.genscan.LENGTH0.0670.0000.066
mm8.knownGene.LENGTH0.1000.0010.101
mm8.nscanGene.LENGTH0.0740.0000.073
mm8.refGene.LENGTH0.3770.0050.382
mm8.sgpGene.LENGTH0.0830.0000.084
mm8.sibGene.LENGTH0.2870.0040.291
mm8.xenoRefGene.LENGTH0.4270.0010.428
mm9.acembly.LENGTH0.3600.0010.361
mm9.ccdsGene.LENGTH0.0320.0000.033
mm9.ensGene.LENGTH0.1650.0020.168
mm9.exoniphy.LENGTH0.4940.0010.494
mm9.geneSymbol.LENGTH0.1000.0000.101
mm9.geneid.LENGTH0.1000.0010.101
mm9.genscan.LENGTH0.0800.0030.083
mm9.knownGene.LENGTH0.1170.0010.117
mm9.nscanGene.LENGTH0.0650.0010.067
mm9.refGene.LENGTH0.0910.0000.092
mm9.sgpGene.LENGTH0.0910.0010.092
mm9.xenoRefGene.LENGTH0.9450.0010.947
monDom1.genscan.LENGTH0.0790.0010.079
monDom4.ensGene.LENGTH0.0830.0010.084
monDom4.geneSymbol.LENGTH0.0040.0000.004
monDom4.genscan.LENGTH0.060.000.06
monDom4.nscanGene.LENGTH0.0610.0000.062
monDom4.refGene.LENGTH0.0040.0000.003
monDom4.xenoRefGene.LENGTH0.3920.0000.392
monDom5.ensGene.LENGTH0.1240.0000.125
monDom5.geneSymbol.LENGTH0.0030.0010.004
monDom5.genscan.LENGTH0.0580.0010.058
monDom5.nscanGene.LENGTH0.1240.0000.124
monDom5.refGene.LENGTH0.0030.0000.003
monDom5.xenoRefGene.LENGTH0.7130.0030.716
ornAna1.ensGene.LENGTH0.1010.0000.101
ornAna1.geneSymbol.LENGTH0.0020.0000.003
ornAna1.refGene.LENGTH0.0010.0010.002
ornAna1.xenoRefGene.LENGTH0.5510.0060.556
oryLat2.ensGene.LENGTH1.3920.3061.698
oryLat2.geneSymbol.LENGTH0.0030.0010.004
oryLat2.refGene.LENGTH0.0030.0010.003
oryLat2.xenoRefGene.LENGTH0.580.000.58
panTro1.ensGene.LENGTH0.1010.0000.100
panTro1.geneid.LENGTH0.0470.0000.047
panTro1.genscan.LENGTH0.0570.0010.058
panTro1.xenoRefGene.LENGTH0.1190.0000.119
panTro2.ensGene.LENGTH0.1200.0010.121
panTro2.geneSymbol.LENGTH0.1080.0010.109
panTro2.genscan.LENGTH0.0610.0000.060
panTro2.nscanGene.LENGTH0.0640.0010.065
panTro2.refGene.LENGTH0.1060.0010.107
panTro2.xenoRefGene.LENGTH0.650.000.65
petMar1.xenoRefGene.LENGTH0.3250.0010.326
ponAbe2.ensGene.LENGTH0.0860.0000.086
ponAbe2.geneSymbol.LENGTH0.0130.0000.013
ponAbe2.genscan.LENGTH0.0630.0000.064
ponAbe2.nscanGene.LENGTH0.0640.0000.064
ponAbe2.refGene.LENGTH0.0110.0000.011
ponAbe2.xenoRefGene.LENGTH0.8650.0050.869
priPac1.xenoRefGene.LENGTH0.5040.0020.507
rheMac2.ensGene.LENGTH0.1680.0020.171
rheMac2.geneSymbol.LENGTH0.0050.0000.005
rheMac2.geneid.LENGTH0.0750.0000.074
rheMac2.nscanGene.LENGTH0.0630.0010.065
rheMac2.refGene.LENGTH0.0050.0000.005
rheMac2.sgpGene.LENGTH0.0730.0010.075
rheMac2.xenoRefGene.LENGTH0.6260.0040.631
rn3.ensGene.LENGTH0.1160.0010.117
rn3.geneSymbol.LENGTH0.060.000.06
rn3.geneid.LENGTH0.0560.0010.056
rn3.genscan.LENGTH0.0650.0020.066
rn3.knownGene.LENGTH0.0260.0000.025
rn3.nscanGene.LENGTH0.0630.0000.063
rn3.refGene.LENGTH0.0530.0010.055
rn3.sgpGene.LENGTH0.0620.0000.062
rn3.xenoRefGene.LENGTH0.7200.0020.722
rn4.ensGene.LENGTH0.1890.0000.190
rn4.geneSymbol.LENGTH0.0620.0000.062
rn4.geneid.LENGTH0.0900.0010.091
rn4.genscan.LENGTH0.0630.0000.064
rn4.knownGene.LENGTH0.0250.0010.026
rn4.nscanGene.LENGTH0.0590.0020.060
rn4.refGene.LENGTH0.0540.0000.053
rn4.sgpGene.LENGTH0.090.000.09
rn4.xenoRefGene.LENGTH0.5010.0020.504
sacCer1.ensGene.LENGTH0.0150.0020.018
sacCer2.ensGene.LENGTH0.0170.0000.018
strPur1.geneSymbol.LENGTH0.0040.0000.005
strPur1.genscan.LENGTH0.0630.0020.066
strPur1.refGene.LENGTH0.0050.0000.004
strPur1.xenoRefGene.LENGTH0.6880.0030.691
strPur2.geneSymbol.LENGTH0.0040.0000.004
strPur2.genscan.LENGTH0.1210.0000.121
strPur2.refGene.LENGTH0.0030.0000.004
strPur2.xenoRefGene.LENGTH0.8750.0060.882
supportedGeneIDs3.5430.0545.730
supportedGenomes0.2440.0021.082
taeGut1.ensGene.LENGTH0.0620.0010.063
taeGut1.geneSymbol.LENGTH0.0020.0000.002
taeGut1.genscan.LENGTH0.030.000.03
taeGut1.nscanGene.LENGTH0.0240.0000.024
taeGut1.refGene.LENGTH0.0020.0000.002
taeGut1.xenoRefGene.LENGTH0.5570.0130.570
tetNig1.ensGene.LENGTH0.1000.0000.105
tetNig1.geneid.LENGTH0.0640.0010.065
tetNig1.genscan.LENGTH0.0500.0000.051
tetNig1.nscanGene.LENGTH0.0700.0110.081
tetNig2.ensGene.LENGTH0.0710.0010.072
unfactor0.0020.0010.004
xenTro1.genscan.LENGTH0.0820.0010.084
xenTro2.ensGene.LENGTH0.0940.0010.094
xenTro2.geneSymbol.LENGTH0.0300.0010.031
xenTro2.genscan.LENGTH0.0730.0000.073
xenTro2.refGene.LENGTH0.0290.0000.029