| Back to Build/check report for BioC 3.23 experimental data |
|
This page was generated on 2025-11-06 15:01 -0500 (Thu, 06 Nov 2025).
| Hostname | OS | Arch (*) | R version | Installed pkgs |
|---|---|---|---|---|
| nebbiolo1 | Linux (Ubuntu 24.04.3 LTS) | x86_64 | R Under development (unstable) (2025-10-20 r88955) -- "Unsuffered Consequences" | 4818 |
| Click on any hostname to see more info about the system (e.g. compilers) (*) as reported by 'uname -p', except on Windows and Mac OS X | ||||
| Package 121/431 | Hostname | OS / Arch | INSTALL | BUILD | CHECK | ||||||||
| ewceData 1.19.0 (landing page) Hiranyamaya Dash
| nebbiolo1 | Linux (Ubuntu 24.04.3 LTS) / x86_64 | OK | OK | OK | ||||||||
|
To the developers/maintainers of the ewceData package: - Use the following Renviron settings to reproduce errors and warnings. - If 'R CMD check' started to fail recently on the Linux builder(s) over a missing dependency, add the missing dependency to 'Suggests:' in your DESCRIPTION file. See Renviron.bioc for more information. |
| Package: ewceData |
| Version: 1.19.0 |
| Command: /home/biocbuild/bbs-3.23-bioc/R/bin/R CMD check --install=check:ewceData.install-out.txt --library=/home/biocbuild/bbs-3.23-bioc/R/site-library --timings ewceData_1.19.0.tar.gz |
| StartedAt: 2025-11-06 12:17:46 -0500 (Thu, 06 Nov 2025) |
| EndedAt: 2025-11-06 12:20:20 -0500 (Thu, 06 Nov 2025) |
| EllapsedTime: 153.6 seconds |
| RetCode: 0 |
| Status: OK |
| CheckDir: ewceData.Rcheck |
| Warnings: 0 |
##############################################################################
##############################################################################
###
### Running command:
###
### /home/biocbuild/bbs-3.23-bioc/R/bin/R CMD check --install=check:ewceData.install-out.txt --library=/home/biocbuild/bbs-3.23-bioc/R/site-library --timings ewceData_1.19.0.tar.gz
###
##############################################################################
##############################################################################
* using log directory ‘/home/biocbuild/bbs-3.23-data-experiment/meat/ewceData.Rcheck’
* using R Under development (unstable) (2025-10-20 r88955)
* using platform: x86_64-pc-linux-gnu
* R was compiled by
gcc (Ubuntu 13.3.0-6ubuntu2~24.04) 13.3.0
GNU Fortran (Ubuntu 13.3.0-6ubuntu2~24.04) 13.3.0
* running under: Ubuntu 24.04.3 LTS
* using session charset: UTF-8
* checking for file ‘ewceData/DESCRIPTION’ ... OK
* this is package ‘ewceData’ version ‘1.19.0’
* package encoding: UTF-8
* checking package namespace information ... OK
* checking package dependencies ... OK
* checking if this is a source package ... OK
* checking if there is a namespace ... OK
* checking for hidden files and directories ... OK
* checking for portable file names ... OK
* checking for sufficient/correct file permissions ... OK
* checking whether package ‘ewceData’ can be installed ... OK
* checking installed package size ... OK
* checking package directory ... OK
* checking ‘build’ directory ... OK
* checking DESCRIPTION meta-information ... OK
* checking top-level files ... OK
* checking for left-over files ... OK
* checking index information ... OK
* checking package subdirectories ... OK
* checking code files for non-ASCII characters ... OK
* checking R files for syntax errors ... OK
* checking whether the package can be loaded ... OK
* checking whether the package can be loaded with stated dependencies ... OK
* checking whether the package can be unloaded cleanly ... OK
* checking whether the namespace can be loaded with stated dependencies ... OK
* checking whether the namespace can be unloaded cleanly ... OK
* checking loading without being on the library search path ... OK
* checking dependencies in R code ... OK
* checking S3 generic/method consistency ... OK
* checking replacement functions ... OK
* checking foreign function calls ... OK
* checking R code for possible problems ... OK
* checking Rd files ... OK
* checking Rd metadata ... OK
* checking Rd cross-references ... OK
* checking for missing documentation entries ... OK
* checking for code/documentation mismatches ... OK
* checking Rd \usage sections ... OK
* checking Rd contents ... OK
* checking for unstated dependencies in examples ... OK
* checking files in ‘vignettes’ ... OK
* checking examples ... OK
* checking for unstated dependencies in vignettes ... OK
* checking package vignettes ... OK
* checking re-building of vignette outputs ... OK
* checking PDF version of manual ... OK
* DONE
Status: OK
ewceData.Rcheck/00install.out
############################################################################## ############################################################################## ### ### Running command: ### ### /home/biocbuild/bbs-3.23-bioc/R/bin/R CMD INSTALL ewceData ### ############################################################################## ############################################################################## * installing to library ‘/home/biocbuild/bbs-3.23-bioc/R/site-library’ * installing *source* package ‘ewceData’ ... ** this is package ‘ewceData’ version ‘1.19.0’ ** using staged installation ** R ** inst ** byte-compile and prepare package for lazy loading ** help *** installing help indices ** building package indices ** installing vignettes ** testing if installed package can be loaded from temporary location ** testing if installed package can be loaded from final location ** testing if installed package keeps a record of temporary installation path * DONE (ewceData)
ewceData.Rcheck/ewceData-Ex.timings
| name | user | system | elapsed | |
| all_hgnc | 1.935 | 0.357 | 2.639 | |
| all_hgnc_wtEnsembl | 0.822 | 0.161 | 1.037 | |
| all_mgi | 0.720 | 0.109 | 0.896 | |
| all_mgi_wtEnsembl | 0.758 | 0.088 | 0.942 | |
| alzh_gwas_top100 | 0 | 0 | 0 | |
| cortex_mrna | 2.422 | 0.415 | 2.969 | |
| ctd | 3.443 | 0.181 | 3.739 | |
| ensembl_transcript_lengths_GCcontent | 1.043 | 0.115 | 1.308 | |
| ewceData-Package | 0.681 | 0.038 | 0.775 | |
| example_genelist | 1.033 | 0.110 | 1.659 | |
| hpsd_genes | 0.677 | 0.040 | 0.772 | |
| hypothalamus_mrna | 0.944 | 0.064 | 1.103 | |
| id_genes | 0.677 | 0.037 | 0.772 | |
| mgi_synonym_data | 1.109 | 0.042 | 1.206 | |
| mouse_to_human_homologs | 0.738 | 0.054 | 0.849 | |
| rbfox_genes | 0.704 | 0.051 | 0.866 | |
| schiz_genes | 0.715 | 0.034 | 0.815 | |
| tt_alzh | 1.039 | 0.697 | 1.795 | |
| tt_alzh_BA36 | 0.772 | 0.090 | 0.916 | |
| tt_alzh_BA44 | 0.734 | 0.049 | 0.853 | |