Back to Build/check report for BioC 3.22 experimental data
ABCDEFGHIJKL[M]NOPQRSTUVWXYZ

This page was generated on 2025-07-17 15:41 -0400 (Thu, 17 Jul 2025).

HostnameOSArch (*)R versionInstalled pkgs
nebbiolo2Linux (Ubuntu 24.04.1 LTS)x86_644.5.1 (2025-06-13) -- "Great Square Root" 4786
Click on any hostname to see more info about the system (e.g. compilers)      (*) as reported by 'uname -p', except on Windows and Mac OS X

Package 235/429HostnameOS / ArchINSTALLBUILDCHECK
MetaGxPancreas 1.29.0  (landing page)
Benjamin Haibe-Kains
Snapshot Date: 2025-07-17 07:30 -0400 (Thu, 17 Jul 2025)
git_url: https://git.bioconductor.org/packages/MetaGxPancreas
git_branch: devel
git_last_commit: d880346
git_last_commit_date: 2025-07-16 10:08:10 -0400 (Wed, 16 Jul 2025)
nebbiolo2Linux (Ubuntu 24.04.1 LTS) / x86_64  OK    OK    OK  YES


BUILD results for MetaGxPancreas on nebbiolo2

To the developers/maintainers of the MetaGxPancreas package:
- Use the following Renviron settings to reproduce errors and warnings.
- If 'R CMD check' started to fail recently on the Linux builder(s) over a missing dependency, add the missing dependency to 'Suggests:' in your DESCRIPTION file. See Renviron.bioc for more information.

raw results


Summary

Package: MetaGxPancreas
Version: 1.29.0
Command: /home/biocbuild/bbs-3.22-bioc/R/bin/R CMD build --keep-empty-dirs --no-resave-data MetaGxPancreas
StartedAt: 2025-07-17 11:28:43 -0400 (Thu, 17 Jul 2025)
EndedAt: 2025-07-17 11:30:05 -0400 (Thu, 17 Jul 2025)
EllapsedTime: 82.2 seconds
RetCode: 0
Status:   OK  
PackageFile: MetaGxPancreas_1.29.0.tar.gz
PackageFileSize: 224.4 KiB

Command output

##############################################################################
##############################################################################
###
### Running command:
###
###   /home/biocbuild/bbs-3.22-bioc/R/bin/R CMD build --keep-empty-dirs --no-resave-data MetaGxPancreas
###
##############################################################################
##############################################################################


* checking for file ‘MetaGxPancreas/DESCRIPTION’ ... OK
* preparing ‘MetaGxPancreas’:
* checking DESCRIPTION meta-information ... OK
* installing the package to build vignettes
* creating vignettes ... OK
Warning in person1(given = given[[i]], family = family[[i]], middle = middle[[i]],  :
  It is recommended to use ‘given’ instead of ‘middle’.
* checking for LF line-endings in source and make files and shell scripts
* checking for empty or unneeded directories
Omitted ‘LazyData’ from DESCRIPTION
* building ‘MetaGxPancreas_1.29.0.tar.gz’