Back to Build/check report for BioC 3.23 experimental data
ABCDEFGHIJ[K]LMNOPQRSTUVWXYZ

This page was generated on 2025-11-06 15:01 -0500 (Thu, 06 Nov 2025).

HostnameOSArch (*)R versionInstalled pkgs
nebbiolo1Linux (Ubuntu 24.04.3 LTS)x86_64R Under development (unstable) (2025-10-20 r88955) -- "Unsuffered Consequences" 4818
Click on any hostname to see more info about the system (e.g. compilers)      (*) as reported by 'uname -p', except on Windows and Mac OS X

Package 210/431HostnameOS / ArchINSTALLBUILDCHECK
KEGGdzPathwaysGEO 1.49.0  (landing page)
Gaurav Bhatti
Snapshot Date: 2025-11-06 07:00 -0500 (Thu, 06 Nov 2025)
git_url: https://git.bioconductor.org/packages/KEGGdzPathwaysGEO
git_branch: devel
git_last_commit: 19d5122
git_last_commit_date: 2025-10-29 09:33:26 -0500 (Wed, 29 Oct 2025)
nebbiolo1Linux (Ubuntu 24.04.3 LTS) / x86_64  OK    OK    OK  UNNEEDED, same version is already published


CHECK results for KEGGdzPathwaysGEO on nebbiolo1

To the developers/maintainers of the KEGGdzPathwaysGEO package:
- Use the following Renviron settings to reproduce errors and warnings.
- If 'R CMD check' started to fail recently on the Linux builder(s) over a missing dependency, add the missing dependency to 'Suggests:' in your DESCRIPTION file. See Renviron.bioc for more information.

raw results


Summary

Package: KEGGdzPathwaysGEO
Version: 1.49.0
Command: /home/biocbuild/bbs-3.23-bioc/R/bin/R CMD check --install=check:KEGGdzPathwaysGEO.install-out.txt --library=/home/biocbuild/bbs-3.23-bioc/R/site-library --timings KEGGdzPathwaysGEO_1.49.0.tar.gz
StartedAt: 2025-11-06 12:31:37 -0500 (Thu, 06 Nov 2025)
EndedAt: 2025-11-06 12:36:32 -0500 (Thu, 06 Nov 2025)
EllapsedTime: 295.5 seconds
RetCode: 0
Status:   OK  
CheckDir: KEGGdzPathwaysGEO.Rcheck
Warnings: 0

Command output

##############################################################################
##############################################################################
###
### Running command:
###
###   /home/biocbuild/bbs-3.23-bioc/R/bin/R CMD check --install=check:KEGGdzPathwaysGEO.install-out.txt --library=/home/biocbuild/bbs-3.23-bioc/R/site-library --timings KEGGdzPathwaysGEO_1.49.0.tar.gz
###
##############################################################################
##############################################################################


* using log directory ‘/home/biocbuild/bbs-3.23-data-experiment/meat/KEGGdzPathwaysGEO.Rcheck’
* using R Under development (unstable) (2025-10-20 r88955)
* using platform: x86_64-pc-linux-gnu
* R was compiled by
    gcc (Ubuntu 13.3.0-6ubuntu2~24.04) 13.3.0
    GNU Fortran (Ubuntu 13.3.0-6ubuntu2~24.04) 13.3.0
* running under: Ubuntu 24.04.3 LTS
* using session charset: UTF-8
* checking for file ‘KEGGdzPathwaysGEO/DESCRIPTION’ ... OK
* checking extension type ... Package
* this is package ‘KEGGdzPathwaysGEO’ version ‘1.49.0’
* checking package namespace information ... OK
* checking package dependencies ... OK
* checking if this is a source package ... OK
* checking if there is a namespace ... OK
* checking for hidden files and directories ... OK
* checking for portable file names ... OK
* checking for sufficient/correct file permissions ... OK
* checking whether package ‘KEGGdzPathwaysGEO’ can be installed ... OK
* checking installed package size ... INFO
  installed size is 301.0Mb
  sub-directories of 1Mb or more:
    data  300.8Mb
* checking package directory ... OK
* checking DESCRIPTION meta-information ... OK
* checking top-level files ... OK
* checking for left-over files ... OK
* checking index information ... OK
* checking package subdirectories ... OK
* checking code files for non-ASCII characters ... OK
* checking R files for syntax errors ... OK
* checking whether the package can be loaded ... OK
* checking whether the package can be loaded with stated dependencies ... OK
* checking whether the package can be unloaded cleanly ... OK
* checking whether the namespace can be loaded with stated dependencies ... OK
* checking whether the namespace can be unloaded cleanly ... OK
* checking loading without being on the library search path ... OK
* checking dependencies in R code ... NOTE
Namespaces in Imports field not imported from:
  ‘Biobase’ ‘BiocGenerics’
  All declared Imports should be used.
* checking S3 generic/method consistency ... OK
* checking replacement functions ... OK
* checking foreign function calls ... OK
* checking R code for possible problems ... OK
* checking Rd files ... OK
* checking Rd metadata ... OK
* checking Rd cross-references ... OK
* checking for missing documentation entries ... OK
* checking for code/documentation mismatches ... OK
* checking Rd \usage sections ... OK
* checking Rd contents ... OK
* checking for unstated dependencies in examples ... OK
* checking contents of ‘data’ directory ... OK
* checking data for non-ASCII characters ... OK
* checking data for ASCII and uncompressed saves ... OK
* checking examples ... OK
* checking PDF version of manual ... OK
* DONE

Status: 1 NOTE
See
  ‘/home/biocbuild/bbs-3.23-data-experiment/meat/KEGGdzPathwaysGEO.Rcheck/00check.log’
for details.


Installation output

KEGGdzPathwaysGEO.Rcheck/00install.out

##############################################################################
##############################################################################
###
### Running command:
###
###   /home/biocbuild/bbs-3.23-bioc/R/bin/R CMD INSTALL KEGGdzPathwaysGEO
###
##############################################################################
##############################################################################


* installing to library ‘/home/biocbuild/bbs-3.23-bioc/R/site-library’
* installing *source* package ‘KEGGdzPathwaysGEO’ ...
** this is package ‘KEGGdzPathwaysGEO’ version ‘1.49.0’
** using staged installation
** R
** data
** byte-compile and prepare package for lazy loading
** help
*** installing help indices
** building package indices
** testing if installed package can be loaded from temporary location
** testing if installed package can be loaded from final location
** testing if installed package keeps a record of temporary installation path
* DONE (KEGGdzPathwaysGEO)

Tests output


Example timings

KEGGdzPathwaysGEO.Rcheck/KEGGdzPathwaysGEO-Ex.timings

nameusersystemelapsed
GSE12970.0510.0080.058
GSE147620.1110.0110.121
GSE154710.2570.0320.289
GSE165150.1390.0210.160
GSE188420.3140.0420.356
GSE191880.5630.0760.639
GSE197280.1150.0030.118
GSE201530.0940.0060.101
GSE202910.0640.0040.069
GSE213540.1060.0030.108
GSE34670.1020.0060.108
GSE35850.0370.0000.038
GSE36780.0930.0030.096
GSE41070.1180.0050.123
GSE5281_EC0.1150.0070.123
GSE5281_HIP0.1260.0070.133
GSE5281_VCX0.1450.0050.150
GSE6956AA0.0350.0000.034
GSE6956C0.0730.0070.080
GSE7810.0410.0010.042
GSE86710.2470.0110.259
GSE87620.1110.0130.125
GSE93480.3050.0160.322
GSE94760.0990.0090.109
KEGGdzPathwaysGEO-package0.2940.0150.309