Back to Build/check report for BioC 3.23 annotations
ABCDEFGHIJKLMNOPQR[S]TUVWXYZ

This page was generated on 2025-11-26 07:00 -0500 (Wed, 26 Nov 2025).

HostnameOSArch (*)R versionInstalled pkgs
nebbiolo1Linux (Ubuntu 24.04.3 LTS)x86_64R Under development (unstable) (2025-10-20 r88955) -- "Unsuffered Consequences" 4865
Click on any hostname to see more info about the system (e.g. compilers)      (*) as reported by 'uname -p', except on Windows and Mac OS X

Package 46/49HostnameOS / ArchINSTALLBUILDCHECK
synaptome.db 0.99.17  (landing page)
Oksana Sorokina
Snapshot Date: 2025-11-26 05:45 -0500 (Wed, 26 Nov 2025)
git_url: https://git.bioconductor.org/packages/synaptome.db
git_branch: devel
git_last_commit: 306fdf3
git_last_commit_date: 2025-08-21 06:42:21 -0500 (Thu, 21 Aug 2025)
nebbiolo1Linux (Ubuntu 24.04.3 LTS) / x86_64  OK    OK    WARNINGS  UNNEEDED, same version is already published


BUILD results for synaptome.db on nebbiolo1

To the developers/maintainers of the synaptome.db package:
- Use the following Renviron settings to reproduce errors and warnings.
- If 'R CMD check' started to fail recently on the Linux builder(s) over a missing dependency, add the missing dependency to 'Suggests:' in your DESCRIPTION file. See Renviron.bioc for more information.

raw results


Summary

Package: synaptome.db
Version: 0.99.17
Command: /home/biocbuild/bbs-3.23-bioc/R/bin/R CMD build --keep-empty-dirs --no-resave-data synaptome.db
StartedAt: 2025-11-26 06:02:53 -0500 (Wed, 26 Nov 2025)
EndedAt: 2025-11-26 06:03:53 -0500 (Wed, 26 Nov 2025)
EllapsedTime: 60.2 seconds
RetCode: 0
Status:   OK  
PackageFile: synaptome.db_0.99.17.tar.gz
PackageFileSize: 312.6 KiB

Command output

##############################################################################
##############################################################################
###
### Running command:
###
###   /home/biocbuild/bbs-3.23-bioc/R/bin/R CMD build --keep-empty-dirs --no-resave-data synaptome.db
###
##############################################################################
##############################################################################


* checking for file ‘synaptome.db/DESCRIPTION’ ... OK
* preparing ‘synaptome.db’:
* checking DESCRIPTION meta-information ... OK
* installing the package (it is needed to process help pages)
Loading required namespace: synaptome.db
Using 'localHub=TRUE'
  If offline, please also see BiocManager vignette section on offline use
loading from cache
* saving partial Rd database
* creating vignettes ... OK
* checking for LF line-endings in source and make files and shell scripts
* checking for empty or unneeded directories
* building ‘synaptome.db_0.99.17.tar.gz’