| Back to Rapid builds (Linux only) of a subset of BioC 3.22 Report updated every 6 hours |
This page was generated on 2025-07-24 09:37 -0400 (Thu, 24 Jul 2025).
| Hostname | OS | Arch (*) | R version | Installed pkgs |
|---|---|---|---|---|
| teran2 | Linux (Ubuntu 24.04.1 LTS) | x86_64 | 4.5.0 (2025-04-11) -- "How About a Twenty-Six" | 914 |
| Click on any hostname to see more info about the system (e.g. compilers) (*) as reported by 'uname -p', except on Windows and Mac OS X | ||||
| Package 51/229 | Hostname | OS / Arch | INSTALL | BUILD | CHECK | |||||||
| Category 2.75.0 (landing page) Bioconductor Package Maintainer
| teran2 | Linux (Ubuntu 24.04.1 LTS) / x86_64 | OK | OK | OK | |||||||
|
To the developers/maintainers of the Category package: - Use the following Renviron settings to reproduce errors and warnings. - If 'R CMD check' started to fail recently on the Linux builder(s) over a missing dependency, add the missing dependency to 'Suggests:' in your DESCRIPTION file. See Renviron.bioc for more information. |
| Package: Category |
| Version: 2.75.0 |
| Command: /home/rapidbuild/bbs-3.22-bioc-rapid/R/bin/R CMD check --install=check:Category.install-out.txt --library=/home/rapidbuild/bbs-3.22-bioc-rapid/R/site-library --timings Category_2.75.0.tar.gz |
| StartedAt: 2025-07-24 07:49:33 -0400 (Thu, 24 Jul 2025) |
| EndedAt: 2025-07-24 07:52:40 -0400 (Thu, 24 Jul 2025) |
| EllapsedTime: 187.6 seconds |
| RetCode: 0 |
| Status: OK |
| CheckDir: Category.Rcheck |
| Warnings: 0 |
##############################################################################
##############################################################################
###
### Running command:
###
### /home/rapidbuild/bbs-3.22-bioc-rapid/R/bin/R CMD check --install=check:Category.install-out.txt --library=/home/rapidbuild/bbs-3.22-bioc-rapid/R/site-library --timings Category_2.75.0.tar.gz
###
##############################################################################
##############################################################################
* using log directory ‘/media/volume/teran2_disk/rapidbuild/bbs-3.22-bioc-rapid/meat/Category.Rcheck’
* using R version 4.5.0 (2025-04-11)
* using platform: x86_64-pc-linux-gnu
* R was compiled by
gcc (Ubuntu 13.3.0-6ubuntu2~24.04) 13.3.0
GNU Fortran (Ubuntu 13.3.0-6ubuntu2~24.04) 13.3.0
* running under: Ubuntu 24.04.2 LTS
* using session charset: UTF-8
* checking for file ‘Category/DESCRIPTION’ ... OK
* this is package ‘Category’ version ‘2.75.0’
* checking package namespace information ... OK
* checking package dependencies ... OK
* checking if this is a source package ... OK
* checking if there is a namespace ... OK
* checking for hidden files and directories ... OK
* checking for portable file names ... OK
* checking for sufficient/correct file permissions ... OK
* checking whether package ‘Category’ can be installed ... OK
* checking installed package size ... OK
* checking package directory ... OK
* checking ‘build’ directory ... OK
* checking DESCRIPTION meta-information ... OK
* checking top-level files ... OK
* checking for left-over files ... OK
* checking index information ... OK
* checking package subdirectories ... OK
* checking code files for non-ASCII characters ... OK
* checking R files for syntax errors ... OK
* checking whether the package can be loaded ... OK
* checking whether the package can be loaded with stated dependencies ... OK
* checking whether the package can be unloaded cleanly ... OK
* checking whether the namespace can be loaded with stated dependencies ... OK
* checking whether the namespace can be unloaded cleanly ... OK
* checking loading without being on the library search path ... OK
* checking dependencies in R code ... OK
* checking S3 generic/method consistency ... OK
* checking replacement functions ... OK
* checking foreign function calls ... OK
* checking R code for possible problems ... OK
* checking Rd files ... NOTE
checkRd: (-1) HyperGParams-class.Rd:99: Lost braces
99 | \item{code{annotation(object)}}{Accessor for annotation. If you want
| ^
checkRd: (-1) cb_parse_band_Hs.Rd:23: Escaped LaTeX specials: \_ \_ \_
checkRd: (-1) cb_parse_band_Mm.Rd:22: Escaped LaTeX specials: \&
* checking Rd metadata ... OK
* checking Rd cross-references ... NOTE
Unknown package ‘KEGG.db’ in Rd xrefs
Non-topic package-anchored link(s) in Rd file 'cateGOryMatrix.Rd':
‘[GO.db:GOBASE]{GO}’
See section 'Cross-references' in the 'Writing R Extensions' manual.
* checking for missing documentation entries ... OK
* checking for code/documentation mismatches ... OK
* checking Rd \usage sections ... OK
* checking Rd contents ... OK
* checking for unstated dependencies in examples ... OK
* checking files in ‘vignettes’ ... OK
* checking examples ... OK
* checking for unstated dependencies in ‘tests’ ... OK
* checking tests ...
Running ‘runTests.R’
OK
* checking for unstated dependencies in vignettes ... OK
* checking package vignettes ... OK
* checking re-building of vignette outputs ... OK
* checking PDF version of manual ... OK
* DONE
Status: 2 NOTEs
See
‘/media/volume/teran2_disk/rapidbuild/bbs-3.22-bioc-rapid/meat/Category.Rcheck/00check.log’
for details.
Category.Rcheck/00install.out
############################################################################## ############################################################################## ### ### Running command: ### ### /home/rapidbuild/bbs-3.22-bioc-rapid/R/bin/R CMD INSTALL Category ### ############################################################################## ############################################################################## * installing to library ‘/media/volume/teran2_disk/rapidbuild/bbs-3.22-bioc-rapid/R/site-library’ * installing *source* package ‘Category’ ... ** this is package ‘Category’ version ‘2.75.0’ ** using staged installation ** R ** inst ** byte-compile and prepare package for lazy loading ** help *** installing help indices ** building package indices ** installing vignettes ** testing if installed package can be loaded from temporary location ** testing if installed package can be loaded from final location ** testing if installed package keeps a record of temporary installation path * DONE (Category)
Category.Rcheck/tests/runTests.Rout
R version 4.5.0 (2025-04-11) -- "How About a Twenty-Six"
Copyright (C) 2025 The R Foundation for Statistical Computing
Platform: x86_64-pc-linux-gnu
R is free software and comes with ABSOLUTELY NO WARRANTY.
You are welcome to redistribute it under certain conditions.
Type 'license()' or 'licence()' for distribution details.
R is a collaborative project with many contributors.
Type 'contributors()' for more information and
'citation()' on how to cite R or R packages in publications.
Type 'demo()' for some demos, 'help()' for on-line help, or
'help.start()' for an HTML browser interface to help.
Type 'q()' to quit R.
> require("Category") || stop("unable to load Category")
Loading required package: Category
Loading required package: stats4
Loading required package: BiocGenerics
Loading required package: generics
Attaching package: 'generics'
The following objects are masked from 'package:base':
as.difftime, as.factor, as.ordered, intersect, is.element, setdiff,
setequal, union
Attaching package: 'BiocGenerics'
The following objects are masked from 'package:stats':
IQR, mad, sd, var, xtabs
The following objects are masked from 'package:base':
Filter, Find, Map, Position, Reduce, anyDuplicated, aperm, append,
as.data.frame, basename, cbind, colnames, dirname, do.call,
duplicated, eval, evalq, get, grep, grepl, is.unsorted, lapply,
mapply, match, mget, order, paste, pmax, pmax.int, pmin, pmin.int,
rank, rbind, rownames, sapply, saveRDS, table, tapply, unique,
unsplit, which.max, which.min
Loading required package: AnnotationDbi
Loading required package: Biobase
Welcome to Bioconductor
Vignettes contain introductory material; view with
'browseVignettes()'. To cite Bioconductor, see
'citation("Biobase")', and for packages 'citation("pkgname")'.
Loading required package: IRanges
Loading required package: S4Vectors
Attaching package: 'S4Vectors'
The following object is masked from 'package:utils':
findMatches
The following objects are masked from 'package:base':
I, expand.grid, unname
Loading required package: Matrix
Attaching package: 'Matrix'
The following object is masked from 'package:S4Vectors':
expand
[1] TRUE
> BiocGenerics:::testPackage("Category", "UnitTests", ".*_test\\.R$")
Loading required package: org.Hs.eg.db
Error in x$.self$finalize() : attempt to apply non-function
In addition: Warning messages:
1: In makeValidParams(.Object) : removing duplicate IDs in geneIds
2: In makeValidParams(.Object) : removing duplicate IDs in universeGeneIds
3: In makeValidParams(.Object) : removing geneIds not in universeGeneIds
4: In makeValidParams(.Object) : removing duplicate IDs in geneIds
5: In makeValidParams(.Object) : removing duplicate IDs in universeGeneIds
6: In makeValidParams(.Object) : removing geneIds not in universeGeneIds
Error in x$.self$finalize() : attempt to apply non-function
Error in x$.self$finalize() : attempt to apply non-function
Error in x$.self$finalize() : attempt to apply non-function
'select()' returned 1:many mapping between keys and columns
'select()' returned 1:many mapping between keys and columns
'select()' returned 1:many mapping between keys and columns
Loading required package: graph
Attaching package: 'GOstats'
The following object is masked from 'package:AnnotationDbi':
makeGOGraph
RUNIT TEST PROTOCOL -- Thu Jul 24 07:51:48 2025
***********************************************
Number of test functions: 14
Number of errors: 0
Number of failures: 0
1 Test Suite :
Category RUnit Tests - 14 test functions, 0 errors, 0 failures
Number of test functions: 14
Number of errors: 0
Number of failures: 0
Warning messages:
1: In makeValidParams(.Object) :
converting geneIds from list to atomic vector via unlist
2: In makeValidParams(.Object) :
converting univ from list to atomic vector via unlist
3: In makeValidParams(.Object) : removing duplicate IDs in universeGeneIds
>
> proc.time()
user system elapsed
29.157 4.200 33.691
Category.Rcheck/Category-Ex.timings
| name | user | system | elapsed | |
| ChrBandTree-class | 2.382 | 0.170 | 2.554 | |
| ChrMapHyperGParams-class | 0.001 | 0.000 | 0.001 | |
| ChrMapHyperGResult-class | 0.001 | 0.000 | 0.000 | |
| ChrMapLinearMParams-class | 0 | 0 | 0 | |
| ChrMapLinearMResult-class | 0.000 | 0.000 | 0.001 | |
| DatPkg-class | 0.016 | 0.002 | 0.017 | |
| HyperGResult-accessors | 0.482 | 0.017 | 0.843 | |
| LinearMResult-class | 0.000 | 0.000 | 0.001 | |
| MAPAmat | 1.716 | 0.059 | 1.776 | |
| applyByCategory | 0.003 | 0.000 | 0.002 | |
| cateGOryMatrix | 0.110 | 0.006 | 0.116 | |
| cb_parse_band_Hs | 0 | 0 | 0 | |
| cb_parse_band_Mm | 0 | 0 | 0 | |
| findAMstats | 0.001 | 0.000 | 0.001 | |
| getPathNames | 0.052 | 0.004 | 1.270 | |
| gseattperm | 0.881 | 0.021 | 0.904 | |
| hyperg | 0.306 | 0.009 | 0.316 | |
| makeChrBandGraph | 0.993 | 0.004 | 0.996 | |
| makeEBcontr | 0.073 | 0.001 | 0.074 | |
| probes2MAP | 0.082 | 0.002 | 0.086 | |
| probes2Path | 0.017 | 0.000 | 0.017 | |
| ttperm | 0.006 | 0.002 | 0.006 | |