Back to Build/check report for BioC 3.23:   simplified   long
ABCDEFGHIJKLMNOPQRS[T]UVWXYZ

This page was generated on 2025-11-05 11:32 -0500 (Wed, 05 Nov 2025).

HostnameOSArch (*)R versionInstalled pkgs
nebbiolo1Linux (Ubuntu 24.04.3 LTS)x86_64R Under development (unstable) (2025-10-20 r88955) -- "Unsuffered Consequences" 4818
Click on any hostname to see more info about the system (e.g. compilers)      (*) as reported by 'uname -p', except on Windows and Mac OS X

Package 2180/2323HostnameOS / ArchINSTALLBUILDCHECKBUILD BIN
tidySpatialExperiment 1.7.1  (landing page)
William Hutchison
Snapshot Date: 2025-11-04 13:40 -0500 (Tue, 04 Nov 2025)
git_url: https://git.bioconductor.org/packages/tidySpatialExperiment
git_branch: devel
git_last_commit: 9871264
git_last_commit_date: 2025-11-02 19:43:39 -0500 (Sun, 02 Nov 2025)
nebbiolo1Linux (Ubuntu 24.04.3 LTS) / x86_64  OK    OK    OK  UNNEEDED, same version is already published


BUILD results for tidySpatialExperiment on nebbiolo1

To the developers/maintainers of the tidySpatialExperiment package:
- Allow up to 24 hours (and sometimes 48 hours) for your latest push to git@git.bioconductor.org:packages/tidySpatialExperiment.git to reflect on this report. See Troubleshooting Build Report for more information.
- Use the following Renviron settings to reproduce errors and warnings.
- If 'R CMD check' started to fail recently on the Linux builder(s) over a missing dependency, add the missing dependency to 'Suggests:' in your DESCRIPTION file. See Renviron.bioc for more information.

raw results


Summary

Package: tidySpatialExperiment
Version: 1.7.1
Command: /home/biocbuild/bbs-3.23-bioc/R/bin/R CMD build --keep-empty-dirs --no-resave-data tidySpatialExperiment
StartedAt: 2025-11-04 20:24:40 -0500 (Tue, 04 Nov 2025)
EndedAt: 2025-11-04 20:25:32 -0500 (Tue, 04 Nov 2025)
EllapsedTime: 52.1 seconds
RetCode: 0
Status:   OK  
PackageFile: tidySpatialExperiment_1.7.1.tar.gz
PackageFileSize: 4.331 MiB

Command output

##############################################################################
##############################################################################
###
### Running command:
###
###   /home/biocbuild/bbs-3.23-bioc/R/bin/R CMD build --keep-empty-dirs --no-resave-data tidySpatialExperiment
###
##############################################################################
##############################################################################


* checking for file ‘tidySpatialExperiment/DESCRIPTION’ ... OK
* preparing ‘tidySpatialExperiment’:
* checking DESCRIPTION meta-information ... OK
* installing the package (it is needed to process help pages)
* creating vignettes ... OK
* checking for LF line-endings in source and make files and shell scripts
* checking for empty or unneeded directories
* building ‘tidySpatialExperiment_1.7.1.tar.gz’