Back to Multiple platform build/check report for BioC 3.22:   simplified   long
ABCDEFGHIJKLMNOPQR[S]TUVWXYZ

This page was generated on 2025-10-16 12:04 -0400 (Thu, 16 Oct 2025).

HostnameOSArch (*)R versionInstalled pkgs
nebbiolo2Linux (Ubuntu 24.04.3 LTS)x86_644.5.1 Patched (2025-08-23 r88802) -- "Great Square Root" 4867
lconwaymacOS 12.7.6 Montereyx86_644.5.1 Patched (2025-09-10 r88807) -- "Great Square Root" 4655
kjohnson3macOS 13.7.7 Venturaarm644.5.1 Patched (2025-09-10 r88807) -- "Great Square Root" 4600
taishanLinux (openEuler 24.03 LTS)aarch644.5.0 (2025-04-11) -- "How About a Twenty-Six" 4610
Click on any hostname to see more info about the system (e.g. compilers)      (*) as reported by 'uname -p', except on Windows and Mac OS X

Package 2057/2346HostnameOS / ArchINSTALLBUILDCHECKBUILD BIN
sparrow 1.15.0  (landing page)
Steve Lianoglou
Snapshot Date: 2025-10-15 13:45 -0400 (Wed, 15 Oct 2025)
git_url: https://git.bioconductor.org/packages/sparrow
git_branch: devel
git_last_commit: fd4225d
git_last_commit_date: 2025-04-15 12:39:51 -0400 (Tue, 15 Apr 2025)
nebbiolo2Linux (Ubuntu 24.04.3 LTS) / x86_64  OK    OK    OK  UNNEEDED, same version is already published
lconwaymacOS 12.7.6 Monterey / x86_64  OK    OK    OK    OK  UNNEEDED, same version is already published
kjohnson3macOS 13.7.7 Ventura / arm64  OK    OK    OK    OK  UNNEEDED, same version is already published
taishanLinux (openEuler 24.03 LTS) / aarch64  OK    OK    OK  


CHECK results for sparrow on nebbiolo2

To the developers/maintainers of the sparrow package:
- Allow up to 24 hours (and sometimes 48 hours) for your latest push to git@git.bioconductor.org:packages/sparrow.git to reflect on this report. See Troubleshooting Build Report for more information.
- Use the following Renviron settings to reproduce errors and warnings.
- If 'R CMD check' started to fail recently on the Linux builder(s) over a missing dependency, add the missing dependency to 'Suggests:' in your DESCRIPTION file. See Renviron.bioc for more information.

raw results


Summary

Package: sparrow
Version: 1.15.0
Command: /home/biocbuild/bbs-3.22-bioc/R/bin/R CMD check --install=check:sparrow.install-out.txt --library=/home/biocbuild/bbs-3.22-bioc/R/site-library --timings sparrow_1.15.0.tar.gz
StartedAt: 2025-10-16 05:13:39 -0400 (Thu, 16 Oct 2025)
EndedAt: 2025-10-16 05:23:54 -0400 (Thu, 16 Oct 2025)
EllapsedTime: 615.6 seconds
RetCode: 0
Status:   OK  
CheckDir: sparrow.Rcheck
Warnings: 0

Command output

##############################################################################
##############################################################################
###
### Running command:
###
###   /home/biocbuild/bbs-3.22-bioc/R/bin/R CMD check --install=check:sparrow.install-out.txt --library=/home/biocbuild/bbs-3.22-bioc/R/site-library --timings sparrow_1.15.0.tar.gz
###
##############################################################################
##############################################################################


* using log directory ‘/home/biocbuild/bbs-3.22-bioc/meat/sparrow.Rcheck’
* using R version 4.5.1 Patched (2025-08-23 r88802)
* using platform: x86_64-pc-linux-gnu
* R was compiled by
    gcc (Ubuntu 13.3.0-6ubuntu2~24.04) 13.3.0
    GNU Fortran (Ubuntu 13.3.0-6ubuntu2~24.04) 13.3.0
* running under: Ubuntu 24.04.3 LTS
* using session charset: UTF-8
* checking for file ‘sparrow/DESCRIPTION’ ... OK
* checking extension type ... Package
* this is package ‘sparrow’ version ‘1.15.0’
* package encoding: UTF-8
* checking package namespace information ... OK
* checking package dependencies ... OK
* checking if this is a source package ... OK
* checking if there is a namespace ... OK
* checking for hidden files and directories ... OK
* checking for portable file names ... OK
* checking for sufficient/correct file permissions ... OK
* checking whether package ‘sparrow’ can be installed ... OK
* checking installed package size ... OK
* checking package directory ... OK
* checking ‘build’ directory ... OK
* checking DESCRIPTION meta-information ... NOTE
License stub is invalid DCF.
* checking top-level files ... OK
* checking for left-over files ... OK
* checking index information ... OK
* checking package subdirectories ... OK
* checking code files for non-ASCII characters ... OK
* checking R files for syntax errors ... OK
* checking whether the package can be loaded ... OK
* checking whether the package can be loaded with stated dependencies ... OK
* checking whether the package can be unloaded cleanly ... OK
* checking whether the namespace can be loaded with stated dependencies ... OK
* checking whether the namespace can be unloaded cleanly ... OK
* checking loading without being on the library search path ... OK
* checking whether startup messages can be suppressed ... OK
* checking dependencies in R code ... OK
* checking S3 generic/method consistency ... OK
* checking replacement functions ... OK
* checking foreign function calls ... OK
* checking R code for possible problems ... NOTE
.map_ids_orthogene: no visible binding for global variable ‘gspecies’
.map_ids_orthogene: no visible binding for global variable ‘species’
.map_ids_orthogene: no visible binding for global variable ‘input_ensg’
.map_ids_orthogene: no visible binding for global variable
  ‘ortholog_ensg’
.map_ids_orthogene: no visible binding for global variable
  ‘ortholog_gene’
.map_ids_orthogene: no visible binding for global variable ‘symbol’
.map_ids_orthogene: no visible binding for global variable ‘input_id’
.map_ids_orthogene: no visible global function definition for
  ‘starts_with’
.map_ids_orthogene: no visible global function definition for
  ‘last_col’
.map_ids_orthogene: no visible binding for global variable ‘rm_na’
geneSetsStats: no visible binding for global variable ‘direction’
getMSigGeneSetDb: no visible binding for global variable ‘ncbi_gene’
getMSigGeneSetDb: no visible binding for global variable ‘db_species’
getMSigGeneSetDb: no visible binding for global variable
  ‘msigdb_collection’
getMSigGeneSetDb: no visible binding for global variable ‘gene_symbol’
getMSigGeneSetDb: no visible binding for global variable
  ‘gs_collection_name’
getMSigGeneSetDb: no visible binding for global variable ‘gs_url’
convertIdentifiers,GeneSetDb: no visible binding for global variable
  ‘.convert_ids_with_babelgene’
convertIdentifiers,GeneSetDb: no visible global function definition for
  ‘.map_ids_babelgene’
Undefined global functions or variables:
  .convert_ids_with_babelgene .map_ids_babelgene db_species direction
  gene_symbol gs_collection_name gs_url gspecies input_ensg input_id
  last_col msigdb_collection ncbi_gene ortholog_ensg ortholog_gene
  rm_na species starts_with symbol
* checking Rd files ... OK
* checking Rd metadata ... OK
* checking Rd cross-references ... NOTE
Non-topic package-anchored link(s) in Rd file 'GeneSetDb-class.Rd':
  ‘[GSEABase:GeneIdentifierType-constructors]{GSEABase::EntrezIdentifier()}’

Non-topic package-anchored link(s) in Rd file 'calculateIndividualLogFC.Rd':
  ‘[limma:ebayes]{limma::eBayes()}’

Non-topic package-anchored link(s) in Rd file 'collectionMetadata.Rd':
  ‘[GSEABase:GeneIdentifierType-constructors]{GSEABase::EntrezIdentifier()}’

Non-topic package-anchored link(s) in Rd file 'seas.Rd':
  ‘[limma:toptable]{limma::topTable()}’
  ‘[limma:dupcor]{limma::duplicateCorrelation()}’

See section 'Cross-references' in the 'Writing R Extensions' manual.

Found the following Rd file(s) with Rd \link{} targets missing package
anchors:
  seas.Rd: BiocParallel
Please provide package anchors for all Rd \link{} targets not in the
package itself and the base packages.
* checking for missing documentation entries ... OK
* checking for code/documentation mismatches ... OK
* checking Rd \usage sections ... OK
* checking Rd contents ... OK
* checking for unstated dependencies in examples ... OK
* checking line endings in Makefiles ... OK
* checking for GNU extensions in Makefiles ... OK
* checking include directives in Makefiles ... OK
* checking files in ‘vignettes’ ... OK
* checking examples ... OK
Examples with CPU (user + system) or elapsed time > 5s
                            user system elapsed
geneSetsStats             41.790  0.075   5.368
goseq                     26.382  0.273   8.049
annotateGeneSetMembership 23.532  0.222   4.593
seas                      23.464  0.198   4.974
geneSetSummaryByGenes     23.520  0.127   3.526
SparrowResult-utilities   23.009  0.146   4.532
logFC                     21.563  0.070   3.105
scoreSingleSamples         7.118  0.151   6.341
* checking for unstated dependencies in ‘tests’ ... OK
* checking tests ...
  Running ‘testthat.R’
 OK
* checking for unstated dependencies in vignettes ... OK
* checking package vignettes ... OK
* checking re-building of vignette outputs ... OK
* checking PDF version of manual ... OK
* DONE

Status: 3 NOTEs
See
  ‘/home/biocbuild/bbs-3.22-bioc/meat/sparrow.Rcheck/00check.log’
for details.


Installation output

sparrow.Rcheck/00install.out

##############################################################################
##############################################################################
###
### Running command:
###
###   /home/biocbuild/bbs-3.22-bioc/R/bin/R CMD INSTALL sparrow
###
##############################################################################
##############################################################################


* installing to library ‘/home/biocbuild/bbs-3.22-bioc/R/site-library’
* installing *source* package ‘sparrow’ ...
** this is package ‘sparrow’ version ‘1.15.0’
** using staged installation
** R
** inst
** byte-compile and prepare package for lazy loading
** help
*** installing help indices
*** copying figures
** building package indices
** installing vignettes
** testing if installed package can be loaded from temporary location
** testing if installed package can be loaded from final location
** testing if installed package keeps a record of temporary installation path
* DONE (sparrow)

Tests output

sparrow.Rcheck/tests/testthat.Rout


R version 4.5.1 Patched (2025-08-23 r88802) -- "Great Square Root"
Copyright (C) 2025 The R Foundation for Statistical Computing
Platform: x86_64-pc-linux-gnu

R is free software and comes with ABSOLUTELY NO WARRANTY.
You are welcome to redistribute it under certain conditions.
Type 'license()' or 'licence()' for distribution details.

R is a collaborative project with many contributors.
Type 'contributors()' for more information and
'citation()' on how to cite R or R packages in publications.

Type 'demo()' for some demos, 'help()' for on-line help, or
'help.start()' for an HTML browser interface to help.
Type 'q()' to quit R.

> library("sparrow")
> library("testthat")
> library("data.table")
> library("dplyr")

Attaching package: 'dplyr'

The following objects are masked from 'package:data.table':

    between, first, last

The following object is masked from 'package:testthat':

    matches

The following object is masked from 'package:sparrow':

    combine

The following objects are masked from 'package:stats':

    filter, lag

The following objects are masked from 'package:base':

    intersect, setdiff, setequal, union

> 
> test_check("sparrow")

Attaching package: 'magrittr'

The following objects are masked from 'package:testthat':

    equals, is_less_than, not

[ FAIL 0 | WARN 0 | SKIP 6 | PASS 1467 ]

══ Skipped tests (6) ═══════════════════════════════════════════════════════════
• empty test (1): 'test-MultiGSEAResult.R:3:1'
• {misgdbdf} is not installed (5): 'test-get-msigdb.R:6:3',
  'test-get-msigdb.R:14:3', 'test-get-msigdb.R:27:3', 'test-get-msigdb.R:65:3',
  'test-get-msigdb.R:99:3'

[ FAIL 0 | WARN 0 | SKIP 6 | PASS 1467 ]
> 
> ## Remove temporary files that were generated
> test.dir <- system.file('tests', package = "sparrow")
> pdfs <- dir(test.dir, "\\.pdf$", full.names=TRUE)
> if (length(pdfs)) {
+   unlink(pdfs)
+ }
> 
> 
> proc.time()
   user  system elapsed 
895.852   9.173 252.133 

Example timings

sparrow.Rcheck/sparrow-Ex.timings

nameusersystemelapsed
GeneSetDb-class0.0840.0000.068
SparrowResult-utilities23.009 0.146 4.532
addGeneSetMetadata0.3450.0010.072
annotateGeneSetMembership23.532 0.222 4.593
calculateIndividualLogFC1.4470.0151.462
collectionMetadata0.4270.0000.078
combine-GeneSetDb-GeneSetDb-method0.5940.0030.104
combine-SparrowResult-SparrowResult-method0.1250.0000.123
conform0.7040.0030.410
conversion1.9230.0390.641
convertIdentifiers1.3630.0140.232
corplot0.1000.0040.103
eigenWeightedMean4.4110.0423.903
examples0.2620.0120.275
failWith000
featureIdMap0.6480.0010.401
featureIds0.7710.0040.431
geneSet0.3730.0000.087
geneSetCollectionURLfunction0.3400.0000.073
geneSetSummaryByGenes23.520 0.127 3.526
geneSets0.3670.0020.062
geneSetsStats41.790 0.075 5.368
getKeggCollection000
getMSigCollection000
getPantherCollection0.0010.0000.000
getReactomeCollection000
goseq26.382 0.273 8.049
gsdScore2.5680.0072.085
gskey0.0020.0000.002
hasGeneSet0.3060.0000.062
hasGeneSetCollection0.3360.0000.062
incidenceMatrix1.2180.0140.964
iplot4.9420.0532.889
is.active0.5870.0070.309
logFC21.563 0.070 3.105
mgheatmap0.0020.0000.000
mgheatmap2000
msg000
ora0.2220.0090.225
p.matrix0.1080.0010.110
randomGeneSetDb0.0830.0020.080
renameCollections0.5340.0140.095
renameRows0.3960.0210.416
results0.1070.0000.107
scale_rows0.0040.0000.004
scoreSingleSamples7.1180.1516.341
seas23.464 0.198 4.974
sparrow_methods0.0030.0000.003
species_info0.0050.0000.006
subset.GeneSetDb0.3100.0010.066
subsetByFeatures0.5620.0050.086
validateInputs0.3880.0050.128
volcanoPlot2.1210.0672.188
volcanoStatsTable0.0620.0000.062
zScore1.2250.0230.744