Back to Build/check report for BioC 3.23:   simplified   long
ABCDEFGHIJKLMNOPQR[S]TUVWXYZ

This page was generated on 2025-11-08 11:32 -0500 (Sat, 08 Nov 2025).

HostnameOSArch (*)R versionInstalled pkgs
nebbiolo1Linux (Ubuntu 24.04.3 LTS)x86_64R Under development (unstable) (2025-10-20 r88955) -- "Unsuffered Consequences" 4821
Click on any hostname to see more info about the system (e.g. compilers)      (*) as reported by 'uname -p', except on Windows and Mac OS X

Package 1895/2323HostnameOS / ArchINSTALLBUILDCHECKBUILD BIN
scGraphVerse 1.1.0  (landing page)
Francesco Cecere
Snapshot Date: 2025-11-07 13:40 -0500 (Fri, 07 Nov 2025)
git_url: https://git.bioconductor.org/packages/scGraphVerse
git_branch: devel
git_last_commit: 1e63abe
git_last_commit_date: 2025-10-29 11:38:49 -0500 (Wed, 29 Oct 2025)
nebbiolo1Linux (Ubuntu 24.04.3 LTS) / x86_64  OK    OK    OK  UNNEEDED, same version is already published


CHECK results for scGraphVerse on nebbiolo1

To the developers/maintainers of the scGraphVerse package:
- Allow up to 24 hours (and sometimes 48 hours) for your latest push to git@git.bioconductor.org:packages/scGraphVerse.git to reflect on this report. See Troubleshooting Build Report for more information.
- Use the following Renviron settings to reproduce errors and warnings.
- If 'R CMD check' started to fail recently on the Linux builder(s) over a missing dependency, add the missing dependency to 'Suggests:' in your DESCRIPTION file. See Renviron.bioc for more information.

raw results


Summary

Package: scGraphVerse
Version: 1.1.0
Command: /home/biocbuild/bbs-3.23-bioc/R/bin/R CMD check --install=check:scGraphVerse.install-out.txt --library=/home/biocbuild/bbs-3.23-bioc/R/site-library --timings scGraphVerse_1.1.0.tar.gz
StartedAt: 2025-11-08 03:36:46 -0500 (Sat, 08 Nov 2025)
EndedAt: 2025-11-08 03:58:29 -0500 (Sat, 08 Nov 2025)
EllapsedTime: 1302.6 seconds
RetCode: 0
Status:   OK  
CheckDir: scGraphVerse.Rcheck
Warnings: 0

Command output

##############################################################################
##############################################################################
###
### Running command:
###
###   /home/biocbuild/bbs-3.23-bioc/R/bin/R CMD check --install=check:scGraphVerse.install-out.txt --library=/home/biocbuild/bbs-3.23-bioc/R/site-library --timings scGraphVerse_1.1.0.tar.gz
###
##############################################################################
##############################################################################


* using log directory ‘/home/biocbuild/bbs-3.23-bioc/meat/scGraphVerse.Rcheck’
* using R Under development (unstable) (2025-10-20 r88955)
* using platform: x86_64-pc-linux-gnu
* R was compiled by
    gcc (Ubuntu 13.3.0-6ubuntu2~24.04) 13.3.0
    GNU Fortran (Ubuntu 13.3.0-6ubuntu2~24.04) 13.3.0
* running under: Ubuntu 24.04.3 LTS
* using session charset: UTF-8
* checking for file ‘scGraphVerse/DESCRIPTION’ ... OK
* this is package ‘scGraphVerse’ version ‘1.1.0’
* package encoding: UTF-8
* checking package namespace information ... OK
* checking package dependencies ... INFO
Imports includes 21 non-default packages.
Importing from so many packages makes the package vulnerable to any of
them becoming unavailable.  Move as many as possible to Suggests and
use conditionally.
* checking if this is a source package ... OK
* checking if there is a namespace ... OK
* checking for hidden files and directories ... OK
* checking for portable file names ... OK
* checking for sufficient/correct file permissions ... OK
* checking whether package ‘scGraphVerse’ can be installed ... OK
* used C compiler: ‘gcc (Ubuntu 13.3.0-6ubuntu2~24.04) 13.3.0’
* checking installed package size ... OK
* checking package directory ... OK
* checking ‘build’ directory ... OK
* checking DESCRIPTION meta-information ... OK
* checking top-level files ... OK
* checking for left-over files ... OK
* checking index information ... OK
* checking package subdirectories ... OK
* checking code files for non-ASCII characters ... OK
* checking R files for syntax errors ... OK
* checking whether the package can be loaded ... OK
* checking whether the package can be loaded with stated dependencies ... OK
* checking whether the package can be unloaded cleanly ... OK
* checking whether the namespace can be loaded with stated dependencies ... OK
* checking whether the namespace can be unloaded cleanly ... OK
* checking loading without being on the library search path ... OK
* checking dependencies in R code ... OK
* checking S3 generic/method consistency ... OK
* checking replacement functions ... OK
* checking foreign function calls ... OK
* checking R code for possible problems ... OK
* checking Rd files ... OK
* checking Rd metadata ... OK
* checking Rd cross-references ... NOTE
Found the following Rd file(s) with Rd \link{} targets missing package
anchors:
  classify_edges.Rd: SummarizedExperiment-class
  community_path.Rd: SummarizedExperiment-class
  compare_consensus.Rd: SummarizedExperiment-class
  create_consensus.Rd: SummarizedExperiment-class
  cutoff_adjacency.Rd: MultiAssayExperiment-class,
    SummarizedExperiment-class
  earlyj.Rd: MultiAssayExperiment-class
  edge_mining.Rd: SummarizedExperiment-class
  generate_adjacency.Rd: SummarizedExperiment-class
  infer_networks.Rd: MultiAssayExperiment-class
  plotROC.Rd: SummarizedExperiment-class
  plotg.Rd: SummarizedExperiment-class
  pscores.Rd: SummarizedExperiment-class
  selgene.Rd: SingleCellExperiment-class
  symmetrize.Rd: SummarizedExperiment-class
  toy_counts.Rd: MultiAssayExperiment-class
Please provide package anchors for all Rd \link{} targets not in the
package itself and the base packages.
* checking for missing documentation entries ... OK
* checking for code/documentation mismatches ... OK
* checking Rd \usage sections ... OK
* checking Rd contents ... OK
* checking for unstated dependencies in examples ... OK
* checking contents of ‘data’ directory ... OK
* checking data for non-ASCII characters ... OK
* checking data for ASCII and uncompressed saves ... OK
* checking line endings in C/C++/Fortran sources/headers ... OK
* checking compiled code ... INFO
Note: information on .o files is not available
* checking files in ‘vignettes’ ... OK
* checking examples ... OK
Examples with CPU (user + system) or elapsed time > 5s
                            user system elapsed
stringdb_adjacency        48.917  1.634  73.381
community_path            27.700  0.527  36.296
compute_community_metrics 27.378  0.198  34.352
compute_topology_metrics  27.385  0.081  34.607
community_similarity      26.767  0.232  33.890
plot_community_comparison 26.406  0.142  33.862
edge_mining               25.932  0.159  32.141
plotg                     23.796  0.067  23.862
pscores                   23.020  0.138  23.158
plot_network_comparison   22.589  0.060  22.648
compare_consensus         22.314  0.104  22.425
cutoff_adjacency          22.311  0.064  22.375
create_consensus          21.936  0.055  22.012
classify_edges            20.259  0.180  20.440
symmetrize                 9.894  0.030   9.923
plotROC                    8.796  0.006   8.802
generate_adjacency         8.054  0.694   7.851
build_network_se           7.492  0.121   7.614
infer_networks             6.533  0.001   6.535
toy_counts                 6.488  0.001   6.489
* checking for unstated dependencies in ‘tests’ ... OK
* checking tests ...
  Running ‘testthat.R’
 OK
* checking for unstated dependencies in vignettes ... OK
* checking package vignettes ... OK
* checking re-building of vignette outputs ... OK
* checking PDF version of manual ... OK
* DONE

Status: 1 NOTE
See
  ‘/home/biocbuild/bbs-3.23-bioc/meat/scGraphVerse.Rcheck/00check.log’
for details.


Installation output

scGraphVerse.Rcheck/00install.out

##############################################################################
##############################################################################
###
### Running command:
###
###   /home/biocbuild/bbs-3.23-bioc/R/bin/R CMD INSTALL scGraphVerse
###
##############################################################################
##############################################################################


* installing to library ‘/home/biocbuild/bbs-3.23-bioc/R/site-library’
* installing *source* package ‘scGraphVerse’ ...
** this is package ‘scGraphVerse’ version ‘1.1.0’
** using staged installation
** libs
using C compiler: ‘gcc (Ubuntu 13.3.0-6ubuntu2~24.04) 13.3.0’
gcc -std=gnu2x -I"/home/biocbuild/bbs-3.23-bioc/R/include" -DNDEBUG   -I/usr/local/include    -fpic  -g -O2  -Wall -Werror=format-security -c init.c -o init.o
gcc -std=gnu2x -I"/home/biocbuild/bbs-3.23-bioc/R/include" -DNDEBUG   -I/usr/local/include    -fpic  -g -O2  -Wall -Werror=format-security -c regTree.c -o regTree.o
regTree.c: In function ‘findBestSplit’:
regTree.c:232:15: warning: variable ‘lc’ set but not used [-Wunused-but-set-variable]
  232 |     int last, lc, nl, nr, npopl, npopr;
      |               ^~
regTree.c: In function ‘predictRegTree’:
regTree.c:418:19: warning: unused variable ‘cbestsplit’ [-Wunused-variable]
  418 |     int i, k, m, *cbestsplit, s;
      |                   ^~~~~~~~~~
gcc -std=gnu2x -I"/home/biocbuild/bbs-3.23-bioc/R/include" -DNDEBUG   -I/usr/local/include    -fpic  -g -O2  -Wall -Werror=format-security -c regrf.c -o regrf.o
regrf.c: In function ‘regRF’:
regrf.c:71:30: warning: unused variable ‘nodexts’ [-Wunused-variable]
   71 |     int *in, *nind, *nodex, *nodexts;
      |                              ^~~~~~~
regrf.c:71:22: warning: variable ‘nodex’ set but not used [-Wunused-but-set-variable]
   71 |     int *in, *nind, *nodex, *nodexts;
      |                      ^~~~~
regrf.c:69:10: warning: variable ‘oobpair’ set but not used [-Wunused-but-set-variable]
   69 |     int *oobpair, varImp, localImp, *varUsed, kk;
      |          ^~~~~~~
regrf.c:67:61: warning: variable ‘nPerm’ set but not used [-Wunused-but-set-variable]
   67 |     int k, m, mr, n, nOOB, j, jout, idx, ntest, last, ktmp, nPerm,
      |                                                             ^~~~~
regrf.c:67:31: warning: unused variable ‘jout’ [-Wunused-variable]
   67 |     int k, m, mr, n, nOOB, j, jout, idx, ntest, last, ktmp, nPerm,
      |                               ^~~~
regrf.c:67:22: warning: unused variable ‘nOOB’ [-Wunused-variable]
   67 |     int k, m, mr, n, nOOB, j, jout, idx, ntest, last, ktmp, nPerm,
      |                      ^~~~
regrf.c:67:15: warning: unused variable ‘mr’ [-Wunused-variable]
   67 |     int k, m, mr, n, nOOB, j, jout, idx, ntest, last, ktmp, nPerm,
      |               ^~
regrf.c:65:36: warning: unused variable ‘ytree’ [-Wunused-variable]
   65 |     double *yb, *xtmp, *xb, *ytr, *ytree, *tgini, *meanY, *varY, *ww;
      |                                    ^~~~~
regrf.c:65:30: warning: variable ‘ytr’ set but not used [-Wunused-but-set-variable]
   65 |     double *yb, *xtmp, *xb, *ytr, *ytree, *tgini, *meanY, *varY, *ww;
      |                              ^~~
regrf.c:65:18: warning: variable ‘xtmp’ set but not used [-Wunused-but-set-variable]
   65 |     double *yb, *xtmp, *xb, *ytr, *ytree, *tgini, *meanY, *varY, *ww;
      |                  ^~~~
regrf.c:63:58: warning: variable ‘resOOB’ set but not used [-Wunused-but-set-variable]
   63 |           *errb, resid=0.0, *ooberr, ooberrperm, delta, *resOOB;
      |                                                          ^~~~~~
regrf.c:63:50: warning: unused variable ‘delta’ [-Wunused-variable]
   63 |           *errb, resid=0.0, *ooberr, ooberrperm, delta, *resOOB;
      |                                                  ^~~~~
regrf.c:63:38: warning: unused variable ‘ooberrperm’ [-Wunused-variable]
   63 |           *errb, resid=0.0, *ooberr, ooberrperm, delta, *resOOB;
      |                                      ^~~~~~~~~~
regrf.c:63:30: warning: variable ‘ooberr’ set but not used [-Wunused-but-set-variable]
   63 |           *errb, resid=0.0, *ooberr, ooberrperm, delta, *resOOB;
      |                              ^~~~~~
regrf.c:63:18: warning: unused variable ‘resid’ [-Wunused-variable]
   63 |           *errb, resid=0.0, *ooberr, ooberrperm, delta, *resOOB;
      |                  ^~~~~
regrf.c:63:12: warning: variable ‘errb’ set but not used [-Wunused-but-set-variable]
   63 |           *errb, resid=0.0, *ooberr, ooberrperm, delta, *resOOB;
      |            ^~~~
regrf.c:62:53: warning: unused variable ‘r’ [-Wunused-variable]
   62 |     double errts = 0.0, averrb,  *meanYts, *varYts, r, *xrand,
      |                                                     ^
regrf.c:62:25: warning: variable ‘averrb’ set but not used [-Wunused-but-set-variable]
   62 |     double errts = 0.0, averrb,  *meanYts, *varYts, r, *xrand,
      |                         ^~~~~~
regrf.c:62:12: warning: unused variable ‘errts’ [-Wunused-variable]
   62 |     double errts = 0.0, averrb,  *meanYts, *varYts, r, *xrand,
      |            ^~~~~
gcc -std=gnu2x -shared -L/home/biocbuild/bbs-3.23-bioc/R/lib -L/usr/local/lib -o scGraphVerse.so init.o regTree.o regrf.o -L/home/biocbuild/bbs-3.23-bioc/R/lib -lR
installing to /home/biocbuild/bbs-3.23-bioc/R/site-library/00LOCK-scGraphVerse/00new/scGraphVerse/libs
** R
** data
** inst
** byte-compile and prepare package for lazy loading
** help
*** installing help indices
*** copying figures
** building package indices
** installing vignettes
** testing if installed package can be loaded from temporary location
** checking absolute paths in shared objects and dynamic libraries
** testing if installed package can be loaded from final location
** testing if installed package keeps a record of temporary installation path
* DONE (scGraphVerse)

Tests output

scGraphVerse.Rcheck/tests/testthat.Rout


R Under development (unstable) (2025-10-20 r88955) -- "Unsuffered Consequences"
Copyright (C) 2025 The R Foundation for Statistical Computing
Platform: x86_64-pc-linux-gnu

R is free software and comes with ABSOLUTELY NO WARRANTY.
You are welcome to redistribute it under certain conditions.
Type 'license()' or 'licence()' for distribution details.

R is a collaborative project with many contributors.
Type 'contributors()' for more information and
'citation()' on how to cite R or R packages in publications.

Type 'demo()' for some demos, 'help()' for on-line help, or
'help.start()' for an HTML browser interface to help.
Type 'q()' to quit R.

> library(testthat)
> library(scGraphVerse)
> 
> test_check("scGraphVerse")
[ FAIL 0 | WARN 2227 | SKIP 10 | PASS 492 ]

══ Skipped tests (10) ══════════════════════════════════════════════════════════
• Complex internal function tested via cutoff_adjacency (1):
  'test-utilities.R:288:5'
• KEGG requires internet and annotation packages (1):
  'test-community-topology.R:228:5'
• Reactome requires internet and annotation packages (1):
  'test-community-topology.R:245:5'
• Seurat object creation requires full Seurat setup (1):
  'test-network-inference.R:749:5'
• Seurat objects require actual Seurat setup (1): 'test-utilities.R:198:5'
• robinCompare parameter compatibility varies by version (2):
  'test-community-topology.R:160:5', 'test-community-topology.R:263:5'
• spinglass can be slow and unstable in tests (1):
  'test-community-topology.R:383:5'
• {pcalg} is not installed (2): 'test-network-inference.R:845:5',
  'test-network-inference.R:883:5'

[ FAIL 0 | WARN 2227 | SKIP 10 | PASS 492 ]
> 
> proc.time()
   user  system elapsed 
211.189   8.894 219.258 

Example timings

scGraphVerse.Rcheck/scGraphVerse-Ex.timings

nameusersystemelapsed
PCzinb0.9060.0070.914
build_network_se7.4920.1217.614
classify_edges20.259 0.18020.440
community_path27.700 0.52736.296
community_similarity26.767 0.23233.890
compare_consensus22.314 0.10422.425
compute_community_metrics27.378 0.19834.352
compute_topology_metrics27.385 0.08134.607
create_consensus21.936 0.05522.012
create_mae0.2370.0030.239
cutoff_adjacency22.311 0.06422.375
download_Atlas0.0650.0021.259
earlyj0.2020.0000.202
edge_mining25.932 0.15932.141
generate_adjacency8.0540.6947.851
infer_networks6.5330.0016.535
init_py0.3300.0840.558
plotROC8.7960.0068.802
plot_community_comparison26.406 0.14233.862
plot_network_comparison22.589 0.06022.648
plotg23.796 0.06723.862
pscores23.020 0.13823.158
selgene0.0170.0010.018
stringdb_adjacency48.917 1.63473.381
symmetrize9.8940.0309.923
toy_adj_matrix0.0060.0000.006
toy_counts6.4880.0016.489
zinb_simdata0.0080.0010.009