| Back to Multiple platform build/check report for BioC 3.23: simplified long |
|
This page was generated on 2025-11-14 11:36 -0500 (Fri, 14 Nov 2025).
| Hostname | OS | Arch (*) | R version | Installed pkgs |
|---|---|---|---|---|
| nebbiolo1 | Linux (Ubuntu 24.04.3 LTS) | x86_64 | R Under development (unstable) (2025-10-20 r88955) -- "Unsuffered Consequences" | 4825 |
| kjohnson3 | macOS 13.7.7 Ventura | arm64 | R Under development (unstable) (2025-11-04 r88984) -- "Unsuffered Consequences" | 4547 |
| Click on any hostname to see more info about the system (e.g. compilers) (*) as reported by 'uname -p', except on Windows and Mac OS X | ||||
| Package 1880/2325 | Hostname | OS / Arch | INSTALL | BUILD | CHECK | BUILD BIN | ||||||||
| scBubbletree 1.13.0 (landing page) Simo Kitanovski
| nebbiolo1 | Linux (Ubuntu 24.04.3 LTS) / x86_64 | OK | OK | OK | |||||||||
| kjohnson3 | macOS 13.7.7 Ventura / arm64 | OK | OK | OK | OK | |||||||||
|
To the developers/maintainers of the scBubbletree package: - Allow up to 24 hours (and sometimes 48 hours) for your latest push to git@git.bioconductor.org:packages/scBubbletree.git to reflect on this report. See Troubleshooting Build Report for more information. - Use the following Renviron settings to reproduce errors and warnings. - If 'R CMD check' started to fail recently on the Linux builder(s) over a missing dependency, add the missing dependency to 'Suggests:' in your DESCRIPTION file. See Renviron.bioc for more information. |
| Package: scBubbletree |
| Version: 1.13.0 |
| Command: /home/biocbuild/bbs-3.23-bioc/R/bin/R CMD check --install=check:scBubbletree.install-out.txt --library=/home/biocbuild/bbs-3.23-bioc/R/site-library --timings scBubbletree_1.13.0.tar.gz |
| StartedAt: 2025-11-14 03:33:07 -0500 (Fri, 14 Nov 2025) |
| EndedAt: 2025-11-14 03:48:36 -0500 (Fri, 14 Nov 2025) |
| EllapsedTime: 929.0 seconds |
| RetCode: 0 |
| Status: OK |
| CheckDir: scBubbletree.Rcheck |
| Warnings: 0 |
##############################################################################
##############################################################################
###
### Running command:
###
### /home/biocbuild/bbs-3.23-bioc/R/bin/R CMD check --install=check:scBubbletree.install-out.txt --library=/home/biocbuild/bbs-3.23-bioc/R/site-library --timings scBubbletree_1.13.0.tar.gz
###
##############################################################################
##############################################################################
* using log directory ‘/home/biocbuild/bbs-3.23-bioc/meat/scBubbletree.Rcheck’
* using R Under development (unstable) (2025-10-20 r88955)
* using platform: x86_64-pc-linux-gnu
* R was compiled by
gcc (Ubuntu 13.3.0-6ubuntu2~24.04) 13.3.0
GNU Fortran (Ubuntu 13.3.0-6ubuntu2~24.04) 13.3.0
* running under: Ubuntu 24.04.3 LTS
* using session charset: UTF-8
* checking for file ‘scBubbletree/DESCRIPTION’ ... OK
* checking extension type ... Package
* this is package ‘scBubbletree’ version ‘1.13.0’
* package encoding: UTF-8
* checking package namespace information ... OK
* checking package dependencies ... OK
* checking if this is a source package ... OK
* checking if there is a namespace ... OK
* checking for hidden files and directories ... OK
* checking for portable file names ... OK
* checking for sufficient/correct file permissions ... OK
* checking whether package ‘scBubbletree’ can be installed ... OK
* checking installed package size ... OK
* checking package directory ... OK
* checking ‘build’ directory ... OK
* checking DESCRIPTION meta-information ... OK
* checking top-level files ... OK
* checking for left-over files ... OK
* checking index information ... OK
* checking package subdirectories ... OK
* checking code files for non-ASCII characters ... OK
* checking R files for syntax errors ... OK
* checking whether the package can be loaded ... OK
* checking whether the package can be loaded with stated dependencies ... OK
* checking whether the package can be unloaded cleanly ... OK
* checking whether the namespace can be loaded with stated dependencies ... OK
* checking whether the namespace can be unloaded cleanly ... OK
* checking loading without being on the library search path ... OK
* checking dependencies in R code ... NOTE
Namespace in Imports field not imported from: ‘base’
All declared Imports should be used.
* checking S3 generic/method consistency ... OK
* checking replacement functions ... OK
* checking foreign function calls ... OK
* checking R code for possible problems ... NOTE
compare_bubbletrees: no visible binding for global variable ‘isTip’
compare_bubbletrees: no visible binding for global variable ‘Cells’
compare_bubbletrees: no visible binding for global variable ‘lab_short’
compare_bubbletrees: no visible binding for global variable ‘label’
compare_bubbletrees: no visible binding for global variable ‘JD’
compare_bubbletrees: no visible binding for global variable
‘intersection’
get_dendrogram: no visible binding for global variable ‘isTip’
get_dendrogram: no visible binding for global variable ‘Cells’
get_dendrogram: no visible binding for global variable ‘label’
get_dendrogram: no visible binding for global variable ‘lab_short’
get_dendrogram: no visible binding for global variable ‘lab_long’
get_num_cell_tiles: no visible binding for global variable ‘cluster’
ggplot_cat_tiles: no visible binding for global variable ‘feature’
ggplot_cat_tiles: no visible binding for global variable ‘cluster’
ggplot_cat_tiles: no visible binding for global variable ‘percent’
ggplot_num_cell_tiles: no visible binding for global variable ‘cluster’
ggplot_num_cell_tiles: no visible binding for global variable ‘f’
ggplot_num_tiles: no visible binding for global variable ‘feature’
ggplot_num_tiles: no visible binding for global variable ‘cluster’
ggplot_num_tiles: no visible binding for global variable ‘value’
ggplot_num_violins: no visible binding for global variable ‘cluster’
ggplot_num_violins: no visible binding for global variable ‘value’
Undefined global functions or variables:
Cells JD cluster f feature intersection isTip lab_long lab_short
label percent value
* checking Rd files ... OK
* checking Rd metadata ... OK
* checking Rd cross-references ... OK
* checking for missing documentation entries ... OK
* checking for code/documentation mismatches ... OK
* checking Rd \usage sections ... OK
* checking Rd contents ... OK
* checking for unstated dependencies in examples ... OK
* checking contents of ‘data’ directory ... OK
* checking data for non-ASCII characters ... OK
* checking data for ASCII and uncompressed saves ... OK
* checking files in ‘vignettes’ ... OK
* checking examples ... OK
Examples with CPU (user + system) or elapsed time > 5s
user system elapsed
get_r 24.864 0.368 29.801
get_bubbletree_comparison 24.192 0.328 24.523
get_bubbletree_kmeans 20.527 0.091 22.317
get_bubbletree_graph 19.645 0.172 24.092
get_num_cell_tiles 15.958 0.002 15.961
get_num_violins 15.405 0.458 16.771
get_num_tiles 15.319 0.130 15.452
get_gini_k 14.690 0.042 14.733
get_cat_tiles 13.690 0.076 13.767
get_bubbletree_dummy 7.966 0.072 8.038
* checking for unstated dependencies in ‘tests’ ... OK
* checking tests ...
Running ‘testthat.R’
OK
* checking for unstated dependencies in vignettes ... OK
* checking package vignettes ... OK
* checking re-building of vignette outputs ... OK
* checking PDF version of manual ... OK
* DONE
Status: 2 NOTEs
See
‘/home/biocbuild/bbs-3.23-bioc/meat/scBubbletree.Rcheck/00check.log’
for details.
scBubbletree.Rcheck/00install.out
############################################################################## ############################################################################## ### ### Running command: ### ### /home/biocbuild/bbs-3.23-bioc/R/bin/R CMD INSTALL scBubbletree ### ############################################################################## ############################################################################## * installing to library ‘/home/biocbuild/bbs-3.23-bioc/R/site-library’ * installing *source* package ‘scBubbletree’ ... ** this is package ‘scBubbletree’ version ‘1.13.0’ ** using staged installation ** R ** data ** inst ** byte-compile and prepare package for lazy loading ** help *** installing help indices ** building package indices ** installing vignettes ** testing if installed package can be loaded from temporary location ** testing if installed package can be loaded from final location ** testing if installed package keeps a record of temporary installation path * DONE (scBubbletree)
scBubbletree.Rcheck/tests/testthat.Rout
R Under development (unstable) (2025-10-20 r88955) -- "Unsuffered Consequences"
Copyright (C) 2025 The R Foundation for Statistical Computing
Platform: x86_64-pc-linux-gnu
R is free software and comes with ABSOLUTELY NO WARRANTY.
You are welcome to redistribute it under certain conditions.
Type 'license()' or 'licence()' for distribution details.
R is a collaborative project with many contributors.
Type 'contributors()' for more information and
'citation()' on how to cite R or R packages in publications.
Type 'demo()' for some demos, 'help()' for on-line help, or
'help.start()' for an HTML browser interface to help.
Type 'q()' to quit R.
> library(testthat)
> library(scBubbletree)
>
> test_check("scBubbletree")
Tests input rules of get_bubbletree_graph
Tests input rules of get_bubbletree_kmeans
Tests input rules of get_cat_tiles
Tests input rules of get_gini_k
Tests input rules of get_gini
Tests input rules of get_k
Tests input rules of get_num_tiles
Tests input rules of get_num_violins
Tests input rules of get_r
Tests input rules of util
[ FAIL 0 | WARN 0 | SKIP 0 | PASS 477 ]
>
> proc.time()
user system elapsed
319.568 1.452 321.047
scBubbletree.Rcheck/scBubbletree-Ex.timings
| name | user | system | elapsed | |
| d_500 | 0.006 | 0.000 | 0.005 | |
| d_ccl | 0.015 | 0.002 | 0.017 | |
| get_bubbletree_comparison | 24.192 | 0.328 | 24.523 | |
| get_bubbletree_dummy | 7.966 | 0.072 | 8.038 | |
| get_bubbletree_graph | 19.645 | 0.172 | 24.092 | |
| get_bubbletree_kmeans | 20.527 | 0.091 | 22.317 | |
| get_cat_tiles | 13.690 | 0.076 | 13.767 | |
| get_gini | 0.003 | 0.000 | 0.003 | |
| get_gini_k | 14.690 | 0.042 | 14.733 | |
| get_k | 3.446 | 0.002 | 3.449 | |
| get_num_cell_tiles | 15.958 | 0.002 | 15.961 | |
| get_num_tiles | 15.319 | 0.130 | 15.452 | |
| get_num_violins | 15.405 | 0.458 | 16.771 | |
| get_r | 24.864 | 0.368 | 29.801 | |