Back to Multiple platform build/check report for BioC 3.23:   simplified   long
ABCDEFGHIJKLMN[O]PQRSTUVWXYZ

This page was generated on 2025-11-17 11:39 -0500 (Mon, 17 Nov 2025).

HostnameOSArch (*)R versionInstalled pkgs
nebbiolo1Linux (Ubuntu 24.04.3 LTS)x86_64R Under development (unstable) (2025-10-20 r88955) -- "Unsuffered Consequences" 4826
lconwaymacOS 12.7.6 Montereyx86_64R Under development (unstable) (2025-10-21 r88958) -- "Unsuffered Consequences" 4491
kjohnson3macOS 13.7.7 Venturaarm64R Under development (unstable) (2025-11-04 r88984) -- "Unsuffered Consequences" 4562
Click on any hostname to see more info about the system (e.g. compilers)      (*) as reported by 'uname -p', except on Windows and Mac OS X

Package 1473/2325HostnameOS / ArchINSTALLBUILDCHECKBUILD BIN
omada 1.13.0  (landing page)
Sokratis Kariotis
Snapshot Date: 2025-11-16 13:40 -0500 (Sun, 16 Nov 2025)
git_url: https://git.bioconductor.org/packages/omada
git_branch: devel
git_last_commit: 4e9162c
git_last_commit_date: 2025-10-29 11:18:23 -0500 (Wed, 29 Oct 2025)
nebbiolo1Linux (Ubuntu 24.04.3 LTS) / x86_64  OK    OK    OK  UNNEEDED, same version is already published
lconwaymacOS 12.7.6 Monterey / x86_64  OK    OK    OK    OK  YES
kjohnson3macOS 13.7.7 Ventura / arm64  OK    OK    OK    OK  UNNEEDED, same version is already published


CHECK results for omada on lconway

To the developers/maintainers of the omada package:
- Allow up to 24 hours (and sometimes 48 hours) for your latest push to git@git.bioconductor.org:packages/omada.git to reflect on this report. See Troubleshooting Build Report for more information.
- Use the following Renviron settings to reproduce errors and warnings.
- If 'R CMD check' started to fail recently on the Linux builder(s) over a missing dependency, add the missing dependency to 'Suggests:' in your DESCRIPTION file. See Renviron.bioc for more information.

raw results


Summary

Package: omada
Version: 1.13.0
Command: /Library/Frameworks/R.framework/Resources/bin/R CMD check --install=check:omada.install-out.txt --library=/Library/Frameworks/R.framework/Resources/library --no-vignettes --timings omada_1.13.0.tar.gz
StartedAt: 2025-11-17 04:27:41 -0500 (Mon, 17 Nov 2025)
EndedAt: 2025-11-17 04:40:14 -0500 (Mon, 17 Nov 2025)
EllapsedTime: 753.0 seconds
RetCode: 0
Status:   OK  
CheckDir: omada.Rcheck
Warnings: 0

Command output

##############################################################################
##############################################################################
###
### Running command:
###
###   /Library/Frameworks/R.framework/Resources/bin/R CMD check --install=check:omada.install-out.txt --library=/Library/Frameworks/R.framework/Resources/library --no-vignettes --timings omada_1.13.0.tar.gz
###
##############################################################################
##############################################################################


* using log directory ‘/Users/biocbuild/bbs-3.23-bioc/meat/omada.Rcheck’
* using R Under development (unstable) (2025-10-21 r88958)
* using platform: x86_64-apple-darwin20
* R was compiled by
    Apple clang version 14.0.0 (clang-1400.0.29.202)
    GNU Fortran (GCC) 14.2.0
* running under: macOS Ventura 13.7.8
* using session charset: UTF-8
* using option ‘--no-vignettes’
* checking for file ‘omada/DESCRIPTION’ ... OK
* checking extension type ... Package
* this is package ‘omada’ version ‘1.13.0’
* package encoding: UTF-8
* checking package namespace information ... OK
* checking package dependencies ... INFO
Depends: includes the non-default packages:
  'pdfCluster', 'kernlab', 'fpc', 'Rcpp', 'diceR', 'ggplot2',
  'reshape', 'genieclust', 'clValid', 'glmnet', 'dplyr'
Adding so many packages to the search path is excessive and importing
selectively is preferable.
* checking if this is a source package ... OK
* checking if there is a namespace ... OK
* checking for hidden files and directories ... OK
* checking for portable file names ... OK
* checking for sufficient/correct file permissions ... OK
* checking whether package ‘omada’ can be installed ... OK
* checking installed package size ... OK
* checking package directory ... OK
* checking ‘build’ directory ... OK
* checking DESCRIPTION meta-information ... OK
* checking top-level files ... NOTE
File
  LICENSE
is not mentioned in the DESCRIPTION file.
* checking for left-over files ... OK
* checking index information ... OK
* checking package subdirectories ... OK
* checking code files for non-ASCII characters ... OK
* checking R files for syntax errors ... OK
* checking whether the package can be loaded ... OK
* checking whether the package can be loaded with stated dependencies ... OK
* checking whether the package can be unloaded cleanly ... OK
* checking whether the namespace can be loaded with stated dependencies ... OK
* checking whether the namespace can be unloaded cleanly ... OK
* checking dependencies in R code ... NOTE
Packages in Depends field not imported from:
  ‘Rcpp’ ‘dplyr’ ‘genieclust’ ‘glmnet’ ‘kernlab’ ‘reshape’
  These packages need to be imported from (in the NAMESPACE file)
  for when this namespace is loaded but not attached.
* checking S3 generic/method consistency ... OK
* checking replacement functions ... OK
* checking foreign function calls ... OK
* checking R code for possible problems ... NOTE
Index.15and28: no visible global function definition for ‘dist’
Index.15and28: no visible global function definition for ‘as.dist’
Index.sPlussMoins: no visible global function definition for ‘dist’
Index.sPlussMoins: no visible global function definition for ‘as.dist’
Index.sPlussMoins: no visible global function definition for ‘median’
Indice.cindex: no visible global function definition for ‘dist’
clusterVoting: no visible global function definition for ‘calinhara’
clusterVoting: no visible global function definition for
  ‘generalised_dunn_index’
clusterVoting: no visible global function definition for
  ‘silhouette_index’
clusterVoting: no visible global function definition for
  ‘negated_davies_bouldin_index’
clusterVoting: no visible binding for global variable ‘k’
clusterVoting: no visible binding for global variable ‘Frequency’
clusteringMethodSelection: no visible binding for global variable
  ‘value’
clusteringMethodSelection: no visible binding for global variable
  ‘methods’
featureSelection: no visible binding for global variable ‘featureSet’
featureSelection: no visible binding for global variable ‘means’
Undefined global functions or variables:
  Frequency as.dist calinhara dist featureSet generalised_dunn_index k
  means median methods negated_davies_bouldin_index silhouette_index
  value
Consider adding
  importFrom("stats", "as.dist", "dist", "median")
  importFrom("utils", "methods")
to your NAMESPACE file.
* checking Rd files ... OK
* checking Rd metadata ... OK
* checking Rd cross-references ... OK
* checking for missing documentation entries ... OK
* checking for code/documentation mismatches ... OK
* checking Rd \usage sections ... OK
* checking Rd contents ... OK
* checking for unstated dependencies in examples ... OK
* checking contents of ‘data’ directory ... OK
* checking data for non-ASCII characters ... OK
* checking LazyData ... OK
* checking data for ASCII and uncompressed saves ... OK
* checking files in ‘vignettes’ ... OK
* checking examples ... OK
Examples with CPU (user + system) or elapsed time > 5s
                                                   user system elapsed
get_feature_selection_optimal_number_of_features 41.414  0.879  42.370
get_feature_selection_scores                     41.418  0.791  42.271
plot_partition_agreement                         34.507  0.848  54.097
plot_cluster_voting                              24.420  7.513  56.549
plot_feature_selection                           29.263  1.925  40.420
get_cluster_voting_metric_votes                  29.686  0.576  30.319
get_cluster_voting_k_votes                       29.270  0.580  29.924
get_cluster_voting_scores                        29.074  0.592  29.723
get_sample_memberships                           28.500  0.660  29.206
get_feature_selection_optimal_features           28.485  0.646  29.304
get_cluster_voting_memberships                   27.515  0.606  28.177
get_partition_agreement_scores                   26.132  0.660  26.830
omada                                            21.732  0.489  22.263
plot_average_stabilities                          8.598  4.149  21.036
get_optimal_number_of_features                    9.041  0.157   9.218
get_optimal_features                              8.728  0.187   8.932
get_optimal_memberships                           8.602  0.119   8.734
get_optimal_stability_score                       8.146  0.151   8.306
get_optimal_parameter_used                        7.298  0.120   7.442
featureSelection                                  7.150  0.112   7.274
* checking for unstated dependencies in ‘tests’ ... OK
* checking tests ...
  Running ‘testthat.R’
 OK
* checking for unstated dependencies in vignettes ... OK
* checking package vignettes ... OK
* checking running R code from vignettes ... SKIPPED
* checking re-building of vignette outputs ... SKIPPED
* checking PDF version of manual ... OK
* DONE

Status: 3 NOTEs
See
  ‘/Users/biocbuild/bbs-3.23-bioc/meat/omada.Rcheck/00check.log’
for details.


Installation output

omada.Rcheck/00install.out

##############################################################################
##############################################################################
###
### Running command:
###
###   /Library/Frameworks/R.framework/Resources/bin/R CMD INSTALL omada
###
##############################################################################
##############################################################################


* installing to library ‘/Library/Frameworks/R.framework/Versions/4.6-x86_64/Resources/library’
* installing *source* package ‘omada’ ...
** this is package ‘omada’ version ‘1.13.0’
** using staged installation
** R
** data
*** moving datasets to lazyload DB
** inst
** byte-compile and prepare package for lazy loading
** help
*** installing help indices
** building package indices
** installing vignettes
** testing if installed package can be loaded from temporary location
** testing if installed package can be loaded from final location
** testing if installed package keeps a record of temporary installation path
* DONE (omada)

Tests output

omada.Rcheck/tests/testthat.Rout


R Under development (unstable) (2025-10-21 r88958) -- "Unsuffered Consequences"
Copyright (C) 2025 The R Foundation for Statistical Computing
Platform: x86_64-apple-darwin20

R is free software and comes with ABSOLUTELY NO WARRANTY.
You are welcome to redistribute it under certain conditions.
Type 'license()' or 'licence()' for distribution details.

R is a collaborative project with many contributors.
Type 'contributors()' for more information and
'citation()' on how to cite R or R packages in publications.

Type 'demo()' for some demos, 'help()' for on-line help, or
'help.start()' for an HTML browser interface to help.
Type 'q()' to quit R.

> library(testthat)
> library(omada)
Loading required package: pdfCluster
pdfCluster 1.0-4
Loading required package: kernlab
Loading required package: fpc
Loading required package: Rcpp
Loading required package: diceR
Loading required package: ggplot2

Attaching package: 'ggplot2'

The following object is masked from 'package:kernlab':

    alpha

Loading required package: reshape
Loading required package: genieclust
Loading required package: clValid
Loading required package: cluster
Loading required package: glmnet
Loading required package: Matrix

Attaching package: 'Matrix'

The following object is masked from 'package:reshape':

    expand

Loaded glmnet 4.1-10
Loading required package: dplyr

Attaching package: 'dplyr'

The following object is masked from 'package:reshape':

    rename

The following object is masked from 'package:pdfCluster':

    groups

The following objects are masked from 'package:stats':

    filter, lag

The following objects are masked from 'package:base':

    intersect, setdiff, setequal, union

> 
> test_check("omada")
[ FAIL 0 | WARN 1 | SKIP 0 | PASS 38 ]

[ FAIL 0 | WARN 1 | SKIP 0 | PASS 38 ]
> 
> proc.time()
   user  system elapsed 
 84.897   3.163  99.065 

Example timings

omada.Rcheck/omada-Ex.timings

nameusersystemelapsed
clusterVoting3.9630.6194.620
clusteringMethodSelection1.3990.0441.460
feasibilityAnalysis1.3110.0141.327
feasibilityAnalysisDataBased2.7890.0852.881
featureSelection7.1500.1127.274
get_agreement_scores0.1640.0020.166
get_average_feature_k_stabilities4.7570.1114.877
get_average_stabilities_per_k0.8510.0150.867
get_average_stability0.8940.0040.901
get_cluster_memberships_k0.8620.1831.049
get_cluster_voting_k_votes29.270 0.58029.924
get_cluster_voting_memberships27.515 0.60628.177
get_cluster_voting_metric_votes29.686 0.57630.319
get_cluster_voting_scores29.074 0.59229.723
get_feature_selection_optimal_features28.485 0.64629.304
get_feature_selection_optimal_number_of_features41.414 0.87942.370
get_feature_selection_scores41.418 0.79142.271
get_generated_dataset3.4110.0263.443
get_internal_metric_scores0.8030.1160.925
get_max_stability0.8320.0080.842
get_metric_votes_k0.7930.1210.918
get_optimal_features8.7280.1878.932
get_optimal_memberships8.6020.1198.734
get_optimal_number_of_features9.0410.1579.218
get_optimal_parameter_used7.2980.1207.442
get_optimal_stability_score8.1460.1518.306
get_partition_agreement_scores26.132 0.66026.830
get_sample_memberships28.500 0.66029.206
get_vote_frequencies_k1.0000.1311.134
omada21.732 0.48922.263
optimalClustering0.0680.0040.072
partitionAgreement0.3330.0110.344
plot_average_stabilities 8.598 4.14921.036
plot_cluster_voting24.420 7.51356.549
plot_feature_selection29.263 1.92540.420
plot_partition_agreement34.507 0.84854.097
plot_vote_frequencies1.4290.1262.615
toy_gene_memberships0.0250.0090.056
toy_genes0.0020.0040.006