Back to Multiple platform build/check report for BioC 3.23:   simplified   long
ABCDEFGHIJKLM[N]OPQRSTUVWXYZ

This page was generated on 2025-11-20 11:38 -0500 (Thu, 20 Nov 2025).

HostnameOSArch (*)R versionInstalled pkgs
nebbiolo1Linux (Ubuntu 24.04.3 LTS)x86_64R Under development (unstable) (2025-10-20 r88955) -- "Unsuffered Consequences" 4827
lconwaymacOS 12.7.6 Montereyx86_64R Under development (unstable) (2025-10-21 r88958) -- "Unsuffered Consequences" 4600
kjohnson3macOS 13.7.7 Venturaarm64R Under development (unstable) (2025-11-04 r88984) -- "Unsuffered Consequences" 4564
Click on any hostname to see more info about the system (e.g. compilers)      (*) as reported by 'uname -p', except on Windows and Mac OS X

Package 1462/2325HostnameOS / ArchINSTALLBUILDCHECKBUILD BIN
nullranges 1.17.2  (landing page)
Michael Love
Snapshot Date: 2025-11-19 13:40 -0500 (Wed, 19 Nov 2025)
git_url: https://git.bioconductor.org/packages/nullranges
git_branch: devel
git_last_commit: 2713e72
git_last_commit_date: 2025-11-19 08:45:47 -0500 (Wed, 19 Nov 2025)
nebbiolo1Linux (Ubuntu 24.04.3 LTS) / x86_64  OK    OK    ERROR  
lconwaymacOS 12.7.6 Monterey / x86_64  OK    OK    ERROR    OK  
kjohnson3macOS 13.7.7 Ventura / arm64  OK    OK    ERROR    OK  


BUILD results for nullranges on lconway

To the developers/maintainers of the nullranges package:
- Allow up to 24 hours (and sometimes 48 hours) for your latest push to git@git.bioconductor.org:packages/nullranges.git to reflect on this report. See Troubleshooting Build Report for more information.
- Use the following Renviron settings to reproduce errors and warnings.
- If 'R CMD check' started to fail recently on the Linux builder(s) over a missing dependency, add the missing dependency to 'Suggests:' in your DESCRIPTION file. See Renviron.bioc for more information.

raw results


Summary

Package: nullranges
Version: 1.17.2
Command: /Library/Frameworks/R.framework/Resources/bin/R CMD build --keep-empty-dirs --no-resave-data nullranges
StartedAt: 2025-11-19 18:02:04 -0500 (Wed, 19 Nov 2025)
EndedAt: 2025-11-19 18:04:53 -0500 (Wed, 19 Nov 2025)
EllapsedTime: 169.2 seconds
RetCode: 0
Status:   OK  
PackageFile: nullranges_1.17.2.tar.gz
PackageFileSize: 5.057 MiB

Command output

##############################################################################
##############################################################################
###
### Running command:
###
###   /Library/Frameworks/R.framework/Resources/bin/R CMD build --keep-empty-dirs --no-resave-data nullranges
###
##############################################################################
##############################################################################


* checking for file ‘nullranges/DESCRIPTION’ ... OK
* preparing ‘nullranges’:
* checking DESCRIPTION meta-information ... OK
* installing the package (it is needed to build vignettes)
* creating vignettes ... OK
* checking for LF line-endings in source and make files and shell scripts
* checking for empty or unneeded directories
Omitted ‘LazyData’ from DESCRIPTION
  NB: this package now depends on R (>= 4.2.0)
  WARNING: Added dependency on R >= 4.2.0 because package code uses the
  pipe placeholder syntax added in R 4.2.0
  File(s) using such syntax:
    ‘matchitToMatched.Rd’
* building ‘nullranges_1.17.2.tar.gz’