| Back to Multiple platform build/check report for BioC 3.23: simplified long |
|
This page was generated on 2025-11-19 10:14 -0500 (Wed, 19 Nov 2025).
| Hostname | OS | Arch (*) | R version | Installed pkgs |
|---|---|---|---|---|
| nebbiolo1 | Linux (Ubuntu 24.04.3 LTS) | x86_64 | R Under development (unstable) (2025-10-20 r88955) -- "Unsuffered Consequences" | 4827 |
| lconway | macOS 12.7.6 Monterey | x86_64 | R Under development (unstable) (2025-10-21 r88958) -- "Unsuffered Consequences" | 4600 |
| kjohnson3 | macOS 13.7.7 Ventura | arm64 | R Under development (unstable) (2025-11-04 r88984) -- "Unsuffered Consequences" | 4564 |
| Click on any hostname to see more info about the system (e.g. compilers) (*) as reported by 'uname -p', except on Windows and Mac OS X | ||||
| Package 1394/2325 | Hostname | OS / Arch | INSTALL | BUILD | CHECK | BUILD BIN | ||||||||
| multicrispr 1.21.0 (landing page) Aditya Bhagwat
| nebbiolo1 | Linux (Ubuntu 24.04.3 LTS) / x86_64 | OK | OK | OK | |||||||||
| lconway | macOS 12.7.6 Monterey / x86_64 | OK | OK | OK | OK | |||||||||
| kjohnson3 | macOS 13.7.7 Ventura / arm64 | OK | OK | OK | OK | |||||||||
|
To the developers/maintainers of the multicrispr package: - Allow up to 24 hours (and sometimes 48 hours) for your latest push to git@git.bioconductor.org:packages/multicrispr.git to reflect on this report. See Troubleshooting Build Report for more information. - Use the following Renviron settings to reproduce errors and warnings. - If 'R CMD check' started to fail recently on the Linux builder(s) over a missing dependency, add the missing dependency to 'Suggests:' in your DESCRIPTION file. See Renviron.bioc for more information. |
| Package: multicrispr |
| Version: 1.21.0 |
| Command: /Library/Frameworks/R.framework/Resources/bin/R CMD check --install=check:multicrispr.install-out.txt --library=/Library/Frameworks/R.framework/Resources/library --no-vignettes --timings multicrispr_1.21.0.tar.gz |
| StartedAt: 2025-11-18 21:23:45 -0500 (Tue, 18 Nov 2025) |
| EndedAt: 2025-11-18 21:26:30 -0500 (Tue, 18 Nov 2025) |
| EllapsedTime: 165.0 seconds |
| RetCode: 0 |
| Status: OK |
| CheckDir: multicrispr.Rcheck |
| Warnings: 0 |
##############################################################################
##############################################################################
###
### Running command:
###
### /Library/Frameworks/R.framework/Resources/bin/R CMD check --install=check:multicrispr.install-out.txt --library=/Library/Frameworks/R.framework/Resources/library --no-vignettes --timings multicrispr_1.21.0.tar.gz
###
##############################################################################
##############################################################################
* using log directory ‘/Users/biocbuild/bbs-3.23-bioc/meat/multicrispr.Rcheck’
* using R Under development (unstable) (2025-11-04 r88984)
* using platform: aarch64-apple-darwin20
* R was compiled by
Apple clang version 16.0.0 (clang-1600.0.26.6)
GNU Fortran (GCC) 14.2.0
* running under: macOS Ventura 13.7.8
* using session charset: UTF-8
* using option ‘--no-vignettes’
* checking for file ‘multicrispr/DESCRIPTION’ ... OK
* this is package ‘multicrispr’ version ‘1.21.0’
* package encoding: UTF-8
* checking package namespace information ... OK
* checking package dependencies ... OK
* checking if this is a source package ... OK
* checking if there is a namespace ... OK
* checking for hidden files and directories ... OK
* checking for portable file names ... OK
* checking for sufficient/correct file permissions ... OK
* checking whether package ‘multicrispr’ can be installed ... OK
* checking installed package size ... OK
* checking package directory ... OK
* checking ‘build’ directory ... OK
* checking DESCRIPTION meta-information ... OK
* checking top-level files ... OK
* checking for left-over files ... OK
* checking index information ... OK
* checking package subdirectories ... OK
* checking code files for non-ASCII characters ... OK
* checking R files for syntax errors ... OK
* checking whether the package can be loaded ... OK
* checking whether the package can be loaded with stated dependencies ... OK
* checking whether the package can be unloaded cleanly ... OK
* checking whether the namespace can be loaded with stated dependencies ... OK
* checking whether the namespace can be unloaded cleanly ... OK
* checking dependencies in R code ... OK
* checking S3 generic/method consistency ... OK
* checking replacement functions ... OK
* checking foreign function calls ... OK
* checking R code for possible problems ... OK
* checking Rd files ... OK
* checking Rd metadata ... OK
* checking Rd cross-references ... NOTE
Found the following Rd file(s) with Rd \link{} targets missing package
anchors:
extract_matchranges.Rd: BSgenome
Please provide package anchors for all Rd \link{} targets not in the
package itself and the base packages.
* checking for missing documentation entries ... OK
* checking for code/documentation mismatches ... OK
* checking Rd \usage sections ... OK
* checking Rd contents ... OK
* checking for unstated dependencies in examples ... OK
* checking files in ‘vignettes’ ... OK
* checking examples ... OK
Examples with CPU (user + system) or elapsed time > 5s
user system elapsed
index_genome 7.560 0.092 7.835
find_primespacers 5.689 0.418 6.332
score_ontargets 5.485 0.384 6.318
* checking for unstated dependencies in ‘tests’ ... OK
* checking tests ...
Running ‘testthat.R’
OK
* checking for unstated dependencies in vignettes ... OK
* checking package vignettes ... OK
* checking running R code from vignettes ... SKIPPED
* checking re-building of vignette outputs ... SKIPPED
* checking PDF version of manual ... OK
* DONE
Status: 1 NOTE
See
‘/Users/biocbuild/bbs-3.23-bioc/meat/multicrispr.Rcheck/00check.log’
for details.
multicrispr.Rcheck/00install.out
############################################################################## ############################################################################## ### ### Running command: ### ### /Library/Frameworks/R.framework/Resources/bin/R CMD INSTALL multicrispr ### ############################################################################## ############################################################################## * installing to library ‘/Library/Frameworks/R.framework/Versions/4.6-arm64/Resources/library’ * installing *source* package ‘multicrispr’ ... ** this is package ‘multicrispr’ version ‘1.21.0’ ** using staged installation ** R ** inst ** byte-compile and prepare package for lazy loading ** help *** installing help indices ** building package indices ** installing vignettes ** testing if installed package can be loaded from temporary location ** testing if installed package can be loaded from final location ** testing if installed package keeps a record of temporary installation path * DONE (multicrispr)
multicrispr.Rcheck/tests/testthat.Rout
R Under development (unstable) (2025-11-04 r88984) -- "Unsuffered Consequences"
Copyright (C) 2025 The R Foundation for Statistical Computing
Platform: aarch64-apple-darwin20
R is free software and comes with ABSOLUTELY NO WARRANTY.
You are welcome to redistribute it under certain conditions.
Type 'license()' or 'licence()' for distribution details.
R is a collaborative project with many contributors.
Type 'contributors()' for more information and
'citation()' on how to cite R or R packages in publications.
Type 'demo()' for some demos, 'help()' for on-line help, or
'help.start()' for an HTML browser interface to help.
Type 'q()' to quit R.
> library(testthat)
> library(multicrispr)
>
> test_check("multicrispr")
[ FAIL 0 | WARN 0 | SKIP 0 | PASS 13 ]
>
> proc.time()
user system elapsed
5.982 0.476 6.783
multicrispr.Rcheck/multicrispr-Ex.timings
| name | user | system | elapsed | |
| add_genome_matches | 3.656 | 0.439 | 4.281 | |
| add_inverse_strand | 1.314 | 0.020 | 1.400 | |
| add_seq | 0.757 | 0.093 | 0.873 | |
| add_target_matches | 3.536 | 0.281 | 3.892 | |
| bed_to_granges | 0.231 | 0.012 | 0.260 | |
| char_to_granges | 0.351 | 0.016 | 0.384 | |
| double_flank | 0.882 | 0.011 | 0.929 | |
| extend_for_pe | 2.737 | 0.248 | 3.124 | |
| extend_pe_to_gg | 0.161 | 0.002 | 0.168 | |
| extract_matchranges | 0.976 | 0.061 | 1.135 | |
| extract_subranges | 0.208 | 0.001 | 0.211 | |
| find_gg | 0.335 | 0.025 | 0.386 | |
| find_primespacers | 5.689 | 0.418 | 6.332 | |
| find_spacers | 3.452 | 0.275 | 3.934 | |
| genes_to_granges | 1.093 | 0.052 | 1.201 | |
| gr2dt | 0.049 | 0.001 | 0.049 | |
| has_been_indexed | 0.000 | 0.000 | 0.001 | |
| index_genome | 7.560 | 0.092 | 7.835 | |
| index_targets | 0.760 | 0.076 | 0.868 | |
| plot_intervals | 2.820 | 0.193 | 3.221 | |
| plot_karyogram | 0.360 | 0.020 | 0.389 | |
| score_ontargets | 5.485 | 0.384 | 6.318 | |
| up_flank | 4.182 | 0.032 | 4.439 | |
| write_ranges | 0.051 | 0.001 | 0.053 | |