Back to Multiple platform build/check report for BioC 3.23:   simplified   long
ABCDEFGHIJKL[M]NOPQRSTUVWXYZ

This page was generated on 2025-11-24 11:38 -0500 (Mon, 24 Nov 2025).

HostnameOSArch (*)R versionInstalled pkgs
nebbiolo1Linux (Ubuntu 24.04.3 LTS)x86_64R Under development (unstable) (2025-10-20 r88955) -- "Unsuffered Consequences" 4829
lconwaymacOS 12.7.6 Montereyx86_64R Under development (unstable) (2025-10-21 r88958) -- "Unsuffered Consequences" 4605
kjohnson3macOS 13.7.7 Venturaarm64R Under development (unstable) (2025-11-04 r88984) -- "Unsuffered Consequences" 4568
Click on any hostname to see more info about the system (e.g. compilers)      (*) as reported by 'uname -p', except on Windows and Mac OS X

Package 1178/2327HostnameOS / ArchINSTALLBUILDCHECKBUILD BIN
maSigPro 1.83.0  (landing page)
Maria Jose Nueda
Snapshot Date: 2025-11-23 13:40 -0500 (Sun, 23 Nov 2025)
git_url: https://git.bioconductor.org/packages/maSigPro
git_branch: devel
git_last_commit: 99d470c
git_last_commit_date: 2025-10-29 09:57:06 -0500 (Wed, 29 Oct 2025)
nebbiolo1Linux (Ubuntu 24.04.3 LTS) / x86_64  OK    OK    OK  UNNEEDED, same version is already published
lconwaymacOS 12.7.6 Monterey / x86_64  OK    OK    OK    OK  UNNEEDED, same version is already published
kjohnson3macOS 13.7.7 Ventura / arm64  OK    OK    OK    OK  UNNEEDED, same version is already published


CHECK results for maSigPro on lconway

To the developers/maintainers of the maSigPro package:
- Allow up to 24 hours (and sometimes 48 hours) for your latest push to git@git.bioconductor.org:packages/maSigPro.git to reflect on this report. See Troubleshooting Build Report for more information.
- Use the following Renviron settings to reproduce errors and warnings.
- If 'R CMD check' started to fail recently on the Linux builder(s) over a missing dependency, add the missing dependency to 'Suggests:' in your DESCRIPTION file. See Renviron.bioc for more information.

raw results


Summary

Package: maSigPro
Version: 1.83.0
Command: /Library/Frameworks/R.framework/Resources/bin/R CMD check --install=check:maSigPro.install-out.txt --library=/Library/Frameworks/R.framework/Resources/library --no-vignettes --timings maSigPro_1.83.0.tar.gz
StartedAt: 2025-11-23 22:11:38 -0500 (Sun, 23 Nov 2025)
EndedAt: 2025-11-23 22:14:31 -0500 (Sun, 23 Nov 2025)
EllapsedTime: 172.4 seconds
RetCode: 0
Status:   OK  
CheckDir: maSigPro.Rcheck
Warnings: 0

Command output

##############################################################################
##############################################################################
###
### Running command:
###
###   /Library/Frameworks/R.framework/Resources/bin/R CMD check --install=check:maSigPro.install-out.txt --library=/Library/Frameworks/R.framework/Resources/library --no-vignettes --timings maSigPro_1.83.0.tar.gz
###
##############################################################################
##############################################################################


* using log directory ‘/Users/biocbuild/bbs-3.23-bioc/meat/maSigPro.Rcheck’
* using R Under development (unstable) (2025-10-21 r88958)
* using platform: x86_64-apple-darwin20
* R was compiled by
    Apple clang version 14.0.0 (clang-1400.0.29.202)
    GNU Fortran (GCC) 14.2.0
* running under: macOS Ventura 13.7.8
* using session charset: UTF-8
* using option ‘--no-vignettes’
* checking for file ‘maSigPro/DESCRIPTION’ ... OK
* checking extension type ... Package
* this is package ‘maSigPro’ version ‘1.83.0’
* checking package namespace information ... OK
* checking package dependencies ... OK
* checking if this is a source package ... OK
* checking if there is a namespace ... OK
* checking for hidden files and directories ... OK
* checking for portable file names ... OK
* checking for sufficient/correct file permissions ... OK
* checking whether package ‘maSigPro’ can be installed ... OK
* checking installed package size ... OK
* checking package directory ... OK
* checking ‘build’ directory ... OK
* checking DESCRIPTION meta-information ... OK
* checking top-level files ... OK
* checking for left-over files ... OK
* checking index information ... OK
* checking package subdirectories ... OK
* checking code files for non-ASCII characters ... OK
* checking R files for syntax errors ... OK
* checking whether the package can be loaded ... OK
* checking whether the package can be loaded with stated dependencies ... OK
* checking whether the package can be unloaded cleanly ... OK
* checking whether the namespace can be loaded with stated dependencies ... OK
* checking whether the namespace can be unloaded cleanly ... OK
* checking dependencies in R code ... OK
* checking S3 generic/method consistency ... OK
* checking replacement functions ... OK
* checking foreign function calls ... OK
* checking R code for possible problems ... OK
* checking Rd files ... OK
* checking Rd metadata ... OK
* checking Rd cross-references ... OK
* checking for missing documentation entries ... OK
* checking for code/documentation mismatches ... OK
* checking Rd \usage sections ... OK
* checking Rd contents ... OK
* checking for unstated dependencies in examples ... OK
* checking contents of ‘data’ directory ... OK
* checking data for non-ASCII characters ... OK
* checking data for ASCII and uncompressed saves ... OK
* checking sizes of PDF files under ‘inst/doc’ ... OK
* checking installed files from ‘inst/doc’ ... OK
* checking files in ‘vignettes’ ... OK
* checking examples ... OK
Examples with CPU (user + system) or elapsed time > 5s
                user system elapsed
ISOdata       12.462  0.229  12.820
PodiumChange  12.122  0.131  12.386
IsoPlot       12.100  0.152  12.405
IsoModel      11.915  0.153  12.209
ISOdesign     11.869  0.148  12.122
getDSPatterns 11.836  0.130  12.052
getDS         11.745  0.126  11.964
seeDS         11.705  0.117  11.894
tableDS       11.484  0.122  11.676
T.fit          5.340  0.045   5.421
* checking for unstated dependencies in vignettes ... OK
* checking package vignettes ... OK
* checking running R code from vignettes ... SKIPPED
* checking re-building of vignette outputs ... SKIPPED
* checking PDF version of manual ... OK
* DONE

Status: OK


Installation output

maSigPro.Rcheck/00install.out

##############################################################################
##############################################################################
###
### Running command:
###
###   /Library/Frameworks/R.framework/Resources/bin/R CMD INSTALL maSigPro
###
##############################################################################
##############################################################################


* installing to library ‘/Library/Frameworks/R.framework/Versions/4.6-x86_64/Resources/library’
* installing *source* package ‘maSigPro’ ...
** this is package ‘maSigPro’ version ‘1.83.0’
** using staged installation
** R
** data
** inst
** byte-compile and prepare package for lazy loading
** help
*** installing help indices
** building package indices
** installing vignettes
** testing if installed package can be loaded from temporary location
** testing if installed package can be loaded from final location
** testing if installed package keeps a record of temporary installation path
* DONE (maSigPro)

Tests output


Example timings

maSigPro.Rcheck/maSigPro-Ex.timings

nameusersystemelapsed
ISOdata12.462 0.22912.820
ISOdesign11.869 0.14812.122
IsoModel11.915 0.15312.209
IsoPlot12.100 0.15212.405
NBdata0.0010.0010.003
NBdesign0.0010.0020.003
PlotGroups0.0310.0030.034
PlotProfiles0.0040.0010.005
PodiumChange12.122 0.13112.386
T.fit5.3400.0455.421
average.rows0.0020.0000.003
data.abiotic0.0030.0020.005
edesign.abiotic0.0020.0020.005
edesignCT0.0010.0010.002
edesignDR0.0000.0020.002
get.siggenes2.5760.0272.630
getDS11.745 0.12611.964
getDSPatterns11.836 0.13012.052
i.rank0.0010.0000.001
maSigProUsersGuide0.0040.0070.022
make.design.matrix0.0060.0100.016
p.vector1.8690.0251.910
position000
reg.coeffs000
see.genes0.5790.0250.612
seeDS11.705 0.11711.894
stepback0.0300.0020.032
stepfor0.0890.0010.090
suma2Venn0.0170.0020.020
tableDS11.484 0.12211.676
two.ways.stepback0.0790.0010.080
two.ways.stepfor0.0920.0010.094