Back to Multiple platform build/check report for BioC 3.22:   simplified   long
ABCDEF[G]HIJKLMNOPQRSTUVWXYZ

This page was generated on 2025-10-03 12:03 -0400 (Fri, 03 Oct 2025).

HostnameOSArch (*)R versionInstalled pkgs
nebbiolo2Linux (Ubuntu 24.04.3 LTS)x86_644.5.1 Patched (2025-08-23 r88802) -- "Great Square Root" 4845
lconwaymacOS 12.7.1 Montereyx86_644.5.1 Patched (2025-09-10 r88807) -- "Great Square Root" 4632
kjohnson3macOS 13.7.7 Venturaarm644.5.1 Patched (2025-09-10 r88807) -- "Great Square Root" 4577
taishanLinux (openEuler 24.03 LTS)aarch644.5.0 (2025-04-11) -- "How About a Twenty-Six" 4576
Click on any hostname to see more info about the system (e.g. compilers)      (*) as reported by 'uname -p', except on Windows and Mac OS X

Package 874/2337HostnameOS / ArchINSTALLBUILDCHECKBUILD BIN
ggtree 3.99.0  (landing page)
Guangchuang Yu
Snapshot Date: 2025-10-02 13:45 -0400 (Thu, 02 Oct 2025)
git_url: https://git.bioconductor.org/packages/ggtree
git_branch: devel
git_last_commit: 58b3c7c
git_last_commit_date: 2025-09-17 02:33:48 -0400 (Wed, 17 Sep 2025)
nebbiolo2Linux (Ubuntu 24.04.3 LTS) / x86_64  OK    OK    OK  UNNEEDED, same version is already published
lconwaymacOS 12.7.1 Monterey / x86_64  OK    OK    OK    OK  UNNEEDED, same version is already published
kjohnson3macOS 13.7.7 Ventura / arm64  OK    OK    OK    OK  UNNEEDED, same version is already published
taishanLinux (openEuler 24.03 LTS) / aarch64  OK    OK    OK  


CHECK results for ggtree on nebbiolo2

To the developers/maintainers of the ggtree package:
- Allow up to 24 hours (and sometimes 48 hours) for your latest push to git@git.bioconductor.org:packages/ggtree.git to reflect on this report. See Troubleshooting Build Report for more information.
- Use the following Renviron settings to reproduce errors and warnings.
- If 'R CMD check' started to fail recently on the Linux builder(s) over a missing dependency, add the missing dependency to 'Suggests:' in your DESCRIPTION file. See Renviron.bioc for more information.

raw results


Summary

Package: ggtree
Version: 3.99.0
Command: /home/biocbuild/bbs-3.22-bioc/R/bin/R CMD check --install=check:ggtree.install-out.txt --library=/home/biocbuild/bbs-3.22-bioc/R/site-library --timings ggtree_3.99.0.tar.gz
StartedAt: 2025-10-03 00:16:05 -0400 (Fri, 03 Oct 2025)
EndedAt: 2025-10-03 00:17:38 -0400 (Fri, 03 Oct 2025)
EllapsedTime: 92.2 seconds
RetCode: 0
Status:   OK  
CheckDir: ggtree.Rcheck
Warnings: 0

Command output

##############################################################################
##############################################################################
###
### Running command:
###
###   /home/biocbuild/bbs-3.22-bioc/R/bin/R CMD check --install=check:ggtree.install-out.txt --library=/home/biocbuild/bbs-3.22-bioc/R/site-library --timings ggtree_3.99.0.tar.gz
###
##############################################################################
##############################################################################


* using log directory ‘/home/biocbuild/bbs-3.22-bioc/meat/ggtree.Rcheck’
* using R version 4.5.1 Patched (2025-08-23 r88802)
* using platform: x86_64-pc-linux-gnu
* R was compiled by
    gcc (Ubuntu 13.3.0-6ubuntu2~24.04) 13.3.0
    GNU Fortran (Ubuntu 13.3.0-6ubuntu2~24.04) 13.3.0
* running under: Ubuntu 24.04.3 LTS
* using session charset: UTF-8
* checking for file ‘ggtree/DESCRIPTION’ ... OK
* checking extension type ... Package
* this is package ‘ggtree’ version ‘3.99.0’
* package encoding: UTF-8
* checking package namespace information ... OK
* checking package dependencies ... OK
* checking if this is a source package ... OK
* checking if there is a namespace ... OK
* checking for hidden files and directories ... OK
* checking for portable file names ... OK
* checking for sufficient/correct file permissions ... OK
* checking whether package ‘ggtree’ can be installed ... OK
* checking installed package size ... OK
* checking package directory ... OK
* checking ‘build’ directory ... OK
* checking DESCRIPTION meta-information ... OK
* checking top-level files ... OK
* checking for left-over files ... OK
* checking index information ... OK
* checking package subdirectories ... OK
* checking code files for non-ASCII characters ... OK
* checking R files for syntax errors ... OK
* checking whether the package can be loaded ... OK
* checking whether the package can be loaded with stated dependencies ... OK
* checking whether the package can be unloaded cleanly ... OK
* checking whether the namespace can be loaded with stated dependencies ... OK
* checking whether the namespace can be unloaded cleanly ... OK
* checking loading without being on the library search path ... OK
* checking whether startup messages can be suppressed ... OK
* checking dependencies in R code ... OK
* checking S3 generic/method consistency ... OK
* checking replacement functions ... OK
* checking foreign function calls ... OK
* checking R code for possible problems ... OK
* checking Rd files ... OK
* checking Rd metadata ... OK
* checking Rd cross-references ... NOTE
Non-topic package-anchored link(s) in Rd file 'reexports.Rd':
  ‘[ggfun:attacher]{%<+%}’ ‘[ggplot2:scale_manual]{scale_color_manual}’
  ‘[ggplot2:scale_manual]{scale_colour_manual}’
  ‘[ggplot2:scale_manual]{scale_fill_manual}’
  ‘[ggplot2:scale_continuous]{scale_x_continuous}’
  ‘[magrittr:pipe]{%>%}’

See section 'Cross-references' in the 'Writing R Extensions' manual.
* checking for missing documentation entries ... OK
* checking for code/documentation mismatches ... OK
* checking Rd \usage sections ... OK
* checking Rd contents ... OK
* checking for unstated dependencies in examples ... OK
* checking files in ‘vignettes’ ... OK
* checking examples ... OK
Examples with CPU (user + system) or elapsed time > 5s
             user system elapsed
geom-hilight 7.99  0.111   8.104
* checking for unstated dependencies in ‘tests’ ... OK
* checking tests ...
  Running ‘testthat.R’
 OK
* checking for unstated dependencies in vignettes ... OK
* checking package vignettes ... OK
* checking re-building of vignette outputs ... OK
* checking PDF version of manual ... OK
* DONE

Status: 1 NOTE
See
  ‘/home/biocbuild/bbs-3.22-bioc/meat/ggtree.Rcheck/00check.log’
for details.


Installation output

ggtree.Rcheck/00install.out

##############################################################################
##############################################################################
###
### Running command:
###
###   /home/biocbuild/bbs-3.22-bioc/R/bin/R CMD INSTALL ggtree
###
##############################################################################
##############################################################################


* installing to library ‘/home/biocbuild/bbs-3.22-bioc/R/site-library’
* installing *source* package ‘ggtree’ ...
** this is package ‘ggtree’ version ‘3.99.0’
** using staged installation
** R
** inst
** byte-compile and prepare package for lazy loading
** help
*** installing help indices
** building package indices
** installing vignettes
** testing if installed package can be loaded from temporary location
** testing if installed package can be loaded from final location
** testing if installed package keeps a record of temporary installation path
* DONE (ggtree)

Tests output

ggtree.Rcheck/tests/testthat.Rout


R version 4.5.1 Patched (2025-08-23 r88802) -- "Great Square Root"
Copyright (C) 2025 The R Foundation for Statistical Computing
Platform: x86_64-pc-linux-gnu

R is free software and comes with ABSOLUTELY NO WARRANTY.
You are welcome to redistribute it under certain conditions.
Type 'license()' or 'licence()' for distribution details.

R is a collaborative project with many contributors.
Type 'contributors()' for more information and
'citation()' on how to cite R or R packages in publications.

Type 'demo()' for some demos, 'help()' for on-line help, or
'help.start()' for an HTML browser interface to help.
Type 'q()' to quit R.

> library(testthat)
> library(ggtree)
ggtree v3.99.0 Learn more at https://yulab-smu.top/contribution-tree-data/

Please cite:

Shuangbin Xu, Lin Li, Xiao Luo, Meijun Chen, Wenli Tang, Li Zhan, Zehan
Dai, Tommy T. Lam, Yi Guan, Guangchuang Yu. Ggtree: A serialized data
object for visualization of a phylogenetic tree and annotation data.
iMeta 2022, 1(4):e56. doi:10.1002/imt2.56
> 
> test_check("ggtree")
[ FAIL 0 | WARN 2 | SKIP 0 | PASS 14 ]

[ FAIL 0 | WARN 2 | SKIP 0 | PASS 14 ]
> 
> proc.time()
   user  system elapsed 
  3.222   0.167   3.378 

Example timings

ggtree.Rcheck/ggtree-Ex.timings

nameusersystemelapsed
collapse0.6400.0630.704
expand0.3120.0010.313
facet-plot0.3510.0000.351
flip0.2980.0000.298
geom-hilight7.9900.1118.104
geom_balance0.3350.0000.335
geom_cladelab0.5770.0010.579
geom_label20.3420.0010.344
geom_point21.4740.0031.486
geom_rootedge1.2830.0411.325
geom_rootpoint0.5930.0010.594
geom_strip0.4110.0000.411
geom_striplab0.3730.0000.373
geom_tiplab0.3160.0000.316
geom_tiplab20.3620.0000.362
geom_tippoint0.3120.0000.312
geom_tree0.1770.0000.178
get_taxa_name0.150.000.15
ggdensitree3.6430.0403.684
ggexpand0.4530.0010.453
ggtree-format-painter0.3370.0010.338
ggtree0.3180.0010.319
label_pad0.0010.0000.000
open_tree0.4220.0020.424
reexports0.4250.0010.426
revts0.5540.0110.565
rotate0.2570.0250.283
rotate_tree0.3520.0000.352
scaleClade0.3010.0000.302
theme_tree0.3260.0000.327
theme_tree20.3070.0010.307
tree-layout1.5670.0011.568
viewClade0.3510.0000.350
xlim_expand0.3810.0020.384
xlim_tree0.3930.0000.393
zoomClade000