Back to Multiple platform build/check report for BioC 3.23:   simplified   long
ABCDEF[G]HIJKLMNOPQRSTUVWXYZ

This page was generated on 2025-11-14 11:36 -0500 (Fri, 14 Nov 2025).

HostnameOSArch (*)R versionInstalled pkgs
nebbiolo1Linux (Ubuntu 24.04.3 LTS)x86_64R Under development (unstable) (2025-10-20 r88955) -- "Unsuffered Consequences" 4825
kjohnson3macOS 13.7.7 Venturaarm64R Under development (unstable) (2025-11-04 r88984) -- "Unsuffered Consequences" 4547
Click on any hostname to see more info about the system (e.g. compilers)      (*) as reported by 'uname -p', except on Windows and Mac OS X

Package 802/2325HostnameOS / ArchINSTALLBUILDCHECKBUILD BIN
gemma.R 3.7.0  (landing page)
Ogan Mancarci
Snapshot Date: 2025-11-13 13:40 -0500 (Thu, 13 Nov 2025)
git_url: https://git.bioconductor.org/packages/gemma.R
git_branch: devel
git_last_commit: 8486536
git_last_commit_date: 2025-10-29 11:18:54 -0500 (Wed, 29 Oct 2025)
nebbiolo1Linux (Ubuntu 24.04.3 LTS) / x86_64  OK    OK    OK  UNNEEDED, same version is already published
kjohnson3macOS 13.7.7 Ventura / arm64  OK    OK    OK    OK  UNNEEDED, same version is already published


CHECK results for gemma.R on kjohnson3

To the developers/maintainers of the gemma.R package:
- Allow up to 24 hours (and sometimes 48 hours) for your latest push to git@git.bioconductor.org:packages/gemma.R.git to reflect on this report. See Troubleshooting Build Report for more information.
- Use the following Renviron settings to reproduce errors and warnings.
- If 'R CMD check' started to fail recently on the Linux builder(s) over a missing dependency, add the missing dependency to 'Suggests:' in your DESCRIPTION file. See Renviron.bioc for more information.

raw results


Summary

Package: gemma.R
Version: 3.7.0
Command: /Library/Frameworks/R.framework/Resources/bin/R CMD check --install=check:gemma.R.install-out.txt --library=/Library/Frameworks/R.framework/Resources/library --no-vignettes --timings gemma.R_3.7.0.tar.gz
StartedAt: 2025-11-13 20:05:05 -0500 (Thu, 13 Nov 2025)
EndedAt: 2025-11-13 20:10:55 -0500 (Thu, 13 Nov 2025)
EllapsedTime: 350.3 seconds
RetCode: 0
Status:   OK  
CheckDir: gemma.R.Rcheck
Warnings: 0

Command output

##############################################################################
##############################################################################
###
### Running command:
###
###   /Library/Frameworks/R.framework/Resources/bin/R CMD check --install=check:gemma.R.install-out.txt --library=/Library/Frameworks/R.framework/Resources/library --no-vignettes --timings gemma.R_3.7.0.tar.gz
###
##############################################################################
##############################################################################


* using log directory ‘/Users/biocbuild/bbs-3.23-bioc/meat/gemma.R.Rcheck’
* using R Under development (unstable) (2025-11-04 r88984)
* using platform: aarch64-apple-darwin20
* R was compiled by
    Apple clang version 16.0.0 (clang-1600.0.26.6)
    GNU Fortran (GCC) 14.2.0
* running under: macOS Ventura 13.7.8
* using session charset: UTF-8
* using option ‘--no-vignettes’
* checking for file ‘gemma.R/DESCRIPTION’ ... OK
* this is package ‘gemma.R’ version ‘3.7.0’
* package encoding: UTF-8
* checking package namespace information ... OK
* checking package dependencies ... INFO
Imports includes 21 non-default packages.
Importing from so many packages makes the package vulnerable to any of
them becoming unavailable.  Move as many as possible to Suggests and
use conditionally.
* checking if this is a source package ... OK
* checking if there is a namespace ... OK
* checking for hidden files and directories ... OK
* checking for portable file names ... OK
* checking for sufficient/correct file permissions ... OK
* checking whether package ‘gemma.R’ can be installed ... OK
* checking installed package size ... OK
* checking package directory ... OK
* checking ‘build’ directory ... OK
* checking DESCRIPTION meta-information ... OK
* checking top-level files ... OK
* checking for left-over files ... OK
* checking index information ... OK
* checking package subdirectories ... OK
* checking code files for non-ASCII characters ... OK
* checking R files for syntax errors ... OK
* checking whether the package can be loaded ... OK
* checking whether the package can be loaded with stated dependencies ... OK
* checking whether the package can be unloaded cleanly ... OK
* checking whether the namespace can be loaded with stated dependencies ... OK
* checking whether the namespace can be unloaded cleanly ... OK
* checking dependencies in R code ... OK
* checking S3 generic/method consistency ... OK
* checking replacement functions ... OK
* checking foreign function calls ... OK
* checking R code for possible problems ... OK
* checking Rd files ... OK
* checking Rd metadata ... OK
* checking Rd cross-references ... OK
* checking for missing documentation entries ... OK
* checking for code/documentation mismatches ... OK
* checking Rd \usage sections ... OK
* checking Rd contents ... OK
* checking for unstated dependencies in examples ... OK
* checking files in ‘vignettes’ ... OK
* checking examples ... OK
Examples with CPU (user + system) or elapsed time > 5s
                                             user system elapsed
get_dataset_object                          2.963  0.102   5.521
dot-get_gene_differential_expression_values 0.602  0.004   8.826
get_gene_differential_expression_values     0.561  0.018   8.698
get_datasets                                0.060  0.009   7.520
* checking for unstated dependencies in ‘tests’ ... OK
* checking tests ...
  Running ‘testthat.R’
 OK
* checking for unstated dependencies in vignettes ... OK
* checking package vignettes ... OK
* checking running R code from vignettes ... SKIPPED
* checking re-building of vignette outputs ... SKIPPED
* checking PDF version of manual ... OK
* DONE

Status: OK


Installation output

gemma.R.Rcheck/00install.out

##############################################################################
##############################################################################
###
### Running command:
###
###   /Library/Frameworks/R.framework/Resources/bin/R CMD INSTALL gemma.R
###
##############################################################################
##############################################################################


* installing to library ‘/Library/Frameworks/R.framework/Versions/4.6-arm64/Resources/library’
* installing *source* package ‘gemma.R’ ...
** this is package ‘gemma.R’ version ‘3.7.0’
** using staged installation
** R
** inst
** byte-compile and prepare package for lazy loading
** help
*** installing help indices
*** copying figures
** building package indices
** installing vignettes
** testing if installed package can be loaded from temporary location
** testing if installed package can be loaded from final location
** testing if installed package keeps a record of temporary installation path
* DONE (gemma.R)

Tests output

gemma.R.Rcheck/tests/testthat.Rout


R Under development (unstable) (2025-11-04 r88984) -- "Unsuffered Consequences"
Copyright (C) 2025 The R Foundation for Statistical Computing
Platform: aarch64-apple-darwin20

R is free software and comes with ABSOLUTELY NO WARRANTY.
You are welcome to redistribute it under certain conditions.
Type 'license()' or 'licence()' for distribution details.

R is a collaborative project with many contributors.
Type 'contributors()' for more information and
'citation()' on how to cite R or R packages in publications.

Type 'demo()' for some demos, 'help()' for on-line help, or
'help.start()' for an HTML browser interface to help.
Type 'q()' to quit R.

> library(testthat)
> library(dplyr)

Attaching package: 'dplyr'

The following objects are masked from 'package:stats':

    filter, lag

The following objects are masked from 'package:base':

    intersect, setdiff, setequal, union

> 
> # Prevent certificate issues for GitHub actions
> options(gemma.SSL = FALSE)
> # get gemma api path if it's set in the environment
> gemma.R:::setGemmaPath('prod')
[1] "https://gemma.msl.ubc.ca/rest/v2/"
> print(gemma.R:::gemmaPath())
[1] "https://gemma.msl.ubc.ca/rest/v2/"
> test_check("gemma.R")
Loading required package: gemma.R
Warning: stack imbalance in '::', 130 then 131
Warning: stack imbalance in '{', 126 then 127
Warning: stack imbalance in 'lapply', 115 then 116
[ FAIL 0 | WARN 1 | SKIP 5 | PASS 192 ]

══ Skipped tests (5) ═══════════════════════════════════════════════════════════
• On Bioconductor (4): 'testCaches.R:37:3', 'testConvenience.R:15:5',
  'testConvenience.R:37:5', 'testDatasetEndpoints.R:88:5'
• empty test (1): 'testConvenience.R:1:1'

[ FAIL 0 | WARN 1 | SKIP 5 | PASS 192 ]
> 
> 
> 
> proc.time()
   user  system elapsed 
 43.670   2.902 264.842 

Example timings

gemma.R.Rcheck/gemma.R-Ex.timings

nameusersystemelapsed
dot-getResultSets0.0000.0000.001
dot-get_dataset_expression_for_genes0.3590.0252.329
dot-get_gene_differential_expression_values0.6020.0048.826
filter_properties0.0100.0020.013
forget_gemma_memoised0.0050.0200.060
gemma_call0.0020.0030.094
get_annotation_children0.0040.0000.079
get_annotation_parents0.0070.0010.085
get_child_terms0.0070.0000.110
get_dataset_annotations0.0030.0000.092
get_dataset_differential_expression_analyses0.2390.0134.936
get_dataset_expression0.3250.0262.434
get_dataset_expression_for_genes0.0860.0050.653
get_dataset_object2.9630.1025.521
get_dataset_platforms0.0050.0000.094
get_dataset_processed_expression0.5250.0252.792
get_dataset_publications0.0030.0000.086
get_dataset_quantitation_types0.0030.0010.295
get_dataset_raw_expression0.2880.0201.933
get_dataset_samples0.3470.0070.714
get_datasets0.0600.0097.520
get_datasets_by_ids0.0140.0010.196
get_differential_expression_values0.0970.0103.628
get_gene_differential_expression_values0.5610.0188.698
get_gene_go_terms0.0130.0010.258
get_gene_locations0.0080.0010.239
get_gene_probes0.0090.0010.263
get_genes0.0090.0010.220
get_platform_annotations0.3330.0212.719
get_platform_datasets0.0120.0020.523
get_platform_element_genes0.0040.0000.117
get_platforms_by_ids0.0100.0010.217
get_result_sets0.0140.0010.210
get_taxa0.0040.0000.089
get_taxa_by_ids0.0030.0000.085
get_taxon_datasets0.0140.0020.312
make_design0.1820.0040.611
search_annotations0.0040.0000.084
search_datasets0.0130.0010.428
search_gemma0.0390.0070.648
update_result0.2550.0173.604