Back to Build/check report for BioC 3.23:   simplified   long
ABCDEF[G]HIJKLMNOPQRSTUVWXYZ

This page was generated on 2025-11-08 11:32 -0500 (Sat, 08 Nov 2025).

HostnameOSArch (*)R versionInstalled pkgs
nebbiolo1Linux (Ubuntu 24.04.3 LTS)x86_64R Under development (unstable) (2025-10-20 r88955) -- "Unsuffered Consequences" 4821
Click on any hostname to see more info about the system (e.g. compilers)      (*) as reported by 'uname -p', except on Windows and Mac OS X

Package 783/2323HostnameOS / ArchINSTALLBUILDCHECKBUILD BIN
gatom 1.9.2  (landing page)
Alexey Sergushichev
Snapshot Date: 2025-11-07 13:40 -0500 (Fri, 07 Nov 2025)
git_url: https://git.bioconductor.org/packages/gatom
git_branch: devel
git_last_commit: bedd7f8
git_last_commit_date: 2025-11-07 11:00:41 -0500 (Fri, 07 Nov 2025)
nebbiolo1Linux (Ubuntu 24.04.3 LTS) / x86_64  OK    OK    OK  YES


CHECK results for gatom on nebbiolo1

To the developers/maintainers of the gatom package:
- Allow up to 24 hours (and sometimes 48 hours) for your latest push to git@git.bioconductor.org:packages/gatom.git to reflect on this report. See Troubleshooting Build Report for more information.
- Use the following Renviron settings to reproduce errors and warnings.
- If 'R CMD check' started to fail recently on the Linux builder(s) over a missing dependency, add the missing dependency to 'Suggests:' in your DESCRIPTION file. See Renviron.bioc for more information.

raw results


Summary

Package: gatom
Version: 1.9.2
Command: /home/biocbuild/bbs-3.23-bioc/R/bin/R CMD check --install=check:gatom.install-out.txt --library=/home/biocbuild/bbs-3.23-bioc/R/site-library --timings gatom_1.9.2.tar.gz
StartedAt: 2025-11-07 23:43:36 -0500 (Fri, 07 Nov 2025)
EndedAt: 2025-11-07 23:53:22 -0500 (Fri, 07 Nov 2025)
EllapsedTime: 585.9 seconds
RetCode: 0
Status:   OK  
CheckDir: gatom.Rcheck
Warnings: 0

Command output

##############################################################################
##############################################################################
###
### Running command:
###
###   /home/biocbuild/bbs-3.23-bioc/R/bin/R CMD check --install=check:gatom.install-out.txt --library=/home/biocbuild/bbs-3.23-bioc/R/site-library --timings gatom_1.9.2.tar.gz
###
##############################################################################
##############################################################################


* using log directory ‘/home/biocbuild/bbs-3.23-bioc/meat/gatom.Rcheck’
* using R Under development (unstable) (2025-10-20 r88955)
* using platform: x86_64-pc-linux-gnu
* R was compiled by
    gcc (Ubuntu 13.3.0-6ubuntu2~24.04) 13.3.0
    GNU Fortran (Ubuntu 13.3.0-6ubuntu2~24.04) 13.3.0
* running under: Ubuntu 24.04.3 LTS
* using session charset: UTF-8
* checking for file ‘gatom/DESCRIPTION’ ... OK
* this is package ‘gatom’ version ‘1.9.2’
* package encoding: UTF-8
* checking package namespace information ... OK
* checking package dependencies ... OK
* checking if this is a source package ... OK
* checking if there is a namespace ... OK
* checking for hidden files and directories ... OK
* checking for portable file names ... OK
* checking for sufficient/correct file permissions ... OK
* checking whether package ‘gatom’ can be installed ... OK
* checking installed package size ... OK
* checking package directory ... OK
* checking ‘build’ directory ... OK
* checking DESCRIPTION meta-information ... OK
* checking top-level files ... OK
* checking for left-over files ... OK
* checking index information ... OK
* checking package subdirectories ... OK
* checking code files for non-ASCII characters ... OK
* checking R files for syntax errors ... OK
* checking whether the package can be loaded ... OK
* checking whether the package can be loaded with stated dependencies ... OK
* checking whether the package can be unloaded cleanly ... OK
* checking whether the namespace can be loaded with stated dependencies ... OK
* checking whether the namespace can be unloaded cleanly ... OK
* checking loading without being on the library search path ... OK
* checking dependencies in R code ... NOTE
Unexported object imported by a ':::' call: ‘htmlwidgets:::createWidgetId’
  See the note in ?`:::` about the use of this operator.
* checking S3 generic/method consistency ... OK
* checking replacement functions ... OK
* checking foreign function calls ... OK
* checking R code for possible problems ... NOTE
.makeEdgeTable: no visible binding for global variable ‘gene’
.makeEdgeTable: no visible binding for global variable ‘ID’
.makeEdgeTable: no visible binding for global variable ‘pval’
.makeEdgeTable: no visible binding for global variable ‘enzyme’
.makeEdgeTable: no visible binding for global variable ‘reaction’
.makeEdgeTable: no visible binding for global variable ‘origin’
.makeEdgeTable: no visible binding for global variable ‘atom.x’
.makeEdgeTable: no visible binding for global variable ‘atom.y’
.makeVertexTable: no visible binding for global variable ‘ID’
.makeVertexTable: no visible binding for global variable ‘pval’
.makeVertexTable: no visible binding for global variable ‘metabolite’
.makeVertexTable: no visible binding for global variable
  ‘base_metabolite’
.makeVertexTable: no visible binding for global variable ‘atom’
.makeVertexTable: no visible binding for global variable ‘origin’
addHighlyExpressedEdges: no visible binding for global variable ‘from’
addHighlyExpressedEdges: no visible binding for global variable ‘to’
addHighlyExpressedEdges: no visible binding for global variable
  ‘signalRank’
collapseAtomsIntoMetabolites: no visible global function definition for
  ‘setNames’
collapseAtomsIntoMetabolites: no visible binding for global variable
  ‘metabolite’
collapseAtomsIntoMetabolites: no visible binding for global variable
  ‘name’
collapseAtomsIntoMetabolites: no visible binding for global variable
  ‘from’
collapseAtomsIntoMetabolites: no visible binding for global variable
  ‘to’
convertPvalDT: no visible binding for global variable ‘pval’
findColumn: no visible global function definition for ‘na.omit’
force_alg: no visible global function definition for ‘aggregate’
getDotColor: no visible global function definition for ‘rgb’
getEdgeDotStrings : <anonymous>: no visible global function definition
  for ‘na.omit’
getEdgeXmlStrings : <anonymous>: no visible global function definition
  for ‘na.omit’
getMetabolicPathways: no visible global function definition for
  ‘na.omit’
getMetabolicPathways: no visible binding for global variable ‘PATHNAME’
getMetabolicPathways: no visible global function definition for
  ‘read.table’
getModulePdfLayout: no visible global function definition for ‘pdf’
getModulePdfLayout: no visible global function definition for ‘dev.off’
getNodeDotStrings : <anonymous>: no visible global function definition
  for ‘na.omit’
getNodeXmlStrings : <anonymous>: no visible global function definition
  for ‘na.omit’
makeMetabolicGraph: no visible binding for global variable ‘signalRank’
makeMetabolicGraph: no visible binding for global variable ‘atom.x’
makeMetabolicGraph: no visible binding for global variable ‘atom.y’
makeMetabolicGraph: no visible binding for global variable
  ‘metabolite.x’
makeMetabolicGraph: no visible binding for global variable
  ‘metabolite.y’
makeMetabolicGraph: no visible binding for global variable ‘metabolite’
makeOrgGatomAnnotation: no visible binding for global variable
  ‘species’
makeOrgGatomAnnotation: no visible binding for global variable
  ‘organism’
makeOrgGatomAnnotation: no visible global function definition for
  ‘keys’
makeOrgGatomAnnotation: no visible binding for global variable ‘gene’
makeOrgGatomAnnotation: no visible binding for global variable ‘symbol’
makeOrgGatomAnnotation: no visible binding for global variable ‘enzyme’
makeOrgGatomAnnotation: no visible global function definition for
  ‘tail’
makeOrgGatomAnnotation: no visible global function definition for
  ‘na.omit’
prepareDEColumn: no visible binding for global variable ‘ID’
prepareDEColumn: no visible binding for global variable ‘pval’
saveModuleToPdf: no visible binding for global variable ‘x’
saveModuleToPdf: no visible binding for global variable ‘y’
saveModuleToPdf: no visible binding for global variable ‘xend’
saveModuleToPdf: no visible binding for global variable ‘yend’
saveModuleToPdf: no visible binding for global variable ‘edge_size’
saveModuleToPdf: no visible binding for global variable ‘edge_color’
saveModuleToPdf: no visible binding for global variable ‘edge_label’
saveModuleToPdf: no visible binding for global variable ‘node_size’
saveModuleToPdf: no visible binding for global variable ‘node_color’
saveModuleToPdf: no visible binding for global variable ‘node_label’
scoreGraph: no visible binding for global variable ‘pval’
scoreGraph: no visible binding for global variable ‘signal’
scoreGraph: no visible global function definition for ‘setNames’
Undefined global functions or variables:
  ID PATHNAME aggregate atom atom.x atom.y base_metabolite dev.off
  edge_color edge_label edge_size enzyme from gene keys metabolite
  metabolite.x metabolite.y na.omit name node_color node_label
  node_size organism origin pdf pval reaction read.table rgb setNames
  signal signalRank species symbol tail to x xend y yend
Consider adding
  importFrom("grDevices", "dev.off", "pdf", "rgb")
  importFrom("stats", "aggregate", "na.omit", "setNames")
  importFrom("utils", "read.table", "tail")
to your NAMESPACE file.
* checking Rd files ... OK
* checking Rd metadata ... OK
* checking Rd cross-references ... OK
* checking for missing documentation entries ... OK
* checking for code/documentation mismatches ... OK
* checking Rd \usage sections ... OK
* checking Rd contents ... OK
* checking for unstated dependencies in examples ... OK
* checking contents of ‘data’ directory ... OK
* checking data for non-ASCII characters ... OK
* checking LazyData ... OK
* checking data for ASCII and uncompressed saves ... OK
* checking files in ‘vignettes’ ... OK
* checking examples ... OK
Examples with CPU (user + system) or elapsed time > 5s
                         user system elapsed
makeOrgGatomAnnotation 28.315  0.647  55.975
* checking for unstated dependencies in ‘tests’ ... OK
* checking tests ...
  Running ‘testthat.R’
 OK
* checking for unstated dependencies in vignettes ... OK
* checking package vignettes ... OK
* checking re-building of vignette outputs ... OK
* checking PDF version of manual ... OK
* DONE

Status: 2 NOTEs
See
  ‘/home/biocbuild/bbs-3.23-bioc/meat/gatom.Rcheck/00check.log’
for details.


Installation output

gatom.Rcheck/00install.out

##############################################################################
##############################################################################
###
### Running command:
###
###   /home/biocbuild/bbs-3.23-bioc/R/bin/R CMD INSTALL gatom
###
##############################################################################
##############################################################################


* installing to library ‘/home/biocbuild/bbs-3.23-bioc/R/site-library’
* installing *source* package ‘gatom’ ...
** this is package ‘gatom’ version ‘1.9.2’
** using staged installation
** R
** data
*** moving datasets to lazyload DB
** inst
** byte-compile and prepare package for lazy loading
** help
*** installing help indices
** building package indices
** installing vignettes
** testing if installed package can be loaded from temporary location
** testing if installed package can be loaded from final location
** testing if installed package keeps a record of temporary installation path
* DONE (gatom)

Tests output

gatom.Rcheck/tests/testthat.Rout


R Under development (unstable) (2025-10-20 r88955) -- "Unsuffered Consequences"
Copyright (C) 2025 The R Foundation for Statistical Computing
Platform: x86_64-pc-linux-gnu

R is free software and comes with ABSOLUTELY NO WARRANTY.
You are welcome to redistribute it under certain conditions.
Type 'license()' or 'licence()' for distribution details.

R is a collaborative project with many contributors.
Type 'contributors()' for more information and
'citation()' on how to cite R or R packages in publications.

Type 'demo()' for some demos, 'help()' for on-line help, or
'help.start()' for an HTML browser interface to help.
Type 'q()' to quit R.

> library(testthat)
> library(gatom)
> 
> test_check("gatom")
[WARNING] This document format requires a nonempty <title> element.
  Please specify either 'title' or 'pagetitle' in the metadata,
  e.g. by using --metadata pagetitle="..." on the command line.
  Falling back to 'file7b1c326dd39da'
[ FAIL 0 | WARN 2 | SKIP 0 | PASS 83 ]

[ FAIL 0 | WARN 2 | SKIP 0 | PASS 83 ]
> 
> proc.time()
   user  system elapsed 
 58.328   1.154 105.833 

Example timings

gatom.Rcheck/gatom-Ex.timings

nameusersystemelapsed
addHighlyExpressedEdges0.0760.0090.084
collapseAtomsIntoMetabolites0.0360.0080.044
connectAtomsInsideMetabolite0.0200.0050.024
createShinyCyJSWidget0.0500.0080.058
getGeneDEMeta0.0350.0060.042
getMetDEMeta0.0030.0010.005
makeMetabolicGraph0.1160.0180.127
makeOrgGatomAnnotation28.315 0.64755.975
prepareDE0.0240.0020.026
saveModuleToDot0.0440.0040.049
saveModuleToHtml0.5890.0880.700
saveModuleToPdf2.6290.0462.675
saveModuleToXgmml0.2190.0020.221
scoreGraph0.0430.0000.043