Back to Multiple platform build/check report for BioC 3.23:   simplified   long
ABCDEF[G]HIJKLMNOPQRSTUVWXYZ

This page was generated on 2025-11-18 11:39 -0500 (Tue, 18 Nov 2025).

HostnameOSArch (*)R versionInstalled pkgs
nebbiolo1Linux (Ubuntu 24.04.3 LTS)x86_64R Under development (unstable) (2025-10-20 r88955) -- "Unsuffered Consequences" 4826
lconwaymacOS 12.7.6 Montereyx86_64R Under development (unstable) (2025-10-21 r88958) -- "Unsuffered Consequences" 4561
kjohnson3macOS 13.7.7 Venturaarm64R Under development (unstable) (2025-11-04 r88984) -- "Unsuffered Consequences" 4562
Click on any hostname to see more info about the system (e.g. compilers)      (*) as reported by 'uname -p', except on Windows and Mac OS X

Package 878/2325HostnameOS / ArchINSTALLBUILDCHECKBUILD BIN
gINTomics 1.7.0  (landing page)
Angelo Velle
Snapshot Date: 2025-11-17 13:40 -0500 (Mon, 17 Nov 2025)
git_url: https://git.bioconductor.org/packages/gINTomics
git_branch: devel
git_last_commit: 4cacafe
git_last_commit_date: 2025-10-29 11:30:01 -0500 (Wed, 29 Oct 2025)
nebbiolo1Linux (Ubuntu 24.04.3 LTS) / x86_64  OK    OK    OK  NO, package depends on 'OmnipathR' which is not available
lconwaymacOS 12.7.6 Monterey / x86_64  OK    OK    TIMEOUT    OK  
kjohnson3macOS 13.7.7 Ventura / arm64  OK    OK    OK    OK  NO, package depends on 'GenomicRanges' which is only available as a source package that needs compilation


CHECK results for gINTomics on lconway

To the developers/maintainers of the gINTomics package:
- Allow up to 24 hours (and sometimes 48 hours) for your latest push to git@git.bioconductor.org:packages/gINTomics.git to reflect on this report. See Troubleshooting Build Report for more information.
- Use the following Renviron settings to reproduce errors and warnings.
- If 'R CMD check' started to fail recently on the Linux builder(s) over a missing dependency, add the missing dependency to 'Suggests:' in your DESCRIPTION file. See Renviron.bioc for more information.

raw results


Summary

Package: gINTomics
Version: 1.7.0
Command: /Library/Frameworks/R.framework/Resources/bin/R CMD check --install=check:gINTomics.install-out.txt --library=/Library/Frameworks/R.framework/Resources/library --no-vignettes --timings gINTomics_1.7.0.tar.gz
StartedAt: 2025-11-18 01:37:49 -0500 (Tue, 18 Nov 2025)
EndedAt: 2025-11-18 02:17:57 -0500 (Tue, 18 Nov 2025)
EllapsedTime: 2407.6 seconds
RetCode: None
Status:   TIMEOUT  
CheckDir: None
Warnings: NA

Command output

##############################################################################
##############################################################################
###
### Running command:
###
###   /Library/Frameworks/R.framework/Resources/bin/R CMD check --install=check:gINTomics.install-out.txt --library=/Library/Frameworks/R.framework/Resources/library --no-vignettes --timings gINTomics_1.7.0.tar.gz
###
##############################################################################
##############################################################################



Installation output


Tests output

Due to an anomaly in the Build System, this output is not available. We apologize for the inconvenience.


Example timings

Due to an anomaly in the Build System, the timings are not available. We apologize for the inconvenience.