Back to Multiple platform build/check report for BioC 3.22:   simplified   long
ABCDEF[G]HIJKLMNOPQRSTUVWXYZ

This page was generated on 2025-10-18 12:04 -0400 (Sat, 18 Oct 2025).

HostnameOSArch (*)R versionInstalled pkgs
nebbiolo2Linux (Ubuntu 24.04.3 LTS)x86_644.5.1 Patched (2025-08-23 r88802) -- "Great Square Root" 4887
lconwaymacOS 12.7.6 Montereyx86_644.5.1 Patched (2025-09-10 r88807) -- "Great Square Root" 4677
kjohnson3macOS 13.7.7 Venturaarm644.5.1 Patched (2025-09-10 r88807) -- "Great Square Root" 4622
taishanLinux (openEuler 24.03 LTS)aarch644.5.0 (2025-04-11) -- "How About a Twenty-Six" 4632
Click on any hostname to see more info about the system (e.g. compilers)      (*) as reported by 'uname -p', except on Windows and Mac OS X

Package 802/2353HostnameOS / ArchINSTALLBUILDCHECKBUILD BIN
gDRutils 1.7.18  (landing page)
Arkadiusz Gladki
Snapshot Date: 2025-10-17 13:45 -0400 (Fri, 17 Oct 2025)
git_url: https://git.bioconductor.org/packages/gDRutils
git_branch: devel
git_last_commit: f4317a5
git_last_commit_date: 2025-10-13 05:11:46 -0400 (Mon, 13 Oct 2025)
nebbiolo2Linux (Ubuntu 24.04.3 LTS) / x86_64  OK    OK    OK  UNNEEDED, same version is already published
lconwaymacOS 12.7.6 Monterey / x86_64  OK    OK    OK    OK  UNNEEDED, same version is already published
kjohnson3macOS 13.7.7 Ventura / arm64  OK    OK    OK    OK  UNNEEDED, same version is already published
taishanLinux (openEuler 24.03 LTS) / aarch64  OK    OK    OK  


CHECK results for gDRutils on lconway

To the developers/maintainers of the gDRutils package:
- Allow up to 24 hours (and sometimes 48 hours) for your latest push to git@git.bioconductor.org:packages/gDRutils.git to reflect on this report. See Troubleshooting Build Report for more information.
- Use the following Renviron settings to reproduce errors and warnings.
- If 'R CMD check' started to fail recently on the Linux builder(s) over a missing dependency, add the missing dependency to 'Suggests:' in your DESCRIPTION file. See Renviron.bioc for more information.

raw results


Summary

Package: gDRutils
Version: 1.7.18
Command: /Library/Frameworks/R.framework/Resources/bin/R CMD check --install=check:gDRutils.install-out.txt --library=/Library/Frameworks/R.framework/Resources/library --no-vignettes --timings gDRutils_1.7.18.tar.gz
StartedAt: 2025-10-17 22:19:24 -0400 (Fri, 17 Oct 2025)
EndedAt: 2025-10-17 22:26:02 -0400 (Fri, 17 Oct 2025)
EllapsedTime: 397.7 seconds
RetCode: 0
Status:   OK  
CheckDir: gDRutils.Rcheck
Warnings: 0

Command output

##############################################################################
##############################################################################
###
### Running command:
###
###   /Library/Frameworks/R.framework/Resources/bin/R CMD check --install=check:gDRutils.install-out.txt --library=/Library/Frameworks/R.framework/Resources/library --no-vignettes --timings gDRutils_1.7.18.tar.gz
###
##############################################################################
##############################################################################


* using log directory ‘/Users/biocbuild/bbs-3.22-bioc/meat/gDRutils.Rcheck’
* using R version 4.5.1 Patched (2025-09-10 r88807)
* using platform: x86_64-apple-darwin20
* R was compiled by
    Apple clang version 14.0.0 (clang-1400.0.29.202)
    GNU Fortran (GCC) 14.2.0
* running under: macOS Monterey 12.7.6
* using session charset: UTF-8
* using option ‘--no-vignettes’
* checking for file ‘gDRutils/DESCRIPTION’ ... OK
* checking extension type ... Package
* this is package ‘gDRutils’ version ‘1.7.18’
* package encoding: UTF-8
* checking package namespace information ... OK
* checking package dependencies ... OK
* checking if this is a source package ... OK
* checking if there is a namespace ... OK
* checking for hidden files and directories ... OK
* checking for portable file names ... OK
* checking for sufficient/correct file permissions ... OK
* checking whether package ‘gDRutils’ can be installed ... OK
* checking installed package size ... OK
* checking package directory ... OK
* checking ‘build’ directory ... OK
* checking DESCRIPTION meta-information ... OK
* checking top-level files ... OK
* checking for left-over files ... OK
* checking index information ... OK
* checking package subdirectories ... OK
* checking code files for non-ASCII characters ... OK
* checking R files for syntax errors ... OK
* checking whether the package can be loaded ... OK
* checking whether the package can be loaded with stated dependencies ... OK
* checking whether the package can be unloaded cleanly ... OK
* checking whether the namespace can be loaded with stated dependencies ... OK
* checking whether the namespace can be unloaded cleanly ... OK
* checking dependencies in R code ... OK
* checking S3 generic/method consistency ... OK
* checking replacement functions ... OK
* checking foreign function calls ... OK
* checking R code for possible problems ... OK
* checking Rd files ... OK
* checking Rd metadata ... OK
* checking Rd cross-references ... NOTE
Found the following Rd file(s) with Rd \link{} targets missing package
anchors:
  SE_metadata.Rd: SummarizedExperiment-class
  convert_mae_assay_to_dt.Rd: SummarizedExperiment-class,
    MultiAssayExperiment-class
  convert_se_assay_to_dt.Rd: SummarizedExperiment-class
  is_exp_empty.Rd: SummarizedExperiment-class
  split_SE_components.Rd: SummarizedExperiment-class
  validate_se_assay_name.Rd: SummarizedExperiment-class
Please provide package anchors for all Rd \link{} targets not in the
package itself and the base packages.
* checking for missing documentation entries ... OK
* checking for code/documentation mismatches ... OK
* checking Rd \usage sections ... OK
* checking Rd contents ... OK
* checking for unstated dependencies in examples ... OK
* checking files in ‘vignettes’ ... OK
* checking examples ... OK
Examples with CPU (user + system) or elapsed time > 5s
           user system elapsed
merge_MAE 4.802  0.253   5.202
loop      3.600  1.313   5.113
* checking for unstated dependencies in ‘tests’ ... OK
* checking tests ...
  Running ‘testthat.R’
 OK
* checking for unstated dependencies in vignettes ... OK
* checking package vignettes ... OK
* checking running R code from vignettes ... SKIPPED
* checking re-building of vignette outputs ... SKIPPED
* checking PDF version of manual ... OK
* DONE

Status: 1 NOTE
See
  ‘/Users/biocbuild/bbs-3.22-bioc/meat/gDRutils.Rcheck/00check.log’
for details.


Installation output

gDRutils.Rcheck/00install.out

##############################################################################
##############################################################################
###
### Running command:
###
###   /Library/Frameworks/R.framework/Resources/bin/R CMD INSTALL gDRutils
###
##############################################################################
##############################################################################


* installing to library ‘/Library/Frameworks/R.framework/Versions/4.5-x86_64/Resources/library’
* installing *source* package ‘gDRutils’ ...
** this is package ‘gDRutils’ version ‘1.7.18’
** using staged installation
** R
** inst
** byte-compile and prepare package for lazy loading
** help
*** installing help indices
** building package indices
** installing vignettes
** testing if installed package can be loaded from temporary location
** testing if installed package can be loaded from final location
** testing if installed package keeps a record of temporary installation path
* DONE (gDRutils)

Tests output

gDRutils.Rcheck/tests/testthat.Rout


R version 4.5.1 Patched (2025-09-10 r88807) -- "Great Square Root"
Copyright (C) 2025 The R Foundation for Statistical Computing
Platform: x86_64-apple-darwin20

R is free software and comes with ABSOLUTELY NO WARRANTY.
You are welcome to redistribute it under certain conditions.
Type 'license()' or 'licence()' for distribution details.

R is a collaborative project with many contributors.
Type 'contributors()' for more information and
'citation()' on how to cite R or R packages in publications.

Type 'demo()' for some demos, 'help()' for on-line help, or
'help.start()' for an HTML browser interface to help.
Type 'q()' to quit R.

> library("gDRutils")
> library("testthat")
> 
> test_check("gDRutils")
[ FAIL 0 | WARN 0 | SKIP 0 | PASS 845 ]
> 
> proc.time()
   user  system elapsed 
109.308   7.115 135.821 

Example timings

gDRutils.Rcheck/gDRutils-Ex.timings

nameusersystemelapsed
MAEpply0.5590.0580.683
SE_metadata0.0370.0070.044
addClass0.0030.0000.003
aggregate_assay0.5850.0661.515
apply_bumpy_function1.8740.1212.395
assert_choices0.0010.0010.001
average_biological_replicates_dt0.5150.0420.618
calc_sd0.0010.0010.001
capVals0.2340.0160.254
cap_assay_infinities0.9310.0200.966
cap_xc500.0010.0000.000
convert_colData_to_json0.0590.0010.060
convert_combo_data_to_dt0.3100.0130.328
convert_combo_field_to_assay0.0020.0000.002
convert_mae_assay_to_dt0.0720.0040.076
convert_mae_to_json0.0160.0010.016
convert_metadata_to_json0.0100.0000.011
convert_rowData_to_json0.0030.0000.003
convert_se_assay_to_custom_dt0.6310.0720.708
convert_se_assay_to_dt0.0660.0030.070
convert_se_to_json0.0170.0000.017
define_matrix_grid_positions0.0550.0010.057
demote_fields0.4380.0080.452
df_to_bm_assay0.1470.0010.148
dot-set_invalid_fit_params000
dot-standardize_conc0.0000.0000.001
extend_normalization_type_name0.0000.0000.001
fit_curves0.1670.0310.209
flatten0.0100.0010.011
gen_synthetic_data0.0070.0010.007
geometric_mean000
get_MAE_identifiers0.0060.0020.009
get_additional_variables0.0150.0010.016
get_assay_dt_duplicated_rows0.2040.0080.215
get_assay_names0.0000.0010.001
get_assay_req_uniq_cols0.1410.0050.146
get_combo_assay_names0.0000.0000.001
get_combo_base_assay_names0.0010.0000.001
get_combo_excess_field_names0.0020.0000.002
get_combo_score_assay_names0.0010.0000.002
get_combo_score_field_names0.0010.0000.001
get_default_identifiers0.0010.0010.001
get_duplicated_rows0.0040.0000.004
get_env_assay_names0.0000.0000.001
get_env_var000
get_expect_one_identifiers0.0010.0000.000
get_experiment_groups000
get_gDR_session_info1.6341.0683.695
get_identifiers_dt0.0070.0080.016
get_idfs_synonyms0.0000.0010.001
get_isobologram_columns0.0820.0030.085
get_non_empty_assays0.0570.0020.059
get_required_identifiers0.0000.0010.001
get_settings_from_json0.0010.0010.002
get_supported_experiments000
get_synthetic_data0.0120.0020.014
get_testdata0.1100.0440.178
get_testdata_codilution0.1000.0080.110
get_testdata_combo0.2550.0410.325
has_assay_dt_duplicated_rows0.2030.0100.215
has_dt_duplicated_rows0.0010.0000.001
has_single_codrug_data0.2100.0030.215
has_valid_codrug_data0.1730.0060.189
headers0.0290.0120.042
identifiers000
identify_unique_se_metadata_fields0.0070.0010.008
is_any_exp_empty0.0580.0020.061
is_combo_data0.1680.0230.197
is_exp_empty0.0670.0010.068
is_mae_empty0.0590.0020.062
logisticFit0.0380.0010.039
loop3.6001.3135.113
map_conc_to_standardized_conc0.0060.0250.033
mcolData0.0200.0140.038
merge_MAE4.8020.2535.202
merge_SE1.8160.0532.214
merge_assay0.2560.0140.357
merge_metadata0.0070.0020.041
modifyData0.3070.0100.699
mrowData0.0110.0060.128
predict_conc_from_efficacy000
predict_efficacy_from_conc0.0000.0010.001
predict_smooth_from_combo0.1540.0300.596
prettify_flat_metrics0.0330.0020.035
process_batch0.6090.0820.764
promote_fields0.1960.0070.218
refine_coldata0.0110.0050.051
refine_rowdata0.0510.0070.086
remove_codrug_data0.0620.0070.075
remove_drug_batch0.0020.0010.007
rename_DFrame0.0110.0040.074
rename_bumpy0.0390.0040.148
round_concentration000
set_constant_fit_params0.0000.0020.002
set_unique_cl_names0.0640.0020.108
set_unique_cl_names_dt0.0250.0010.027
set_unique_drug_names0.0750.0020.077
set_unique_drug_names_dt0.0530.0010.057
set_unique_identifiers0.3340.0160.431
set_unique_names_dt0.0250.0010.028
shorten_normalization_type_name0.0000.0010.001
split_SE_components0.0900.0080.144
split_big_table_for_xlsx0.0040.0020.006
standardize_mae0.1250.0060.266
standardize_se0.0280.0030.035
throw_msg_if_duplicates0.1040.0060.135
update_env_idfs_from_mae0.0010.0000.001
update_idfs_synonyms0.0000.0000.004
validate_MAE0.0840.0030.091
validate_SE0.0310.0020.056
validate_identifiers0.0100.0020.012
validate_json000
validate_mae_with_schema0.4660.1060.684
validate_se_assay_name0.0080.0010.009