| Back to Build/check report for BioC 3.23: simplified long |
|
This page was generated on 2025-11-07 11:32 -0500 (Fri, 07 Nov 2025).
| Hostname | OS | Arch (*) | R version | Installed pkgs |
|---|---|---|---|---|
| nebbiolo1 | Linux (Ubuntu 24.04.3 LTS) | x86_64 | R Under development (unstable) (2025-10-20 r88955) -- "Unsuffered Consequences" | 4818 |
| Click on any hostname to see more info about the system (e.g. compilers) (*) as reported by 'uname -p', except on Windows and Mac OS X | ||||
| Package 748/2323 | Hostname | OS / Arch | INSTALL | BUILD | CHECK | BUILD BIN | ||||||||
| flowGraph 1.19.0 (landing page) Alice Yue
| nebbiolo1 | Linux (Ubuntu 24.04.3 LTS) / x86_64 | OK | OK | OK | |||||||||
|
To the developers/maintainers of the flowGraph package: - Allow up to 24 hours (and sometimes 48 hours) for your latest push to git@git.bioconductor.org:packages/flowGraph.git to reflect on this report. See Troubleshooting Build Report for more information. - Use the following Renviron settings to reproduce errors and warnings. - If 'R CMD check' started to fail recently on the Linux builder(s) over a missing dependency, add the missing dependency to 'Suggests:' in your DESCRIPTION file. See Renviron.bioc for more information. |
| Package: flowGraph |
| Version: 1.19.0 |
| Command: /home/biocbuild/bbs-3.23-bioc/R/bin/R CMD check --install=check:flowGraph.install-out.txt --library=/home/biocbuild/bbs-3.23-bioc/R/site-library --timings flowGraph_1.19.0.tar.gz |
| StartedAt: 2025-11-06 23:25:13 -0500 (Thu, 06 Nov 2025) |
| EndedAt: 2025-11-06 23:29:42 -0500 (Thu, 06 Nov 2025) |
| EllapsedTime: 268.5 seconds |
| RetCode: 0 |
| Status: OK |
| CheckDir: flowGraph.Rcheck |
| Warnings: 0 |
##############################################################################
##############################################################################
###
### Running command:
###
### /home/biocbuild/bbs-3.23-bioc/R/bin/R CMD check --install=check:flowGraph.install-out.txt --library=/home/biocbuild/bbs-3.23-bioc/R/site-library --timings flowGraph_1.19.0.tar.gz
###
##############################################################################
##############################################################################
* using log directory ‘/home/biocbuild/bbs-3.23-bioc/meat/flowGraph.Rcheck’
* using R Under development (unstable) (2025-10-20 r88955)
* using platform: x86_64-pc-linux-gnu
* R was compiled by
gcc (Ubuntu 13.3.0-6ubuntu2~24.04) 13.3.0
GNU Fortran (Ubuntu 13.3.0-6ubuntu2~24.04) 13.3.0
* running under: Ubuntu 24.04.3 LTS
* using session charset: UTF-8
* checking for file ‘flowGraph/DESCRIPTION’ ... OK
* checking extension type ... Package
* this is package ‘flowGraph’ version ‘1.19.0’
* checking package namespace information ... OK
* checking package dependencies ... OK
* checking if this is a source package ... OK
* checking if there is a namespace ... OK
* checking for hidden files and directories ... OK
* checking for portable file names ... OK
* checking for sufficient/correct file permissions ... OK
* checking whether package ‘flowGraph’ can be installed ... OK
* checking installed package size ... OK
* checking package directory ... OK
* checking ‘build’ directory ... OK
* checking DESCRIPTION meta-information ... OK
* checking top-level files ... OK
* checking for left-over files ... OK
* checking index information ... OK
* checking package subdirectories ... OK
* checking code files for non-ASCII characters ... OK
* checking R files for syntax errors ... OK
* checking whether the package can be loaded ... OK
* checking whether the package can be loaded with stated dependencies ... OK
* checking whether the package can be unloaded cleanly ... OK
* checking whether the namespace can be loaded with stated dependencies ... OK
* checking whether the namespace can be unloaded cleanly ... OK
* checking loading without being on the library search path ... OK
* checking dependencies in R code ... OK
* checking S3 generic/method consistency ... OK
* checking replacement functions ... OK
* checking foreign function calls ... OK
* checking R code for possible problems ... NOTE
get_child: no visible binding for global variable ‘no_cores’
get_paren: no visible binding for global variable ‘no_cores’
ms_psig: no visible binding for global variable ‘meta’
Undefined global functions or variables:
meta no_cores
* checking Rd files ... NOTE
checkRd: (-1) fg_get_graph.Rd:13: Lost braces
13 | A list containing two data frames (\code{v} and ]code{e})
| ^
checkRd: (-1) ggdf.Rd:22: Lost braces
22 | code{ggdf} adds to the data frames \code{v} and \code{e} in slot
| ^
* checking Rd metadata ... OK
* checking Rd cross-references ... OK
* checking for missing documentation entries ... OK
* checking for code/documentation mismatches ... OK
* checking Rd \usage sections ... OK
* checking Rd contents ... OK
* checking for unstated dependencies in examples ... OK
* checking contents of ‘data’ directory ... OK
* checking data for non-ASCII characters ... OK
* checking data for ASCII and uncompressed saves ... OK
* checking files in ‘vignettes’ ... OK
* checking examples ... OK
Examples with CPU (user + system) or elapsed time > 5s
user system elapsed
fg_load 46.263 0.885 47.095
fg_save 46.175 0.862 47.043
fg_save_plots 46.235 0.781 47.023
* checking for unstated dependencies in ‘tests’ ... OK
* checking tests ...
Running ‘testthat.R’
OK
* checking for unstated dependencies in vignettes ... OK
* checking package vignettes ... OK
* checking re-building of vignette outputs ... OK
* checking PDF version of manual ... OK
* DONE
Status: 2 NOTEs
See
‘/home/biocbuild/bbs-3.23-bioc/meat/flowGraph.Rcheck/00check.log’
for details.
flowGraph.Rcheck/00install.out
############################################################################## ############################################################################## ### ### Running command: ### ### /home/biocbuild/bbs-3.23-bioc/R/bin/R CMD INSTALL flowGraph ### ############################################################################## ############################################################################## * installing to library ‘/home/biocbuild/bbs-3.23-bioc/R/site-library’ * installing *source* package ‘flowGraph’ ... ** this is package ‘flowGraph’ version ‘1.19.0’ ** using staged installation ** R ** data ** inst ** byte-compile and prepare package for lazy loading ** help Loading required namespace: flowGraph *** installing help indices ** building package indices ** installing vignettes ** testing if installed package can be loaded from temporary location ** testing if installed package can be loaded from final location ** testing if installed package keeps a record of temporary installation path * DONE (flowGraph)
flowGraph.Rcheck/tests/testthat.Rout
R Under development (unstable) (2025-10-20 r88955) -- "Unsuffered Consequences"
Copyright (C) 2025 The R Foundation for Statistical Computing
Platform: x86_64-pc-linux-gnu
R is free software and comes with ABSOLUTELY NO WARRANTY.
You are welcome to redistribute it under certain conditions.
Type 'license()' or 'licence()' for distribution details.
R is a collaborative project with many contributors.
Type 'contributors()' for more information and
'citation()' on how to cite R or R packages in publications.
Type 'demo()' for some demos, 'help()' for on-line help, or
'help.start()' for an HTML browser interface to help.
Type 'q()' to quit R.
> library(testthat)
> library(flowGraph)
>
> test_check("flowGraph")
[ FAIL 0 | WARN 1 | SKIP 0 | PASS 34 ]
[ FAIL 0 | WARN 1 | SKIP 0 | PASS 34 ]
>
> proc.time()
user system elapsed
5.553 0.290 5.832
flowGraph.Rcheck/flowGraph-Ex.timings
| name | user | system | elapsed | |
| cell_type_layers | 0.003 | 0.000 | 0.004 | |
| fg_add_feature | 0.329 | 0.004 | 0.333 | |
| fg_add_summary | 0.844 | 0.008 | 0.852 | |
| fg_clean_phen | 0.000 | 0.000 | 0.001 | |
| fg_clear_features | 0.735 | 0.004 | 0.740 | |
| fg_clear_summary | 0.331 | 0.003 | 0.334 | |
| fg_extract_phenotypes | 0.268 | 0.000 | 0.267 | |
| fg_extract_raw | 0.743 | 0.000 | 0.743 | |
| fg_extract_samples | 0.265 | 0.009 | 0.274 | |
| fg_feat_cumsum | 0.267 | 0.021 | 0.288 | |
| fg_feat_edge_specenr | 0.393 | 0.002 | 0.396 | |
| fg_feat_mean_class | 0.258 | 0.001 | 0.260 | |
| fg_feat_node_prop | 0.259 | 0.002 | 0.261 | |
| fg_feat_node_specenr | 0.368 | 0.006 | 0.373 | |
| fg_feat_prop_edge | 0.269 | 0.002 | 0.270 | |
| fg_get_feature | 0.253 | 0.000 | 0.252 | |
| fg_get_feature_desc | 0.785 | 0.034 | 0.818 | |
| fg_get_feature_means | 1.203 | 0.003 | 1.207 | |
| fg_get_graph | 0.256 | 0.002 | 0.258 | |
| fg_get_markers | 0.254 | 0.003 | 0.257 | |
| fg_get_meta | 0.458 | 0.023 | 0.480 | |
| fg_get_summary | 1.537 | 0.041 | 1.581 | |
| fg_get_summary_desc | 0.699 | 0.003 | 0.702 | |
| fg_get_summary_index | 1.453 | 0.051 | 1.504 | |
| fg_get_summary_tables | 1.026 | 0.007 | 1.032 | |
| fg_gsub_ids | 0.223 | 0.003 | 0.227 | |
| fg_gsub_markers | 0.279 | 0.003 | 0.282 | |
| fg_load | 46.263 | 0.885 | 47.095 | |
| fg_merge | 0.267 | 0.002 | 0.269 | |
| fg_merge_samples | 0.283 | 0.002 | 0.285 | |
| fg_plot | 0.396 | 0.002 | 0.398 | |
| fg_plot_box | 0.720 | 0.002 | 0.722 | |
| fg_plot_pVSdiff | 0.393 | 0.000 | 0.394 | |
| fg_plot_qq | 1.273 | 0.015 | 1.291 | |
| fg_replace_meta | 0.276 | 0.001 | 0.277 | |
| fg_rm_feature | 0.837 | 0.002 | 0.840 | |
| fg_rm_summary | 0.343 | 0.000 | 0.343 | |
| fg_save | 46.175 | 0.862 | 47.043 | |
| fg_save_plots | 46.235 | 0.781 | 47.023 | |
| fg_set_layout | 0.255 | 0.002 | 0.257 | |
| fg_summary | 0.334 | 0.002 | 0.336 | |
| flowGraph-class | 0.000 | 0.001 | 0.001 | |
| flowGraph | 1.095 | 0.006 | 1.101 | |
| flowGraphSubset | 0 | 0 | 0 | |
| flowGraphSubset_summary_adjust | 0 | 0 | 0 | |
| flowGraphSubset_summary_pars | 0 | 0 | 0 | |
| get_phen_list | 0.013 | 0.000 | 0.014 | |
| get_phen_meta | 0.002 | 0.000 | 0.002 | |
| ggdf | 0.262 | 0.003 | 0.264 | |
| loop_ind_f | 0 | 0 | 0 | |
| meandiff | 0.000 | 0.000 | 0.001 | |
| plot_gr | 1.523 | 0.007 | 1.536 | |
| set_layout_graph | 0.260 | 0.028 | 0.288 | |
| summary_table | 0.001 | 0.001 | 0.003 | |
| time_output | 0.000 | 0.001 | 0.000 | |
| tstr | 0.001 | 0.000 | 0.000 | |