Back to Multiple platform build/check report for BioC 3.22: simplified long |
|
This page was generated on 2025-10-21 12:07 -0400 (Tue, 21 Oct 2025).
Hostname | OS | Arch (*) | R version | Installed pkgs |
---|---|---|---|---|
nebbiolo2 | Linux (Ubuntu 24.04.3 LTS) | x86_64 | 4.5.1 Patched (2025-08-23 r88802) -- "Great Square Root" | 4887 |
lconway | macOS 12.7.6 Monterey | x86_64 | 4.5.1 Patched (2025-09-10 r88807) -- "Great Square Root" | 4677 |
kjohnson3 | macOS 13.7.7 Ventura | arm64 | 4.5.1 Patched (2025-09-10 r88807) -- "Great Square Root" | 4622 |
taishan | Linux (openEuler 24.03 LTS) | aarch64 | 4.5.0 (2025-04-11) -- "How About a Twenty-Six" | 4642 |
Click on any hostname to see more info about the system (e.g. compilers) (*) as reported by 'uname -p', except on Windows and Mac OS X |
Package 640/2353 | Hostname | OS / Arch | INSTALL | BUILD | CHECK | BUILD BIN | ||||||||
easyreporting 1.21.0 (landing page) Dario Righelli
| nebbiolo2 | Linux (Ubuntu 24.04.3 LTS) / x86_64 | OK | OK | OK | ![]() | ||||||||
lconway | macOS 12.7.6 Monterey / x86_64 | OK | OK | OK | OK | ![]() | ||||||||
kjohnson3 | macOS 13.7.7 Ventura / arm64 | OK | OK | OK | OK | ![]() | ||||||||
taishan | Linux (openEuler 24.03 LTS) / aarch64 | OK | OK | ERROR | ||||||||||
To the developers/maintainers of the easyreporting package: - Allow up to 24 hours (and sometimes 48 hours) for your latest push to git@git.bioconductor.org:packages/easyreporting.git to reflect on this report. See Troubleshooting Build Report for more information. - Use the following Renviron settings to reproduce errors and warnings. - If 'R CMD check' started to fail recently on the Linux builder(s) over a missing dependency, add the missing dependency to 'Suggests:' in your DESCRIPTION file. See Renviron.bioc for more information. - See Martin Grigorov's blog post for how to debug Linux ARM64 related issues on a x86_64 host. |
Package: easyreporting |
Version: 1.21.0 |
Command: /home/biocbuild/R/R/bin/R CMD check --install=check:easyreporting.install-out.txt --library=/home/biocbuild/R/R/site-library --no-vignettes --timings easyreporting_1.21.0.tar.gz |
StartedAt: 2025-10-21 07:40:25 -0000 (Tue, 21 Oct 2025) |
EndedAt: 2025-10-21 07:40:26 -0000 (Tue, 21 Oct 2025) |
EllapsedTime: 1.0 seconds |
RetCode: 1 |
Status: ERROR |
CheckDir: easyreporting.Rcheck |
Warnings: NA |
############################################################################## ############################################################################## ### ### Running command: ### ### /home/biocbuild/R/R/bin/R CMD check --install=check:easyreporting.install-out.txt --library=/home/biocbuild/R/R/site-library --no-vignettes --timings easyreporting_1.21.0.tar.gz ### ############################################################################## ############################################################################## * using log directory ‘/home/biocbuild/bbs-3.22-bioc/meat/easyreporting.Rcheck’ * using R version 4.5.0 (2025-04-11) * using platform: aarch64-unknown-linux-gnu * R was compiled by aarch64-unknown-linux-gnu-gcc (GCC) 14.2.0 GNU Fortran (GCC) 14.2.0 * running under: openEuler 24.03 (LTS) * using session charset: UTF-8 Warning in writeBin(block[seq_len(min(512L, remain))], out) : problem writing to connection Warning in writeBin(block[seq_len(min(512L, remain))], out) : problem writing to connection Warning in writeBin(block[seq_len(min(512L, remain))], out) : problem writing to connection Warning in writeBin(block[seq_len(min(512L, remain))], out) : problem writing to connection Warning in writeBin(block[seq_len(min(512L, remain))], out) : problem writing to connection Warning in writeBin(block[seq_len(min(512L, remain))], out) : problem writing to connection Warning in writeBin(block[seq_len(min(512L, remain))], out) : problem writing to connection Warning in writeBin(block[seq_len(min(512L, remain))], out) : problem writing to connection Warning in writeBin(block[seq_len(min(512L, remain))], out) : problem writing to connection Warning in writeBin(block[seq_len(min(512L, remain))], out) : problem writing to connection Warning in writeBin(block[seq_len(min(512L, remain))], out) : problem writing to connection Warning in writeBin(block[seq_len(min(512L, remain))], out) : problem writing to connection Warning in writeBin(block[seq_len(min(512L, remain))], out) : problem writing to connection Warning in writeBin(block[seq_len(min(512L, remain))], out) : problem writing to connection Warning in writeBin(block[seq_len(min(512L, remain))], out) : problem writing to connection Warning in writeBin(block[seq_len(min(512L, remain))], out) : problem writing to connection Warning in writeBin(block[seq_len(min(512L, remain))], out) : problem writing to connection Warning in writeBin(block[seq_len(min(512L, remain))], out) : problem writing to connection Warning in writeBin(block[seq_len(min(512L, remain))], out) : problem writing to connection Warning in writeBin(block[seq_len(min(512L, remain))], out) : problem writing to connection Warning in writeBin(block[seq_len(min(512L, remain))], out) : problem writing to connection Warning in writeBin(block[seq_len(min(512L, remain))], out) : problem writing to connection Warning in writeBin(block[seq_len(min(512L, remain))], out) : problem writing to connection Warning in writeBin(block[seq_len(min(512L, remain))], out) : problem writing to connection Warning in writeBin(block[seq_len(min(512L, remain))], out) : problem writing to connection Warning in writeBin(block[seq_len(min(512L, remain))], out) : problem writing to connection Warning in writeBin(block[seq_len(min(512L, remain))], out) : problem writing to connection Warning in writeBin(block[seq_len(min(512L, remain))], out) : problem writing to connection Warning in writeBin(block[seq_len(min(512L, remain))], out) : problem writing to connection Warning in writeBin(block[seq_len(min(512L, remain))], out) : problem writing to connection Warning in writeBin(block[seq_len(min(512L, remain))], out) : problem writing to connection Warning in writeBin(block[seq_len(min(512L, remain))], out) : problem writing to connection Warning in writeBin(block[seq_len(min(512L, remain))], out) : problem writing to connection Warning in writeBin(block[seq_len(min(512L, remain))], out) : problem writing to connection Warning in writeBin(block[seq_len(
easyreporting.Rcheck/00install.out
############################################################################## ############################################################################## ### ### Running command: ### ### /home/biocbuild/R/R/bin/R CMD INSTALL easyreporting ### ############################################################################## ############################################################################## * installing to library ‘/home/biocbuild/R/R-4.5.0/site-library’ * installing *source* package ‘easyreporting’ ... ** this is package ‘easyreporting’ version ‘1.21.0’ ** using staged installation ** R ** inst ** byte-compile and prepare package for lazy loading ** help *** installing help indices ** building package indices ** installing vignettes ** testing if installed package can be loaded from temporary location ** testing if installed package can be loaded from final location ** testing if installed package keeps a record of temporary installation path * DONE (easyreporting)
easyreporting.Rcheck/easyreporting-Ex.timings
name | user | system | elapsed | |
addResource-easyreporting-method | 0.011 | 0.000 | 0.011 | |
addResource | 0.035 | 0.000 | 0.035 | |
compile-easyreporting-method | 0 | 0 | 0 | |
compile | 0 | 0 | 0 | |
easyreporting-class | 0.001 | 0.000 | 0.001 | |
erGUIVolcano | 0 | 0 | 0 | |
getBibliography-easyreporting-method | 0.016 | 0.000 | 0.016 | |
getBibliography | 0 | 0 | 0 | |
getOptionsList-easyreporting-method | 0 | 0 | 0 | |
getOptionsList | 0 | 0 | 0 | |
getReportFilename-easyreporting-method | 0 | 0 | 0 | |
getReportFilename | 0 | 0 | 0 | |
makeOptionsList | 0 | 0 | 0 | |
mkdCodeChunkCommented-easyreporting-method | 0 | 0 | 0 | |
mkdCodeChunkCommented | 0.000 | 0.000 | 0.001 | |
mkdCodeChunkComplete-easyreporting-method | 0 | 0 | 0 | |
mkdCodeChunkComplete | 0 | 0 | 0 | |
mkdCodeChunkEnd-easyreporting-method | 0 | 0 | 0 | |
mkdCodeChunkEnd | 0 | 0 | 0 | |
mkdCodeChunkSt-easyreporting-method | 0 | 0 | 0 | |
mkdCodeChunkSt | 0 | 0 | 0 | |
mkdCodeChunkTitledCommented-easyreporting-method | 0 | 0 | 0 | |
mkdCodeChunkTitledCommented | 0 | 0 | 0 | |
mkdGeneralMsg-easyreporting-method | 0 | 0 | 0 | |
mkdGeneralMsg | 0 | 0 | 0 | |
mkdGeneralTitledMsg-easyreporting-method | 0 | 0 | 0 | |
mkdGeneralTitledMsg | 0 | 0 | 0 | |
mkdTitle-easyreporting-method | 0 | 0 | 0 | |
mkdTitle | 0 | 0 | 0 | |
mkdVariableAssignment-easyreporting-method | 0 | 0 | 0 | |
mkdVariableAssignment | 0.001 | 0.000 | 0.000 | |
setBibliography-easyreporting-method | 0.000 | 0.000 | 0.001 | |
setBibliography | 0 | 0 | 0 | |
setOptionsList-easyreporting-method | 0.000 | 0.000 | 0.001 | |
setOptionsList | 0.000 | 0.001 | 0.000 | |