| Back to Multiple platform build/check report for BioC 3.23: simplified long |
|
This page was generated on 2025-11-27 11:39 -0500 (Thu, 27 Nov 2025).
| Hostname | OS | Arch (*) | R version | Installed pkgs |
|---|---|---|---|---|
| nebbiolo1 | Linux (Ubuntu 24.04.3 LTS) | x86_64 | R Under development (unstable) (2025-10-20 r88955) -- "Unsuffered Consequences" | 4865 |
| lconway | macOS 12.7.6 Monterey | x86_64 | R Under development (unstable) (2025-10-21 r88958) -- "Unsuffered Consequences" | 4614 |
| kjohnson3 | macOS 13.7.7 Ventura | arm64 | R Under development (unstable) (2025-11-04 r88984) -- "Unsuffered Consequences" | 4571 |
| Click on any hostname to see more info about the system (e.g. compilers) (*) as reported by 'uname -p', except on Windows and Mac OS X | ||||
| Package 618/2328 | Hostname | OS / Arch | INSTALL | BUILD | CHECK | BUILD BIN | ||||||||
| dreamlet 1.9.0 (landing page) Gabriel Hoffman
| nebbiolo1 | Linux (Ubuntu 24.04.3 LTS) / x86_64 | OK | OK | OK | |||||||||
| lconway | macOS 12.7.6 Monterey / x86_64 | OK | OK | OK | OK | |||||||||
| kjohnson3 | macOS 13.7.7 Ventura / arm64 | OK | OK | OK | OK | |||||||||
|
To the developers/maintainers of the dreamlet package: - Allow up to 24 hours (and sometimes 48 hours) for your latest push to git@git.bioconductor.org:packages/dreamlet.git to reflect on this report. See Troubleshooting Build Report for more information. - Use the following Renviron settings to reproduce errors and warnings. - If 'R CMD check' started to fail recently on the Linux builder(s) over a missing dependency, add the missing dependency to 'Suggests:' in your DESCRIPTION file. See Renviron.bioc for more information. |
| Package: dreamlet |
| Version: 1.9.0 |
| Command: /Library/Frameworks/R.framework/Resources/bin/R CMD check --install=check:dreamlet.install-out.txt --library=/Library/Frameworks/R.framework/Resources/library --no-vignettes --timings dreamlet_1.9.0.tar.gz |
| StartedAt: 2025-11-26 19:41:02 -0500 (Wed, 26 Nov 2025) |
| EndedAt: 2025-11-26 19:45:26 -0500 (Wed, 26 Nov 2025) |
| EllapsedTime: 264.3 seconds |
| RetCode: 0 |
| Status: OK |
| CheckDir: dreamlet.Rcheck |
| Warnings: 0 |
##############################################################################
##############################################################################
###
### Running command:
###
### /Library/Frameworks/R.framework/Resources/bin/R CMD check --install=check:dreamlet.install-out.txt --library=/Library/Frameworks/R.framework/Resources/library --no-vignettes --timings dreamlet_1.9.0.tar.gz
###
##############################################################################
##############################################################################
* using log directory ‘/Users/biocbuild/bbs-3.23-bioc/meat/dreamlet.Rcheck’
* using R Under development (unstable) (2025-11-04 r88984)
* using platform: aarch64-apple-darwin20
* R was compiled by
Apple clang version 16.0.0 (clang-1600.0.26.6)
GNU Fortran (GCC) 14.2.0
* running under: macOS Ventura 13.7.8
* using session charset: UTF-8
* using option ‘--no-vignettes’
* checking for file ‘dreamlet/DESCRIPTION’ ... OK
* checking extension type ... Package
* this is package ‘dreamlet’ version ‘1.9.0’
* package encoding: UTF-8
* checking package namespace information ... OK
* checking package dependencies ... INFO
Imports includes 36 non-default packages.
Importing from so many packages makes the package vulnerable to any of
them becoming unavailable. Move as many as possible to Suggests and
use conditionally.
* checking if this is a source package ... OK
* checking if there is a namespace ... OK
* checking for hidden files and directories ... OK
* checking for portable file names ... OK
* checking for sufficient/correct file permissions ... OK
* checking whether package ‘dreamlet’ can be installed ... OK
* used C++ compiler: ‘Apple clang version 15.0.0 (clang-1500.1.0.2.5)’
* used SDK: ‘MacOSX11.3.1.sdk’
* checking C++ specification ... NOTE
Specified C++11: please drop specification unless essential
* checking installed package size ... OK
* checking package directory ... OK
* checking ‘build’ directory ... OK
* checking DESCRIPTION meta-information ... OK
* checking top-level files ... OK
* checking for left-over files ... OK
* checking index information ... OK
* checking package subdirectories ... OK
* checking code files for non-ASCII characters ... OK
* checking R files for syntax errors ... OK
* checking whether the package can be loaded ... OK
* checking whether the package can be loaded with stated dependencies ... OK
* checking whether the package can be unloaded cleanly ... OK
* checking whether the namespace can be loaded with stated dependencies ... OK
* checking whether the namespace can be unloaded cleanly ... OK
* checking dependencies in R code ... OK
* checking S3 generic/method consistency ... OK
* checking replacement functions ... OK
* checking foreign function calls ... OK
* checking R code for possible problems ... OK
* checking Rd files ... OK
* checking Rd metadata ... OK
* checking Rd cross-references ... OK
* checking for missing documentation entries ... OK
* checking for code/documentation mismatches ... OK
* checking Rd \usage sections ... OK
* checking Rd contents ... OK
* checking for unstated dependencies in examples ... OK
* checking line endings in C/C++/Fortran sources/headers ... OK
* checking line endings in Makefiles ... OK
* checking compilation flags in Makevars ... OK
* checking for GNU extensions in Makefiles ... OK
* checking for portable use of $(BLAS_LIBS) and $(LAPACK_LIBS) ... OK
* checking use of PKG_*FLAGS in Makefiles ... OK
* checking compiled code ... INFO
Note: information on .o files is not available
* checking files in ‘vignettes’ ... NOTE
The following directory looks like a leftover from 'knitr':
‘figure’
Please remove from your package.
* checking examples ... OK
Examples with CPU (user + system) or elapsed time > 5s
user system elapsed
zenith_gsa-methods 33.182 2.533 37.817
fitVarPart 5.899 0.023 6.297
plotVarPart-methods 5.708 0.053 6.072
sortCols-method 5.177 0.018 5.397
meta_analysis 5.036 0.095 5.555
plotPercentBars-methods 5.094 0.016 5.523
* checking for unstated dependencies in ‘tests’ ... OK
* checking tests ...
Running ‘runTests.R’
OK
* checking for unstated dependencies in vignettes ... OK
* checking package vignettes ... OK
* checking running R code from vignettes ... SKIPPED
* checking re-building of vignette outputs ... SKIPPED
* checking PDF version of manual ... OK
* DONE
Status: 2 NOTEs
See
‘/Users/biocbuild/bbs-3.23-bioc/meat/dreamlet.Rcheck/00check.log’
for details.
dreamlet.Rcheck/00install.out
##############################################################################
##############################################################################
###
### Running command:
###
### /Library/Frameworks/R.framework/Resources/bin/R CMD INSTALL dreamlet
###
##############################################################################
##############################################################################
* installing to library ‘/Library/Frameworks/R.framework/Versions/4.6-arm64/Resources/library’
* installing *source* package ‘dreamlet’ ...
** this is package ‘dreamlet’ version ‘1.9.0’
** using staged installation
** libs
using C++ compiler: ‘Apple clang version 15.0.0 (clang-1500.1.0.2.5)’
using C++11
using SDK: ‘MacOSX11.3.1.sdk’
clang++ -arch arm64 -std=gnu++11 -I"/Library/Frameworks/R.framework/Resources/include" -DNDEBUG -I'/Library/Frameworks/R.framework/Versions/4.6-arm64/Resources/library/Rcpp/include' -I'/Library/Frameworks/R.framework/Versions/4.6-arm64/Resources/library/beachmat/include' -I/opt/R/arm64/include -fPIC -falign-functions=64 -Wall -g -O2 -c RcppExports.cpp -o RcppExports.o
clang++ -arch arm64 -std=gnu++11 -I"/Library/Frameworks/R.framework/Resources/include" -DNDEBUG -I'/Library/Frameworks/R.framework/Versions/4.6-arm64/Resources/library/Rcpp/include' -I'/Library/Frameworks/R.framework/Versions/4.6-arm64/Resources/library/beachmat/include' -I/opt/R/arm64/include -fPIC -falign-functions=64 -Wall -g -O2 -c colsum_beachmat.cpp -o colsum_beachmat.o
In file included from colsum_beachmat.cpp:1:
In file included from /Library/Frameworks/R.framework/Versions/4.6-arm64/Resources/library/beachmat/include/beachmat3/beachmat.h:24:
In file included from /Library/Frameworks/R.framework/Versions/4.6-arm64/Resources/library/beachmat/include/beachmat3/read_lin_block.h:11:
/Library/Frameworks/R.framework/Versions/4.6-arm64/Resources/library/beachmat/include/beachmat3/lin_matrix.h:218:43: warning: 'beachmat::lin_sparse_matrix::get_row' hides overloaded virtual functions [-Woverloaded-virtual]
virtual sparse_index<const int*, int> get_row(size_t r, int* work_x, int* work_i, size_t first, size_t last) = 0;
^
/Library/Frameworks/R.framework/Versions/4.6-arm64/Resources/library/beachmat/include/beachmat3/lin_matrix.h:66:24: note: hidden overloaded virtual function 'beachmat::lin_matrix::get_row' declared here: different number of parameters (4 vs 5)
virtual const int* get_row(size_t r, int* work, size_t first, size_t last) = 0;
^
/Library/Frameworks/R.framework/Versions/4.6-arm64/Resources/library/beachmat/include/beachmat3/lin_matrix.h:95:27: note: hidden overloaded virtual function 'beachmat::lin_matrix::get_row' declared here: different number of parameters (4 vs 5)
virtual const double* get_row(size_t r, double* work, size_t first, size_t last) = 0;
^
/Library/Frameworks/R.framework/Versions/4.6-arm64/Resources/library/beachmat/include/beachmat3/lin_matrix.h:236:43: warning: 'beachmat::lin_sparse_matrix::get_col' hides overloaded virtual functions [-Woverloaded-virtual]
virtual sparse_index<const int*, int> get_col(size_t c, int* work_x, int* work_i, size_t first, size_t last) = 0;
^
/Library/Frameworks/R.framework/Versions/4.6-arm64/Resources/library/beachmat/include/beachmat3/lin_matrix.h:52:24: note: hidden overloaded virtual function 'beachmat::lin_matrix::get_col' declared here: different number of parameters (4 vs 5)
virtual const int* get_col(size_t c, int* work, size_t first, size_t last) = 0;
^
/Library/Frameworks/R.framework/Versions/4.6-arm64/Resources/library/beachmat/include/beachmat3/lin_matrix.h:81:27: note: hidden overloaded virtual function 'beachmat::lin_matrix::get_col' declared here: different number of parameters (4 vs 5)
virtual const double* get_col(size_t c, double* work, size_t first, size_t last) = 0;
^
/Library/Frameworks/R.framework/Versions/4.6-arm64/Resources/library/beachmat/include/beachmat3/lin_matrix.h:254:46: warning: 'beachmat::lin_sparse_matrix::get_row' hides overloaded virtual functions [-Woverloaded-virtual]
virtual sparse_index<const double*, int> get_row(size_t r, double* work_x, int* work_i, size_t first, size_t last) = 0;
^
/Library/Frameworks/R.framework/Versions/4.6-arm64/Resources/library/beachmat/include/beachmat3/lin_matrix.h:66:24: note: hidden overloaded virtual function 'beachmat::lin_matrix::get_row' declared here: different number of parameters (4 vs 5)
virtual const int* get_row(size_t r, int* work, size_t first, size_t last) = 0;
^
/Library/Frameworks/R.framework/Versions/4.6-arm64/Resources/library/beachmat/include/beachmat3/lin_matrix.h:95:27: note: hidden overloaded virtual function 'beachmat::lin_matrix::get_row' declared here: different number of parameters (4 vs 5)
virtual const double* get_row(size_t r, double* work, size_t first, size_t last) = 0;
^
/Library/Frameworks/R.framework/Versions/4.6-arm64/Resources/library/beachmat/include/beachmat3/lin_matrix.h:272:46: warning: 'beachmat::lin_sparse_matrix::get_col' hides overloaded virtual functions [-Woverloaded-virtual]
virtual sparse_index<const double*, int> get_col(size_t c, double* work_x, int* work_i, size_t first, size_t last) = 0;
^
/Library/Frameworks/R.framework/Versions/4.6-arm64/Resources/library/beachmat/include/beachmat3/lin_matrix.h:52:24: note: hidden overloaded virtual function 'beachmat::lin_matrix::get_col' declared here: different number of parameters (4 vs 5)
virtual const int* get_col(size_t c, int* work, size_t first, size_t last) = 0;
^
/Library/Frameworks/R.framework/Versions/4.6-arm64/Resources/library/beachmat/include/beachmat3/lin_matrix.h:81:27: note: hidden overloaded virtual function 'beachmat::lin_matrix::get_col' declared here: different number of parameters (4 vs 5)
virtual const double* get_col(size_t c, double* work, size_t first, size_t last) = 0;
^
/Library/Frameworks/R.framework/Versions/4.6-arm64/Resources/library/beachmat/include/beachmat3/lin_matrix.h:287:35: warning: 'beachmat::lin_sparse_matrix::get_col' hides overloaded virtual functions [-Woverloaded-virtual]
sparse_index<const int*, int> get_col(size_t c, int* work_x, int* work_i) {
^
/Library/Frameworks/R.framework/Versions/4.6-arm64/Resources/library/beachmat/include/beachmat3/lin_matrix.h:52:24: note: hidden overloaded virtual function 'beachmat::lin_matrix::get_col' declared here: different number of parameters (4 vs 3)
virtual const int* get_col(size_t c, int* work, size_t first, size_t last) = 0;
^
/Library/Frameworks/R.framework/Versions/4.6-arm64/Resources/library/beachmat/include/beachmat3/lin_matrix.h:81:27: note: hidden overloaded virtual function 'beachmat::lin_matrix::get_col' declared here: different number of parameters (4 vs 3)
virtual const double* get_col(size_t c, double* work, size_t first, size_t last) = 0;
^
/Library/Frameworks/R.framework/Versions/4.6-arm64/Resources/library/beachmat/include/beachmat3/lin_matrix.h:304:35: warning: 'beachmat::lin_sparse_matrix::get_row' hides overloaded virtual functions [-Woverloaded-virtual]
sparse_index<const int*, int> get_row(size_t r, int* work_x, int* work_i) {
^
/Library/Frameworks/R.framework/Versions/4.6-arm64/Resources/library/beachmat/include/beachmat3/lin_matrix.h:66:24: note: hidden overloaded virtual function 'beachmat::lin_matrix::get_row' declared here: different number of parameters (4 vs 3)
virtual const int* get_row(size_t r, int* work, size_t first, size_t last) = 0;
^
/Library/Frameworks/R.framework/Versions/4.6-arm64/Resources/library/beachmat/include/beachmat3/lin_matrix.h:95:27: note: hidden overloaded virtual function 'beachmat::lin_matrix::get_row' declared here: different number of parameters (4 vs 3)
virtual const double* get_row(size_t r, double* work, size_t first, size_t last) = 0;
^
/Library/Frameworks/R.framework/Versions/4.6-arm64/Resources/library/beachmat/include/beachmat3/lin_matrix.h:321:38: warning: 'beachmat::lin_sparse_matrix::get_col' hides overloaded virtual functions [-Woverloaded-virtual]
sparse_index<const double*, int> get_col(size_t c, double* work_x, int* work_i) {
^
/Library/Frameworks/R.framework/Versions/4.6-arm64/Resources/library/beachmat/include/beachmat3/lin_matrix.h:52:24: note: hidden overloaded virtual function 'beachmat::lin_matrix::get_col' declared here: different number of parameters (4 vs 3)
virtual const int* get_col(size_t c, int* work, size_t first, size_t last) = 0;
^
/Library/Frameworks/R.framework/Versions/4.6-arm64/Resources/library/beachmat/include/beachmat3/lin_matrix.h:81:27: note: hidden overloaded virtual function 'beachmat::lin_matrix::get_col' declared here: different number of parameters (4 vs 3)
virtual const double* get_col(size_t c, double* work, size_t first, size_t last) = 0;
^
/Library/Frameworks/R.framework/Versions/4.6-arm64/Resources/library/beachmat/include/beachmat3/lin_matrix.h:338:38: warning: 'beachmat::lin_sparse_matrix::get_row' hides overloaded virtual functions [-Woverloaded-virtual]
sparse_index<const double*, int> get_row(size_t r, double* work_x, int* work_i) {
^
/Library/Frameworks/R.framework/Versions/4.6-arm64/Resources/library/beachmat/include/beachmat3/lin_matrix.h:66:24: note: hidden overloaded virtual function 'beachmat::lin_matrix::get_row' declared here: different number of parameters (4 vs 3)
virtual const int* get_row(size_t r, int* work, size_t first, size_t last) = 0;
^
/Library/Frameworks/R.framework/Versions/4.6-arm64/Resources/library/beachmat/include/beachmat3/lin_matrix.h:95:27: note: hidden overloaded virtual function 'beachmat::lin_matrix::get_row' declared here: different number of parameters (4 vs 3)
virtual const double* get_row(size_t r, double* work, size_t first, size_t last) = 0;
^
8 warnings generated.
clang++ -arch arm64 -std=gnu++11 -dynamiclib -Wl,-headerpad_max_install_names -undefined dynamic_lookup -L/Library/Frameworks/R.framework/Resources/lib -L/opt/R/arm64/lib -o dreamlet.so RcppExports.o colsum_beachmat.o -F/Library/Frameworks/R.framework/.. -framework R
installing to /Library/Frameworks/R.framework/Versions/4.6-arm64/Resources/library/00LOCK-dreamlet/00new/dreamlet/libs
** R
** inst
** byte-compile and prepare package for lazy loading
** help
Loading required namespace: variancePartition
Loading required namespace: dreamlet
*** installing help indices
*** copying figures
** building package indices
** installing vignettes
** testing if installed package can be loaded from temporary location
** checking absolute paths in shared objects and dynamic libraries
** testing if installed package can be loaded from final location
** testing if installed package keeps a record of temporary installation path
* DONE (dreamlet)
dreamlet.Rcheck/tests/runTests.Rout
R Under development (unstable) (2025-11-04 r88984) -- "Unsuffered Consequences"
Copyright (C) 2025 The R Foundation for Statistical Computing
Platform: aarch64-apple-darwin20
R is free software and comes with ABSOLUTELY NO WARRANTY.
You are welcome to redistribute it under certain conditions.
Type 'license()' or 'licence()' for distribution details.
R is a collaborative project with many contributors.
Type 'contributors()' for more information and
'citation()' on how to cite R or R packages in publications.
Type 'demo()' for some demos, 'help()' for on-line help, or
'help.start()' for an HTML browser interface to help.
Type 'q()' to quit R.
> library(Matrix)
> library(dreamlet)
Loading required package: variancePartition
Loading required package: ggplot2
Loading required package: limma
Loading required package: BiocParallel
Attaching package: 'variancePartition'
The following objects are masked from 'package:limma':
eBayes, topTable
Loading required package: SingleCellExperiment
Loading required package: SummarizedExperiment
Loading required package: MatrixGenerics
Loading required package: matrixStats
Attaching package: 'MatrixGenerics'
The following objects are masked from 'package:matrixStats':
colAlls, colAnyNAs, colAnys, colAvgsPerRowSet, colCollapse,
colCounts, colCummaxs, colCummins, colCumprods, colCumsums,
colDiffs, colIQRDiffs, colIQRs, colLogSumExps, colMadDiffs,
colMads, colMaxs, colMeans2, colMedians, colMins, colOrderStats,
colProds, colQuantiles, colRanges, colRanks, colSdDiffs, colSds,
colSums2, colTabulates, colVarDiffs, colVars, colWeightedMads,
colWeightedMeans, colWeightedMedians, colWeightedSds,
colWeightedVars, rowAlls, rowAnyNAs, rowAnys, rowAvgsPerColSet,
rowCollapse, rowCounts, rowCummaxs, rowCummins, rowCumprods,
rowCumsums, rowDiffs, rowIQRDiffs, rowIQRs, rowLogSumExps,
rowMadDiffs, rowMads, rowMaxs, rowMeans2, rowMedians, rowMins,
rowOrderStats, rowProds, rowQuantiles, rowRanges, rowRanks,
rowSdDiffs, rowSds, rowSums2, rowTabulates, rowVarDiffs, rowVars,
rowWeightedMads, rowWeightedMeans, rowWeightedMedians,
rowWeightedSds, rowWeightedVars
Loading required package: GenomicRanges
Loading required package: stats4
Loading required package: BiocGenerics
Loading required package: generics
Attaching package: 'generics'
The following objects are masked from 'package:base':
as.difftime, as.factor, as.ordered, intersect, is.element, setdiff,
setequal, union
Attaching package: 'BiocGenerics'
The following object is masked from 'package:limma':
plotMA
The following objects are masked from 'package:stats':
IQR, mad, sd, var, xtabs
The following objects are masked from 'package:base':
Filter, Find, Map, Position, Reduce, anyDuplicated, aperm, append,
as.data.frame, basename, cbind, colnames, dirname, do.call,
duplicated, eval, evalq, get, grep, grepl, is.unsorted, lapply,
mapply, match, mget, order, paste, pmax, pmax.int, pmin, pmin.int,
rank, rbind, rownames, sapply, saveRDS, table, tapply, unique,
unsplit, which.max, which.min
Loading required package: S4Vectors
Attaching package: 'S4Vectors'
The following objects are masked from 'package:Matrix':
expand, unname
The following object is masked from 'package:utils':
findMatches
The following objects are masked from 'package:base':
I, expand.grid, unname
Loading required package: IRanges
Loading required package: Seqinfo
Loading required package: Biobase
Welcome to Bioconductor
Vignettes contain introductory material; view with
'browseVignettes()'. To cite Bioconductor, see
'citation("Biobase")', and for packages 'citation("pkgname")'.
Attaching package: 'Biobase'
The following object is masked from 'package:MatrixGenerics':
rowMedians
The following objects are masked from 'package:matrixStats':
anyMissing, rowMedians
> library(DelayedArray)
Loading required package: S4Arrays
Loading required package: abind
Attaching package: 'S4Arrays'
The following object is masked from 'package:abind':
abind
The following object is masked from 'package:base':
rowsum
Loading required package: SparseArray
Attaching package: 'DelayedArray'
The following objects are masked from 'package:base':
apply, scale, sweep
> library(edgeR)
Attaching package: 'edgeR'
The following objects are masked from 'package:SingleCellExperiment':
cpm, tpm
> library(muscat)
Warning message:
In check_dep_version(dep_pkg = "TMB") : package version mismatch:
glmmTMB was built with TMB package version 1.9.17
Current TMB package version is 1.9.18
Please re-install glmmTMB from source or restore original 'TMB' package (see '?reinstalling' for more information)
> library(RUnit)
>
> BiocGenerics:::testPackage("dreamlet")
B cells...0.11 secs
B cells...0.09 secs
Processing block [[1/1, 1/1]] ... OK
B cells...0.091 secs
CD14+ Monocytes...0.12 secs
CD4 T cells...0.11 secs
CD8 T cells...0.059 secs
FCGR3A+ Monocytes...0.11 secs
B cells...0.93 secs
CD14+ Monocytes...1.3 secs
CD4 T cells...1 secs
CD8 T cells...0.57 secs
FCGR3A+ Monocytes...1.2 secs
B cells...0.067 secs
CD14+ Monocytes...0.1 secs
CD4 T cells...0.082 secs
CD8 T cells...0.056 secs
FCGR3A+ Monocytes...0.08 secs
RUNIT TEST PROTOCOL -- Wed Nov 26 19:45:21 2025
***********************************************
Number of test functions: 10
Number of errors: 0
Number of failures: 0
1 Test Suite :
dreamlet RUnit Tests - 10 test functions, 0 errors, 0 failures
Number of test functions: 10
Number of errors: 0
Number of failures: 0
>
> proc.time()
user system elapsed
19.576 0.655 28.453
dreamlet.Rcheck/dreamlet-Ex.timings
| name | user | system | elapsed | |
| aggregateNonCountSignal | 2.653 | 0.097 | 2.926 | |
| aggregateToPseudoBulk | 0.254 | 0.018 | 0.283 | |
| aggregateVar | 0.319 | 0.005 | 0.334 | |
| as.dreamletResult | 0.392 | 0.007 | 0.440 | |
| buildClusterTreeFromPB | 0.668 | 0.019 | 0.765 | |
| cellCounts | 0.148 | 0.004 | 0.161 | |
| cellTypeSpecificity | 0.708 | 0.036 | 0.813 | |
| checkFormula | 0.000 | 0.001 | 0.001 | |
| coefNames-methods | 0.990 | 0.014 | 1.102 | |
| compositePosteriorTest | 3.738 | 0.047 | 4.027 | |
| computeCellCounts | 0.080 | 0.003 | 0.087 | |
| computeLogCPM | 0.134 | 0.010 | 0.157 | |
| computeNormCounts | 0.107 | 0.009 | 0.117 | |
| details-methods | 0.648 | 0.008 | 0.700 | |
| diffVar-methods | 1.311 | 0.028 | 1.418 | |
| dreamlet | 0.998 | 0.011 | 1.057 | |
| dreamletCompareClusters | 0.936 | 0.013 | 1.007 | |
| dropRedundantTerms | 0.002 | 0.000 | 0.002 | |
| equalFormulas | 0.000 | 0.000 | 0.001 | |
| extractData-methods | 0.681 | 0.010 | 0.742 | |
| fitVarPart | 5.899 | 0.023 | 6.297 | |
| getTreat-methods | 1.047 | 0.021 | 1.152 | |
| meta_analysis | 5.036 | 0.095 | 5.555 | |
| outlier | 0.001 | 0.000 | 0.001 | |
| outlierByAssay | 0.687 | 0.007 | 0.741 | |
| plotBeeswarm | 1.174 | 0.013 | 1.264 | |
| plotCellComposition | 0.425 | 0.006 | 0.457 | |
| plotForest-methods | 1.142 | 0.015 | 1.213 | |
| plotGeneHeatmap-methods | 1.170 | 0.017 | 1.298 | |
| plotHeatmap-methods | 0.262 | 0.005 | 0.285 | |
| plotPCA | 1.827 | 0.035 | 2.035 | |
| plotPercentBars-methods | 5.094 | 0.016 | 5.523 | |
| plotProjection | 0.274 | 0.016 | 0.284 | |
| plotVarPart-methods | 5.708 | 0.053 | 6.072 | |
| plotViolin-methods | 0.344 | 0.007 | 0.360 | |
| plotVolcano-methods | 1.501 | 0.018 | 1.606 | |
| plotVoom-methods | 1.087 | 0.011 | 1.128 | |
| processAssays | 1.016 | 0.019 | 1.094 | |
| removeConstantTerms | 0.001 | 0.000 | 0.002 | |
| residuals-methods | 1.013 | 0.015 | 1.046 | |
| run_mash | 4.639 | 0.052 | 4.954 | |
| seeErrors-methods | 1.010 | 0.017 | 1.075 | |
| sortCols-method | 5.177 | 0.018 | 5.397 | |
| stackAssays | 3.049 | 0.032 | 3.255 | |
| topTable-methods | 1.015 | 0.015 | 1.088 | |
| zenith_gsa-methods | 33.182 | 2.533 | 37.817 | |