Back to Multiple platform build/check report for BioC 3.23:   simplified   long
ABC[D]EFGHIJKLMNOPQRSTUVWXYZ

This page was generated on 2025-11-17 11:39 -0500 (Mon, 17 Nov 2025).

HostnameOSArch (*)R versionInstalled pkgs
nebbiolo1Linux (Ubuntu 24.04.3 LTS)x86_64R Under development (unstable) (2025-10-20 r88955) -- "Unsuffered Consequences" 4826
lconwaymacOS 12.7.6 Montereyx86_64R Under development (unstable) (2025-10-21 r88958) -- "Unsuffered Consequences" 4491
kjohnson3macOS 13.7.7 Venturaarm64R Under development (unstable) (2025-11-04 r88984) -- "Unsuffered Consequences" 4562
Click on any hostname to see more info about the system (e.g. compilers)      (*) as reported by 'uname -p', except on Windows and Mac OS X

Package 608/2325HostnameOS / ArchINSTALLBUILDCHECKBUILD BIN
dominoSignal 1.5.0  (landing page)
Jacob T Mitchell
Snapshot Date: 2025-11-16 13:40 -0500 (Sun, 16 Nov 2025)
git_url: https://git.bioconductor.org/packages/dominoSignal
git_branch: devel
git_last_commit: a76eebf
git_last_commit_date: 2025-10-29 11:31:35 -0500 (Wed, 29 Oct 2025)
nebbiolo1Linux (Ubuntu 24.04.3 LTS) / x86_64  OK    OK    OK  UNNEEDED, same version is already published
lconwaymacOS 12.7.6 Monterey / x86_64  OK    OK    OK    OK  YES
kjohnson3macOS 13.7.7 Ventura / arm64  OK    OK    OK    OK  UNNEEDED, same version is already published


CHECK results for dominoSignal on lconway

To the developers/maintainers of the dominoSignal package:
- Allow up to 24 hours (and sometimes 48 hours) for your latest push to git@git.bioconductor.org:packages/dominoSignal.git to reflect on this report. See Troubleshooting Build Report for more information.
- Use the following Renviron settings to reproduce errors and warnings.
- If 'R CMD check' started to fail recently on the Linux builder(s) over a missing dependency, add the missing dependency to 'Suggests:' in your DESCRIPTION file. See Renviron.bioc for more information.

raw results


Summary

Package: dominoSignal
Version: 1.5.0
Command: /Library/Frameworks/R.framework/Resources/bin/R CMD check --install=check:dominoSignal.install-out.txt --library=/Library/Frameworks/R.framework/Resources/library --no-vignettes --timings dominoSignal_1.5.0.tar.gz
StartedAt: 2025-11-17 02:30:53 -0500 (Mon, 17 Nov 2025)
EndedAt: 2025-11-17 02:34:10 -0500 (Mon, 17 Nov 2025)
EllapsedTime: 197.1 seconds
RetCode: 0
Status:   OK  
CheckDir: dominoSignal.Rcheck
Warnings: 0

Command output

##############################################################################
##############################################################################
###
### Running command:
###
###   /Library/Frameworks/R.framework/Resources/bin/R CMD check --install=check:dominoSignal.install-out.txt --library=/Library/Frameworks/R.framework/Resources/library --no-vignettes --timings dominoSignal_1.5.0.tar.gz
###
##############################################################################
##############################################################################


* using log directory ‘/Users/biocbuild/bbs-3.23-bioc/meat/dominoSignal.Rcheck’
* using R Under development (unstable) (2025-10-21 r88958)
* using platform: x86_64-apple-darwin20
* R was compiled by
    Apple clang version 14.0.0 (clang-1400.0.29.202)
    GNU Fortran (GCC) 14.2.0
* running under: macOS Ventura 13.7.8
* using session charset: UTF-8
* using option ‘--no-vignettes’
* checking for file ‘dominoSignal/DESCRIPTION’ ... OK
* this is package ‘dominoSignal’ version ‘1.5.0’
* package encoding: UTF-8
* checking package namespace information ... OK
* checking package dependencies ... OK
* checking if this is a source package ... OK
* checking if there is a namespace ... OK
* checking for hidden files and directories ... OK
* checking for portable file names ... OK
* checking for sufficient/correct file permissions ... OK
* checking whether package ‘dominoSignal’ can be installed ... OK
* checking installed package size ... OK
* checking package directory ... OK
* checking ‘build’ directory ... OK
* checking DESCRIPTION meta-information ... OK
* checking top-level files ... OK
* checking for left-over files ... OK
* checking index information ... OK
* checking package subdirectories ... OK
* checking code files for non-ASCII characters ... OK
* checking R files for syntax errors ... OK
* checking whether the package can be loaded ... OK
* checking whether the package can be loaded with stated dependencies ... OK
* checking whether the package can be unloaded cleanly ... OK
* checking whether the namespace can be loaded with stated dependencies ... OK
* checking whether the namespace can be unloaded cleanly ... OK
* checking dependencies in R code ... OK
* checking S3 generic/method consistency ... OK
* checking replacement functions ... OK
* checking foreign function calls ... OK
* checking R code for possible problems ... OK
* checking Rd files ... OK
* checking Rd metadata ... OK
* checking Rd cross-references ... OK
* checking for missing documentation entries ... OK
* checking for code/documentation mismatches ... OK
* checking Rd \usage sections ... OK
* checking Rd contents ... OK
* checking for unstated dependencies in examples ... OK
* checking contents of ‘data’ directory ... OK
* checking data for non-ASCII characters ... OK
* checking data for ASCII and uncompressed saves ... OK
* checking R/sysdata.rda ... NOTE
  
  Note: significantly better compression could be obtained
        by using R CMD build --resave-data
              old_size new_size compress
  sysdata.rda    132Kb     30Kb       xz
* checking files in ‘vignettes’ ... OK
* checking examples ... OK
* checking for unstated dependencies in ‘tests’ ... OK
* checking tests ...
  Running ‘testthat.R’
 OK
* checking for unstated dependencies in vignettes ... OK
* checking package vignettes ... OK
* checking running R code from vignettes ... SKIPPED
* checking re-building of vignette outputs ... SKIPPED
* checking PDF version of manual ... OK
* DONE

Status: 1 NOTE
See
  ‘/Users/biocbuild/bbs-3.23-bioc/meat/dominoSignal.Rcheck/00check.log’
for details.


Installation output

dominoSignal.Rcheck/00install.out

##############################################################################
##############################################################################
###
### Running command:
###
###   /Library/Frameworks/R.framework/Resources/bin/R CMD INSTALL dominoSignal
###
##############################################################################
##############################################################################


* installing to library ‘/Library/Frameworks/R.framework/Versions/4.6-x86_64/Resources/library’
* installing *source* package ‘dominoSignal’ ...
** this is package ‘dominoSignal’ version ‘1.5.0’
** using staged installation
** R
** data
** inst
** byte-compile and prepare package for lazy loading
** help
*** installing help indices
*** copying figures
** building package indices
** installing vignettes
** testing if installed package can be loaded from temporary location
** testing if installed package can be loaded from final location
** testing if installed package keeps a record of temporary installation path
* DONE (dominoSignal)

Tests output

dominoSignal.Rcheck/tests/testthat.Rout


R Under development (unstable) (2025-10-21 r88958) -- "Unsuffered Consequences"
Copyright (C) 2025 The R Foundation for Statistical Computing
Platform: x86_64-apple-darwin20

R is free software and comes with ABSOLUTELY NO WARRANTY.
You are welcome to redistribute it under certain conditions.
Type 'license()' or 'licence()' for distribution details.

R is a collaborative project with many contributors.
Type 'contributors()' for more information and
'citation()' on how to cite R or R packages in publications.

Type 'demo()' for some demos, 'help()' for on-line help, or
'help.start()' for an HTML browser interface to help.
Type 'q()' to quit R.

> library("testthat")
> library("dominoSignal")
> 
> test_check("dominoSignal")
2025-11-17 02:33:59.448 R[72881:8782844] XType: Using static font registry.
[ FAIL 0 | WARN 0 | SKIP 0 | PASS 65 ]
> 
> proc.time()
   user  system elapsed 
  9.718   0.635  10.397 

Example timings

dominoSignal.Rcheck/dominoSignal-Ex.timings

nameusersystemelapsed
add_rl_column0.0340.0050.041
build_domino0.1470.0180.170
circos_ligand_receptor0.6990.0380.741
cor_heatmap3.4630.0553.526
cor_scatter0.5740.0290.606
count_linkage0.0030.0000.004
create_domino0.1060.0110.117
create_regulon_list_scenic0.0090.0020.010
create_rl_map_cellphonedb0.0160.0020.018
dom_clusters0.6980.0140.714
dom_correlations0.1080.0120.122
dom_counts0.1050.0140.120
dom_database0.1050.0130.121
dom_de0.1110.0130.126
dom_info0.1200.0120.134
dom_linkages0.1130.0140.128
dom_network_items0.1010.0110.114
dom_signaling0.1060.0130.121
dom_tf_activation0.1030.0120.116
dom_zscores0.1100.0100.122
feat_heatmap1.0140.0721.090
gene_network0.1970.0170.217
incoming_signaling_heatmap0.2360.0130.250
mean_ligand_expression0.1110.0130.126
obtain_circos_expression0.1390.0140.154
plot_differential_linkages0.2770.0160.296
print-domino-method0.1140.0150.129
rename_clusters0.0990.0100.110
render_circos_ligand_receptor0.3370.0160.356
show-domino-method0.1110.0140.125
signaling_heatmap0.4780.0140.494
signaling_network0.1710.0160.189
summarize_linkages0.1850.0170.203
test_differential_linkages0.0060.0010.007