| Back to Multiple platform build/check report for BioC 3.23: simplified long |
|
This page was generated on 2025-11-21 11:38 -0500 (Fri, 21 Nov 2025).
| Hostname | OS | Arch (*) | R version | Installed pkgs |
|---|---|---|---|---|
| nebbiolo1 | Linux (Ubuntu 24.04.3 LTS) | x86_64 | R Under development (unstable) (2025-10-20 r88955) -- "Unsuffered Consequences" | 4829 |
| lconway | macOS 12.7.6 Monterey | x86_64 | R Under development (unstable) (2025-10-21 r88958) -- "Unsuffered Consequences" | 4602 |
| kjohnson3 | macOS 13.7.7 Ventura | arm64 | R Under development (unstable) (2025-11-04 r88984) -- "Unsuffered Consequences" | 4566 |
| Click on any hostname to see more info about the system (e.g. compilers) (*) as reported by 'uname -p', except on Windows and Mac OS X | ||||
| Package 491/2327 | Hostname | OS / Arch | INSTALL | BUILD | CHECK | BUILD BIN | ||||||||
| cyanoFilter 1.19.0 (landing page) Oluwafemi Olusoji
| nebbiolo1 | Linux (Ubuntu 24.04.3 LTS) / x86_64 | OK | OK | OK | |||||||||
| lconway | macOS 12.7.6 Monterey / x86_64 | OK | OK | OK | OK | |||||||||
| kjohnson3 | macOS 13.7.7 Ventura / arm64 | OK | OK | OK | OK | |||||||||
|
To the developers/maintainers of the cyanoFilter package: - Allow up to 24 hours (and sometimes 48 hours) for your latest push to git@git.bioconductor.org:packages/cyanoFilter.git to reflect on this report. See Troubleshooting Build Report for more information. - Use the following Renviron settings to reproduce errors and warnings. - If 'R CMD check' started to fail recently on the Linux builder(s) over a missing dependency, add the missing dependency to 'Suggests:' in your DESCRIPTION file. See Renviron.bioc for more information. |
| Package: cyanoFilter |
| Version: 1.19.0 |
| Command: /Library/Frameworks/R.framework/Resources/bin/R CMD check --install=check:cyanoFilter.install-out.txt --library=/Library/Frameworks/R.framework/Resources/library --no-vignettes --timings cyanoFilter_1.19.0.tar.gz |
| StartedAt: 2025-11-20 20:29:03 -0500 (Thu, 20 Nov 2025) |
| EndedAt: 2025-11-20 20:31:03 -0500 (Thu, 20 Nov 2025) |
| EllapsedTime: 119.8 seconds |
| RetCode: 0 |
| Status: OK |
| CheckDir: cyanoFilter.Rcheck |
| Warnings: 0 |
##############################################################################
##############################################################################
###
### Running command:
###
### /Library/Frameworks/R.framework/Resources/bin/R CMD check --install=check:cyanoFilter.install-out.txt --library=/Library/Frameworks/R.framework/Resources/library --no-vignettes --timings cyanoFilter_1.19.0.tar.gz
###
##############################################################################
##############################################################################
* using log directory ‘/Users/biocbuild/bbs-3.23-bioc/meat/cyanoFilter.Rcheck’
* using R Under development (unstable) (2025-10-21 r88958)
* using platform: x86_64-apple-darwin20
* R was compiled by
Apple clang version 14.0.0 (clang-1400.0.29.202)
GNU Fortran (GCC) 14.2.0
* running under: macOS Ventura 13.7.8
* using session charset: UTF-8
* using option ‘--no-vignettes’
* checking for file ‘cyanoFilter/DESCRIPTION’ ... OK
* checking extension type ... Package
* this is package ‘cyanoFilter’ version ‘1.19.0’
* package encoding: UTF-8
* checking package namespace information ... OK
* checking package dependencies ... OK
* checking if this is a source package ... OK
* checking if there is a namespace ... OK
* checking for hidden files and directories ... OK
* checking for portable file names ... OK
* checking for sufficient/correct file permissions ... OK
* checking whether package ‘cyanoFilter’ can be installed ... OK
* checking installed package size ... OK
* checking package directory ... OK
* checking ‘build’ directory ... OK
* checking DESCRIPTION meta-information ... OK
* checking top-level files ... OK
* checking for left-over files ... OK
* checking index information ... OK
* checking package subdirectories ... OK
* checking code files for non-ASCII characters ... OK
* checking R files for syntax errors ... OK
* checking whether the package can be loaded ... OK
* checking whether the package can be loaded with stated dependencies ... OK
* checking whether the package can be unloaded cleanly ... OK
* checking whether the namespace can be loaded with stated dependencies ... OK
* checking whether the namespace can be unloaded cleanly ... OK
* checking dependencies in R code ... OK
* checking S3 generic/method consistency ... OK
* checking replacement functions ... OK
* checking foreign function calls ... OK
* checking R code for possible problems ... OK
* checking Rd files ... OK
* checking Rd metadata ... OK
* checking Rd cross-references ... OK
* checking for missing documentation entries ... OK
* checking for code/documentation mismatches ... OK
* checking Rd \usage sections ... OK
* checking Rd contents ... OK
* checking for unstated dependencies in examples ... OK
* checking files in ‘vignettes’ ... OK
* checking examples ... OK
Examples with CPU (user + system) or elapsed time > 5s
user system elapsed
gateFunc 10.568 0.503 8.878
ggpairsDens 5.421 0.139 5.604
* checking for unstated dependencies in vignettes ... OK
* checking package vignettes ... OK
* checking running R code from vignettes ... SKIPPED
* checking re-building of vignette outputs ... SKIPPED
* checking PDF version of manual ... OK
* DONE
Status: OK
cyanoFilter.Rcheck/00install.out
############################################################################## ############################################################################## ### ### Running command: ### ### /Library/Frameworks/R.framework/Resources/bin/R CMD INSTALL cyanoFilter ### ############################################################################## ############################################################################## * installing to library ‘/Library/Frameworks/R.framework/Versions/4.6-x86_64/Resources/library’ * installing *source* package ‘cyanoFilter’ ... ** this is package ‘cyanoFilter’ version ‘1.19.0’ ** using staged installation ** R ** inst ** byte-compile and prepare package for lazy loading ** help *** installing help indices ** building package indices ** installing vignettes ** testing if installed package can be loaded from temporary location ** testing if installed package can be loaded from final location ** testing if installed package keeps a record of temporary installation path * DONE (cyanoFilter)
cyanoFilter.Rcheck/cyanoFilter-Ex.timings
| name | user | system | elapsed | |
| MarginEvents | 0.869 | 0.080 | 0.959 | |
| PhytoFilter | 0.661 | 0.040 | 0.709 | |
| PhytopFilter | 0.736 | 0.051 | 0.797 | |
| accTest | 0.424 | 0.029 | 0.459 | |
| accuracy | 0.479 | 0.030 | 0.511 | |
| cellmargin | 0.371 | 0.026 | 0.402 | |
| clusterExtract | 0.878 | 0.034 | 0.920 | |
| clusterExtractp | 1.048 | 0.053 | 1.109 | |
| debrisNc | 0.588 | 0.045 | 0.638 | |
| fullFlowframe-MarginEvents-method | 0.336 | 0.023 | 0.366 | |
| fullFlowframe-PhytopFilter-method | 0.861 | 0.048 | 0.922 | |
| fullFlowframe | 0.324 | 0.022 | 0.350 | |
| gateFunc | 10.568 | 0.503 | 8.878 | |
| ggpairsDens | 5.421 | 0.139 | 5.604 | |
| ggplotDens | 0.716 | 0.025 | 0.747 | |
| ggplotDens2 | 1.346 | 0.068 | 1.428 | |
| goodfcs | 0.052 | 0.009 | 0.063 | |
| is.DebrisFilter | 0.001 | 0.001 | 0.001 | |
| is.MarginEvents | 0 | 0 | 0 | |
| is.PhytopFilter | 0 | 0 | 0 | |
| is.flowFrame | 0.001 | 0.000 | 0.000 | |
| is.flowSet | 0.000 | 0.000 | 0.001 | |
| lnTrans | 0.205 | 0.012 | 0.219 | |
| newFlowframe | 0.205 | 0.047 | 0.255 | |
| nona | 0.110 | 0.006 | 0.118 | |
| noneg | 0.161 | 0.008 | 0.171 | |
| oneDgate | 0.221 | 0.043 | 0.267 | |
| pairsPlot | 1.816 | 0.151 | 1.984 | |
| pigmentGate | 0.554 | 0.046 | 0.613 | |
| reducedFlowframe-MarginEvents-method | 0.303 | 0.019 | 0.325 | |
| reducedFlowframe | 0.308 | 0.020 | 0.331 | |
| retain | 0.025 | 0.002 | 0.026 | |
| rowNumbers | 0.225 | 0.065 | 0.292 | |
| summaries-DebrisFilter-method | 0.303 | 0.021 | 0.328 | |
| summaries-MarginEvents-method | 0.290 | 0.020 | 0.313 | |
| summaries-PhytopFilter-method | 0.581 | 0.029 | 0.615 | |
| summaries | 0.305 | 0.019 | 0.332 | |