| Back to Multiple platform build/check report for BioC 3.22: simplified long |
|
This page was generated on 2025-10-28 12:02 -0400 (Tue, 28 Oct 2025).
| Hostname | OS | Arch (*) | R version | Installed pkgs |
|---|---|---|---|---|
| nebbiolo2 | Linux (Ubuntu 24.04.3 LTS) | x86_64 | 4.5.1 Patched (2025-08-23 r88802) -- "Great Square Root" | 4901 |
| lconway | macOS 12.7.6 Monterey | x86_64 | 4.5.1 Patched (2025-09-10 r88807) -- "Great Square Root" | 4691 |
| kjohnson3 | macOS 13.7.7 Ventura | arm64 | 4.5.1 Patched (2025-09-10 r88807) -- "Great Square Root" | 4637 |
| Click on any hostname to see more info about the system (e.g. compilers) (*) as reported by 'uname -p', except on Windows and Mac OS X | ||||
| Package 431/2361 | Hostname | OS / Arch | INSTALL | BUILD | CHECK | BUILD BIN | ||||||||
| compEpiTools 1.43.1 (landing page) Mattia Furlan
| nebbiolo2 | Linux (Ubuntu 24.04.3 LTS) / x86_64 | OK | OK | OK | |||||||||
| lconway | macOS 12.7.6 Monterey / x86_64 | OK | OK | OK | OK | |||||||||
| kjohnson3 | macOS 13.7.7 Ventura / arm64 | OK | OK | OK | OK | |||||||||
|
To the developers/maintainers of the compEpiTools package: - Allow up to 24 hours (and sometimes 48 hours) for your latest push to git@git.bioconductor.org:packages/compEpiTools.git to reflect on this report. See Troubleshooting Build Report for more information. - Use the following Renviron settings to reproduce errors and warnings. - If 'R CMD check' started to fail recently on the Linux builder(s) over a missing dependency, add the missing dependency to 'Suggests:' in your DESCRIPTION file. See Renviron.bioc for more information. |
| Package: compEpiTools |
| Version: 1.43.1 |
| Command: /home/biocbuild/bbs-3.22-bioc/R/bin/R CMD check --install=check:compEpiTools.install-out.txt --library=/home/biocbuild/bbs-3.22-bioc/R/site-library --timings compEpiTools_1.43.1.tar.gz |
| StartedAt: 2025-10-27 22:18:47 -0400 (Mon, 27 Oct 2025) |
| EndedAt: 2025-10-27 22:26:16 -0400 (Mon, 27 Oct 2025) |
| EllapsedTime: 448.5 seconds |
| RetCode: 0 |
| Status: OK |
| CheckDir: compEpiTools.Rcheck |
| Warnings: 0 |
##############################################################################
##############################################################################
###
### Running command:
###
### /home/biocbuild/bbs-3.22-bioc/R/bin/R CMD check --install=check:compEpiTools.install-out.txt --library=/home/biocbuild/bbs-3.22-bioc/R/site-library --timings compEpiTools_1.43.1.tar.gz
###
##############################################################################
##############################################################################
* using log directory ‘/home/biocbuild/bbs-3.22-bioc/meat/compEpiTools.Rcheck’
* using R version 4.5.1 Patched (2025-08-23 r88802)
* using platform: x86_64-pc-linux-gnu
* R was compiled by
gcc (Ubuntu 13.3.0-6ubuntu2~24.04) 13.3.0
GNU Fortran (Ubuntu 13.3.0-6ubuntu2~24.04) 13.3.0
* running under: Ubuntu 24.04.3 LTS
* using session charset: UTF-8
* checking for file ‘compEpiTools/DESCRIPTION’ ... OK
* checking extension type ... Package
* this is package ‘compEpiTools’ version ‘1.43.1’
* checking package namespace information ... OK
* checking package dependencies ... OK
* checking if this is a source package ... OK
* checking if there is a namespace ... OK
* checking for hidden files and directories ... OK
* checking for portable file names ... OK
* checking for sufficient/correct file permissions ... OK
* checking whether package ‘compEpiTools’ can be installed ... OK
* checking installed package size ... OK
* checking package directory ... OK
* checking ‘build’ directory ... OK
* checking DESCRIPTION meta-information ... OK
* checking top-level files ... OK
* checking for left-over files ... OK
* checking index information ... OK
* checking package subdirectories ... OK
* checking code files for non-ASCII characters ... OK
* checking R files for syntax errors ... OK
* checking whether the package can be loaded ... OK
* checking whether the package can be loaded with stated dependencies ... OK
* checking whether the package can be unloaded cleanly ... OK
* checking whether the namespace can be loaded with stated dependencies ... OK
* checking whether the namespace can be unloaded cleanly ... OK
* checking loading without being on the library search path ... OK
* checking dependencies in R code ... OK
* checking S3 generic/method consistency ... OK
* checking replacement functions ... OK
* checking foreign function calls ... OK
* checking R code for possible problems ... NOTE
TSS: no visible global function definition for 'end<-'
TSS: no visible global function definition for 'start<-'
findLncRNA: no visible global function definition for 'start<-'
findLncRNA: no visible global function definition for 'end<-'
findLncRNA: no visible global function definition for 'IRanges'
stallingIndex : getBound: no visible global function definition for
'start<-'
stallingIndex : getBound: no visible global function definition for
'end<-'
stallingIndex: no visible global function definition for 'IRanges'
topGOres : <anonymous>: no visible global function definition for
'ggplot'
topGOres : <anonymous>: no visible global function definition for 'aes'
topGOres : <anonymous>: no visible binding for global variable
'Significant'
topGOres : <anonymous>: no visible binding for global variable 'P_val'
topGOres : <anonymous>: no visible global function definition for
'geom_bar'
topGOres : <anonymous>: no visible global function definition for
'coord_flip'
topGOres : <anonymous>: no visible global function definition for
'ylab'
ucsc2GRanges: no visible global function definition for 'IRanges'
GR2fasta,GRanges: no visible global function definition for
'seqlengths'
GR2fasta,GRanges: no visible global function definition for
'seqlengths<-'
GR2fasta,GRanges: no visible global function definition for 'trim'
GRangesInPromoters,GRanges: no visible global function definition for
'start<-'
GRannotate,GRanges: no visible global function definition for 'start<-'
GRannotate,GRanges: no visible global function definition for 'end<-'
GRcoverageSummit,GRanges: no visible global function definition for
'start<-'
GRcoverageSummit,GRanges: no visible global function definition for
'end<-'
GRmidpoint,GRanges: no visible global function definition for 'start<-'
GRmidpoint,GRanges: no visible global function definition for 'end<-'
GRsetwidth,GRanges: no visible global function definition for 'start<-'
GRsetwidth,GRanges: no visible global function definition for 'end<-'
countOverlapsInBins,GRanges: no visible global function definition for
'IRanges'
featuresLength,TxDb: no visible global function definition for 'reduce'
getPromoterClass,TxDb: no visible binding for global variable 'txdb'
getPromoterClass,TxDb: no visible global function definition for
'start<-'
makeGtfFromDb,TxDb: no visible global function definition for 'reduce'
matchEnhancers,GRanges: no visible global function definition for
'distanceToNearest'
matchEnhancers,GRanges: no visible global function definition for
'IRanges'
Undefined global functions or variables:
IRanges P_val Significant aes coord_flip distanceToNearest end<-
geom_bar ggplot reduce seqlengths seqlengths<- start<- trim txdb ylab
* checking Rd files ... NOTE
checkRd: (-1) getPromoterClass-methods.Rd:21: Lost braces in \itemize; meant \describe ?
checkRd: (-1) getPromoterClass-methods.Rd:22: Lost braces in \itemize; meant \describe ?
checkRd: (-1) getPromoterClass-methods.Rd:23: Lost braces in \itemize; meant \describe ?
checkRd: (-1) getPromoterClass-methods.Rd:24: Lost braces in \itemize; meant \describe ?
checkRd: (-1) getPromoterClass-methods.Rd:25: Lost braces; missing escapes or markup?
25 | \item{downstream}:{numeric; number of bp downstream transcription start sites defining downstream limit of promoters}
| ^
* checking Rd metadata ... OK
* checking Rd cross-references ... NOTE
Found the following Rd file(s) with Rd \link{} targets missing package
anchors:
getPromoterClass-methods.Rd: GRanges
heatmapPlot.Rd: heatmap.2
Please provide package anchors for all Rd \link{} targets not in the
package itself and the base packages.
* checking for missing documentation entries ... OK
* checking for code/documentation mismatches ... OK
* checking Rd \usage sections ... OK
* checking Rd contents ... OK
* checking for unstated dependencies in examples ... OK
* checking files in ‘vignettes’ ... OK
* checking examples ... OK
Examples with CPU (user + system) or elapsed time > 5s
user system elapsed
topGOres 23.785 0.174 23.961
getPromoterClass-methods 0.788 0.053 18.717
* checking for unstated dependencies in vignettes ... OK
* checking package vignettes ... OK
* checking re-building of vignette outputs ... OK
* checking PDF version of manual ... OK
* DONE
Status: 3 NOTEs
See
‘/home/biocbuild/bbs-3.22-bioc/meat/compEpiTools.Rcheck/00check.log’
for details.
compEpiTools.Rcheck/00install.out
############################################################################## ############################################################################## ### ### Running command: ### ### /home/biocbuild/bbs-3.22-bioc/R/bin/R CMD INSTALL compEpiTools ### ############################################################################## ############################################################################## * installing to library ‘/home/biocbuild/bbs-3.22-bioc/R/site-library’ * installing *source* package ‘compEpiTools’ ... ** this is package ‘compEpiTools’ version ‘1.43.1’ ** using staged installation ** R ** inst ** byte-compile and prepare package for lazy loading groupGOTerms: GOBPTerm, GOMFTerm, GOCCTerm environments built. ** help *** installing help indices ** building package indices ** installing vignettes ** testing if installed package can be loaded from temporary location groupGOTerms: GOBPTerm, GOMFTerm, GOCCTerm environments built. ** testing if installed package can be loaded from final location groupGOTerms: GOBPTerm, GOMFTerm, GOCCTerm environments built. ** testing if installed package keeps a record of temporary installation path * DONE (compEpiTools)
compEpiTools.Rcheck/compEpiTools-Ex.timings
| name | user | system | elapsed | |
| GR2fasta-methods | 0.548 | 0.008 | 0.556 | |
| GRanges2ucsc-methods | 0.009 | 0.000 | 0.009 | |
| GRangesInPromoters-methods | 2.701 | 0.113 | 2.815 | |
| GRannotate-methods | 3.295 | 0.045 | 3.340 | |
| GRannotateSimple | 0.604 | 0.010 | 0.615 | |
| GRbaseCoverage-methods | 0.058 | 0.002 | 0.059 | |
| GRcoverage-methods | 0.1 | 0.0 | 0.1 | |
| GRcoverageSummit-methods | 0.053 | 0.000 | 0.053 | |
| GRenrichment-methods | 0.065 | 0.000 | 0.066 | |
| GRmidpoint-methods | 0.023 | 0.000 | 0.023 | |
| GRsetwidth | 0.034 | 0.000 | 0.034 | |
| TSS | 1.133 | 0.037 | 1.171 | |
| countOverlapsInBins-methods | 0.114 | 0.000 | 0.114 | |
| distanceFromTSS-methods | 2.851 | 0.060 | 2.911 | |
| enhancers | 0.309 | 0.001 | 0.310 | |
| findLncRNA | 0.633 | 0.054 | 0.691 | |
| getPromoterClass-methods | 0.788 | 0.053 | 18.717 | |
| heatmapData | 1.037 | 0.006 | 1.044 | |
| heatmapPlot | 2.464 | 0.061 | 2.526 | |
| makeGtfFromDb | 2.840 | 0.063 | 2.903 | |
| matchEnhancers | 1.549 | 0.041 | 1.591 | |
| overlapOfGRanges-methods | 0.050 | 0.000 | 0.052 | |
| palette2d | 0.044 | 0.000 | 0.046 | |
| plotStallingIndex | 2.068 | 0.015 | 2.084 | |
| simplifyGOterms | 0.382 | 0.068 | 0.650 | |
| stallingIndex | 2.039 | 0.036 | 2.075 | |
| topGOres | 23.785 | 0.174 | 23.961 | |
| ucsc2GRanges | 0.012 | 0.002 | 0.013 | |
| unionMaxScore-methods | 0.11 | 0.00 | 0.11 | |