Back to Multiple platform build/check report for BioC 3.22:   simplified   long
AB[C]DEFGHIJKLMNOPQRSTUVWXYZ

This page was generated on 2025-10-29 12:05 -0400 (Wed, 29 Oct 2025).

HostnameOSArch (*)R versionInstalled pkgs
nebbiolo2Linux (Ubuntu 24.04.3 LTS)x86_644.5.1 Patched (2025-08-23 r88802) -- "Great Square Root" 4901
lconwaymacOS 12.7.6 Montereyx86_644.5.1 Patched (2025-09-10 r88807) -- "Great Square Root" 4691
kjohnson3macOS 13.7.7 Venturaarm644.5.1 Patched (2025-09-10 r88807) -- "Great Square Root" 4637
Click on any hostname to see more info about the system (e.g. compilers)      (*) as reported by 'uname -p', except on Windows and Mac OS X

Package 425/2361HostnameOS / ArchINSTALLBUILDCHECKBUILD BIN
cola 2.15.0  (landing page)
Zuguang Gu
Snapshot Date: 2025-10-28 13:45 -0400 (Tue, 28 Oct 2025)
git_url: https://git.bioconductor.org/packages/cola
git_branch: devel
git_last_commit: 783b598
git_last_commit_date: 2025-04-15 11:40:31 -0400 (Tue, 15 Apr 2025)
nebbiolo2Linux (Ubuntu 24.04.3 LTS) / x86_64  OK    OK    OK  UNNEEDED, same version is already published
lconwaymacOS 12.7.6 Monterey / x86_64  OK    OK    OK    OK  UNNEEDED, same version is already published
kjohnson3macOS 13.7.7 Ventura / arm64  OK    OK    OK    OK  UNNEEDED, same version is already published


CHECK results for cola on nebbiolo2

To the developers/maintainers of the cola package:
- Allow up to 24 hours (and sometimes 48 hours) for your latest push to git@git.bioconductor.org:packages/cola.git to reflect on this report. See Troubleshooting Build Report for more information.
- Use the following Renviron settings to reproduce errors and warnings.
- If 'R CMD check' started to fail recently on the Linux builder(s) over a missing dependency, add the missing dependency to 'Suggests:' in your DESCRIPTION file. See Renviron.bioc for more information.

raw results


Summary

Package: cola
Version: 2.15.0
Command: /home/biocbuild/bbs-3.22-bioc/R/bin/R CMD check --install=check:cola.install-out.txt --library=/home/biocbuild/bbs-3.22-bioc/R/site-library --timings cola_2.15.0.tar.gz
StartedAt: 2025-10-28 22:13:28 -0400 (Tue, 28 Oct 2025)
EndedAt: 2025-10-28 22:16:21 -0400 (Tue, 28 Oct 2025)
EllapsedTime: 173.1 seconds
RetCode: 0
Status:   OK  
CheckDir: cola.Rcheck
Warnings: 0

Command output

##############################################################################
##############################################################################
###
### Running command:
###
###   /home/biocbuild/bbs-3.22-bioc/R/bin/R CMD check --install=check:cola.install-out.txt --library=/home/biocbuild/bbs-3.22-bioc/R/site-library --timings cola_2.15.0.tar.gz
###
##############################################################################
##############################################################################


* using log directory ‘/home/biocbuild/bbs-3.22-bioc/meat/cola.Rcheck’
* using R version 4.5.1 Patched (2025-08-23 r88802)
* using platform: x86_64-pc-linux-gnu
* R was compiled by
    gcc (Ubuntu 13.3.0-6ubuntu2~24.04) 13.3.0
    GNU Fortran (Ubuntu 13.3.0-6ubuntu2~24.04) 13.3.0
* running under: Ubuntu 24.04.3 LTS
* using session charset: UTF-8
* checking for file ‘cola/DESCRIPTION’ ... OK
* checking extension type ... Package
* this is package ‘cola’ version ‘2.15.0’
* checking package namespace information ... OK
* checking package dependencies ... INFO
Imports includes 27 non-default packages.
Importing from so many packages makes the package vulnerable to any of
them becoming unavailable.  Move as many as possible to Suggests and
use conditionally.
* checking if this is a source package ... OK
* checking if there is a namespace ... OK
* checking for hidden files and directories ... OK
* checking for portable file names ... OK
* checking for sufficient/correct file permissions ... OK
* checking whether package ‘cola’ can be installed ... OK
* used C++ compiler: ‘g++ (Ubuntu 13.3.0-6ubuntu2~24.04) 13.3.0’
* checking installed package size ... INFO
  installed size is  7.6Mb
  sub-directories of 1Mb or more:
    data      3.2Mb
    extdata   1.0Mb
    libs      2.0Mb
* checking package directory ... OK
* checking ‘build’ directory ... OK
* checking DESCRIPTION meta-information ... NOTE
License stub is invalid DCF.
* checking top-level files ... OK
* checking for left-over files ... OK
* checking index information ... OK
* checking package subdirectories ... OK
* checking code files for non-ASCII characters ... OK
* checking R files for syntax errors ... OK
* checking whether the package can be loaded ... OK
* checking whether the package can be loaded with stated dependencies ... OK
* checking whether the package can be unloaded cleanly ... OK
* checking whether the namespace can be loaded with stated dependencies ... OK
* checking whether the namespace can be unloaded cleanly ... OK
* checking loading without being on the library search path ... OK
* checking whether startup messages can be suppressed ... OK
* checking dependencies in R code ... OK
* checking S3 generic/method consistency ... OK
* checking replacement functions ... OK
* checking foreign function calls ... OK
* checking R code for possible problems ... OK
* checking Rd files ... OK
* checking Rd metadata ... OK
* checking Rd cross-references ... NOTE
Non-topic package-anchored link(s) in Rd file 'collect_classes-ConsensusPartitionList-method.Rd':
  ‘[ComplexHeatmap:draw-HeatmapList-method]{draw,HeatmapList-method}’

See section 'Cross-references' in the 'Writing R Extensions' manual.

Found the following Rd file(s) with Rd \link{} targets missing package
anchors:
  predict_classes-ConsensusPartition-method.Rd: colorRamp2
  predict_classes-matrix-method.Rd: colorRamp2
Please provide package anchors for all Rd \link{} targets not in the
package itself and the base packages.
* checking for missing documentation entries ... OK
* checking for code/documentation mismatches ... OK
* checking Rd \usage sections ... OK
* checking Rd contents ... OK
* checking for unstated dependencies in examples ... OK
* checking contents of ‘data’ directory ... OK
* checking data for non-ASCII characters ... OK
* checking data for ASCII and uncompressed saves ... OK
* checking line endings in C/C++/Fortran sources/headers ... OK
* checking compiled code ... NOTE
Note: information on .o files is not available
* checking files in ‘vignettes’ ... OK
* checking examples ... OK
Examples with CPU (user + system) or elapsed time > 5s
                      user system elapsed
consensus_partition 18.979   0.26  19.239
* checking for unstated dependencies in ‘tests’ ... OK
* checking tests ...
  Running ‘test-all.R’
 OK
* checking for unstated dependencies in vignettes ... OK
* checking package vignettes ... OK
* checking re-building of vignette outputs ... OK
* checking PDF version of manual ... OK
* DONE

Status: 3 NOTEs
See
  ‘/home/biocbuild/bbs-3.22-bioc/meat/cola.Rcheck/00check.log’
for details.


Installation output

cola.Rcheck/00install.out

##############################################################################
##############################################################################
###
### Running command:
###
###   /home/biocbuild/bbs-3.22-bioc/R/bin/R CMD INSTALL cola
###
##############################################################################
##############################################################################


* installing to library ‘/home/biocbuild/bbs-3.22-bioc/R/site-library’
* installing *source* package ‘cola’ ...
** this is package ‘cola’ version ‘2.15.0’
** using staged installation
** libs
using C++ compiler: ‘g++ (Ubuntu 13.3.0-6ubuntu2~24.04) 13.3.0’
g++ -std=gnu++17 -I"/home/biocbuild/bbs-3.22-bioc/R/include" -DNDEBUG  -I'/home/biocbuild/bbs-3.22-bioc/R/site-library/Rcpp/include' -I/usr/local/include    -fpic  -g -O2  -Wall -Werror=format-security  -c RcppExports.cpp -o RcppExports.o
g++ -std=gnu++17 -I"/home/biocbuild/bbs-3.22-bioc/R/include" -DNDEBUG  -I'/home/biocbuild/bbs-3.22-bioc/R/site-library/Rcpp/include' -I/usr/local/include    -fpic  -g -O2  -Wall -Werror=format-security  -c atc.cpp -o atc.o
g++ -std=gnu++17 -I"/home/biocbuild/bbs-3.22-bioc/R/include" -DNDEBUG  -I'/home/biocbuild/bbs-3.22-bioc/R/site-library/Rcpp/include' -I/usr/local/include    -fpic  -g -O2  -Wall -Werror=format-security  -c cal_consensus_mat.cpp -o cal_consensus_mat.o
g++ -std=gnu++17 -I"/home/biocbuild/bbs-3.22-bioc/R/include" -DNDEBUG  -I'/home/biocbuild/bbs-3.22-bioc/R/site-library/Rcpp/include' -I/usr/local/include    -fpic  -g -O2  -Wall -Werror=format-security  -c pdist.cpp -o pdist.o
g++ -std=gnu++17 -shared -L/home/biocbuild/bbs-3.22-bioc/R/lib -L/usr/local/lib -o cola.so RcppExports.o atc.o cal_consensus_mat.o pdist.o -L/home/biocbuild/bbs-3.22-bioc/R/lib -lR
installing to /home/biocbuild/bbs-3.22-bioc/R/site-library/00LOCK-cola/00new/cola/libs
** R
** data
** inst
** byte-compile and prepare package for lazy loading
** help
*** installing help indices
** building package indices
** installing vignettes
** testing if installed package can be loaded from temporary location
** checking absolute paths in shared objects and dynamic libraries
** testing if installed package can be loaded from final location
** testing if installed package keeps a record of temporary installation path
* DONE (cola)

Tests output

cola.Rcheck/tests/test-all.Rout


R version 4.5.1 Patched (2025-08-23 r88802) -- "Great Square Root"
Copyright (C) 2025 The R Foundation for Statistical Computing
Platform: x86_64-pc-linux-gnu

R is free software and comes with ABSOLUTELY NO WARRANTY.
You are welcome to redistribute it under certain conditions.
Type 'license()' or 'licence()' for distribution details.

R is a collaborative project with many contributors.
Type 'contributors()' for more information and
'citation()' on how to cite R or R packages in publications.

Type 'demo()' for some demos, 'help()' for on-line help, or
'help.start()' for an HTML browser interface to help.
Type 'q()' to quit R.

> library(testthat)
> suppressWarnings(suppressPackageStartupMessages(library(cola)))
> 
> test_check("cola")
[ FAIL 0 | WARN 0 | SKIP 0 | PASS 18 ]
> 
> 
> proc.time()
   user  system elapsed 
  3.925   0.281   4.195 

Example timings

cola.Rcheck/cola-Ex.timings

nameusersystemelapsed
ATC0.0220.0040.026
ATC_approx000
ConsensusPartition-class0.0000.0000.001
ConsensusPartitionList-class000
DownSamplingConsensusPartition-class000
Extract.ConsensusPartitionList0.4350.0060.440
Extract.HierarchicalPartition0.2360.0070.243
ExtractExtract.ConsensusPartitionList0.1640.0060.171
ExtractExtract.HierarchicalPartition000
FCC0.1660.0070.173
HierarchicalPartition-class000
PAC0.4420.0070.448
aPAC0.1460.0180.165
adjust_matrix0.0070.0010.008
adjust_outlier0.0000.0010.000
all_leaves-HierarchicalPartition-method0.1280.0060.133
all_nodes-HierarchicalPartition-method0.1340.0110.146
all_partition_methods0.0000.0000.001
all_top_value_methods000
cola0.0490.0010.052
cola_opt0.0230.0030.026
cola_report-ConsensusPartition-method000
cola_report-ConsensusPartitionList-method000
cola_report-HierarchicalPartition-method000
cola_report-dispatch000
cola_rl0.0790.0050.084
collect_classes-ConsensusPartition-method1.8190.1061.926
collect_classes-ConsensusPartitionList-method2.7860.0512.837
collect_classes-HierarchicalPartition-method1.5470.0401.587
collect_classes-dispatch0.0010.0000.000
collect_plots-ConsensusPartition-method000
collect_plots-ConsensusPartitionList-method000
collect_plots-dispatch000
collect_stats-ConsensusPartition-method000
collect_stats-ConsensusPartitionList-method0.4200.0330.453
collect_stats-dispatch0.0000.0010.000
colnames-ConsensusPartition-method0.0000.0000.001
colnames-ConsensusPartitionList-method000
colnames-DownSamplingConsensusPartition-method000
colnames-HierarchicalPartition-method000
colnames-dispatch000
compare_partitions-ConsensusPartition-method000
compare_signatures-ConsensusPartition-method000
compare_signatures-HierarchicalPartition-method4.0810.2384.321
compare_signatures-dispatch000
concordance0.1440.0090.152
config_ATC0.0010.0000.001
consensus_heatmap-ConsensusPartition-method0.5380.0070.544
consensus_partition18.979 0.26019.239
consensus_partition_by_down_sampling0.0010.0000.001
correspond_between_rankings0.0520.0000.052
correspond_between_two_rankings0.0240.0000.024
david_enrichment000
dim.ConsensusPartition000
dim.ConsensusPartitionList0.0000.0000.001
dim.DownSamplingConsensusPartition000
dim.HierarchicalPartition000
dimension_reduction-ConsensusPartition-method0.6160.0200.636
dimension_reduction-DownSamplingConsensusPartition-method1.0330.0101.043
dimension_reduction-HierarchicalPartition-method0.5340.0030.537
dimension_reduction-dispatch000
dimension_reduction-matrix-method000
find_best_km000
functional_enrichment-ANY-method000
functional_enrichment-ConsensusPartition-method000
functional_enrichment-ConsensusPartitionList-method000
functional_enrichment-HierarchicalPartition-method0.0010.0000.000
functional_enrichment-dispatch000
get_anno-ConsensusPartition-method000
get_anno-ConsensusPartitionList-method000
get_anno-DownSamplingConsensusPartition-method0.0790.0040.083
get_anno-HierarchicalPartition-method000
get_anno-dispatch000
get_anno_col-ConsensusPartition-method000
get_anno_col-ConsensusPartitionList-method000
get_anno_col-HierarchicalPartition-method000
get_anno_col-dispatch000
get_children_nodes-HierarchicalPartition-method0.0010.0000.000
get_classes-ConsensusPartition-method0.1410.0070.148
get_classes-ConsensusPartitionList-method0.1470.0080.155
get_classes-DownSamplingConsensusPartition-method0.0830.0000.084
get_classes-HierarchicalPartition-method0.1370.0030.140
get_classes-dispatch000
get_consensus-ConsensusPartition-method0.1440.0080.152
get_matrix-ConsensusPartition-method0.2740.0780.352
get_matrix-ConsensusPartitionList-method0.2870.0680.355
get_matrix-DownSamplingConsensusPartition-method000
get_matrix-HierarchicalPartition-method000
get_matrix-dispatch000
get_membership-ConsensusPartition-method0.1390.0150.154
get_membership-ConsensusPartitionList-method0.1410.0070.148
get_membership-dispatch000
get_param-ConsensusPartition-method0.6710.0120.684
get_signatures-ConsensusPartition-method4.2930.0894.383
get_signatures-DownSamplingConsensusPartition-method000
get_signatures-HierarchicalPartition-method000
get_signatures-dispatch000
get_stats-ConsensusPartition-method0.1350.0110.146
get_stats-ConsensusPartitionList-method0.1370.0080.146
get_stats-dispatch000
golub_cola0.1640.0070.172
golub_cola_ds0.1160.0010.117
golub_cola_rh0.1660.0000.167
hierarchical_partition000
is_best_k-ConsensusPartition-method0.1370.0100.147
is_best_k-ConsensusPartitionList-method0.1420.0070.150
is_best_k-dispatch000
is_leaf_node-HierarchicalPartition-method0.1260.0020.129
is_stable_k-ConsensusPartition-method0.1470.0090.155
is_stable_k-ConsensusPartitionList-method0.1450.0060.151
is_stable_k-dispatch000
knee_finder20.0320.0000.032
knitr_add_tab_item000
knitr_insert_tabs000
map_to_entrez_id000
max_depth-HierarchicalPartition-method0.1270.0030.129
membership_heatmap-ConsensusPartition-method0.4770.0050.482
merge_node-HierarchicalPartition-method000
merge_node_param000
ncol-ConsensusPartition-method000
ncol-ConsensusPartitionList-method000
ncol-DownSamplingConsensusPartition-method000
ncol-HierarchicalPartition-method000
ncol-dispatch0.0010.0000.000
node_info-HierarchicalPartition-method000
node_level-HierarchicalPartition-method000
nrow-ConsensusPartition-method000
nrow-ConsensusPartitionList-method000
nrow-HierarchicalPartition-method0.0010.0000.000
nrow-dispatch000
plot_ecdf-ConsensusPartition-method0.1530.0020.155
predict_classes-ConsensusPartition-method000
predict_classes-dispatch000
predict_classes-matrix-method000
print.hc_table_suggest_best_k000
recalc_stats000
register_NMF000
register_SOM000
register_partition_methods0.5870.0000.586
register_top_value_methods0.0010.0000.001
relabel_class0.0080.0000.007
remove_partition_methods0.0010.0000.000
remove_top_value_methods000
rownames-ConsensusPartition-method000
rownames-ConsensusPartitionList-method000
rownames-HierarchicalPartition-method000
rownames-dispatch0.0010.0000.000
run_all_consensus_partition_methods000
select_partition_number-ConsensusPartition-method0.1450.0120.158
show-ConsensusPartition-method000
show-ConsensusPartitionList-method000
show-DownSamplingConsensusPartition-method0.1040.0000.105
show-HierarchicalPartition-method0.1640.0030.168
show-dispatch000
split_node-HierarchicalPartition-method000
suggest_best_k-ConsensusPartition-method0.1410.0060.147
suggest_best_k-ConsensusPartitionList-method0.1460.0060.153
suggest_best_k-HierarchicalPartition-method0.1280.0040.134
suggest_best_k-dispatch000
test_between_factors0.0080.0000.007
test_to_known_factors-ConsensusPartition-method0.1570.0070.165
test_to_known_factors-ConsensusPartitionList-method0.2590.0050.264
test_to_known_factors-DownSamplingConsensusPartition-method0.1040.0010.107
test_to_known_factors-HierarchicalPartition-method0.1430.0060.150
test_to_known_factors-dispatch000
top_elements_overlap0.1850.0010.188
top_rows_heatmap-ConsensusPartition-method000
top_rows_heatmap-ConsensusPartitionList-method000
top_rows_heatmap-HierarchicalPartition-method0.0000.0000.001
top_rows_heatmap-dispatch000
top_rows_heatmap-matrix-method4.0700.1214.179
top_rows_overlap-ConsensusPartitionList-method0.7550.0120.768
top_rows_overlap-HierarchicalPartition-method0.5750.0080.586
top_rows_overlap-dispatch000
top_rows_overlap-matrix-method0.1640.0010.166