Back to Multiple platform build/check report for BioC 3.23:   simplified   long
AB[C]DEFGHIJKLMNOPQRSTUVWXYZ

This page was generated on 2025-11-21 11:38 -0500 (Fri, 21 Nov 2025).

HostnameOSArch (*)R versionInstalled pkgs
nebbiolo1Linux (Ubuntu 24.04.3 LTS)x86_64R Under development (unstable) (2025-10-20 r88955) -- "Unsuffered Consequences" 4829
lconwaymacOS 12.7.6 Montereyx86_64R Under development (unstable) (2025-10-21 r88958) -- "Unsuffered Consequences" 4602
kjohnson3macOS 13.7.7 Venturaarm64R Under development (unstable) (2025-11-04 r88984) -- "Unsuffered Consequences" 4566
Click on any hostname to see more info about the system (e.g. compilers)      (*) as reported by 'uname -p', except on Windows and Mac OS X

Package 299/2327HostnameOS / ArchINSTALLBUILDCHECKBUILD BIN
celda 1.27.0  (landing page)
Joshua Campbell
Snapshot Date: 2025-11-20 13:40 -0500 (Thu, 20 Nov 2025)
git_url: https://git.bioconductor.org/packages/celda
git_branch: devel
git_last_commit: 9bcee6f
git_last_commit_date: 2025-10-29 10:52:12 -0500 (Wed, 29 Oct 2025)
nebbiolo1Linux (Ubuntu 24.04.3 LTS) / x86_64  OK    OK    OK  UNNEEDED, same version is already published
lconwaymacOS 12.7.6 Monterey / x86_64  OK    OK    OK    OK  NO, package depends on 'scran' which is only available as a source package that needs compilation
kjohnson3macOS 13.7.7 Ventura / arm64  OK    OK    OK    OK  NO, package depends on 'scran' which is only available as a source package that needs compilation


CHECK results for celda on lconway

To the developers/maintainers of the celda package:
- Allow up to 24 hours (and sometimes 48 hours) for your latest push to git@git.bioconductor.org:packages/celda.git to reflect on this report. See Troubleshooting Build Report for more information.
- Use the following Renviron settings to reproduce errors and warnings.
- If 'R CMD check' started to fail recently on the Linux builder(s) over a missing dependency, add the missing dependency to 'Suggests:' in your DESCRIPTION file. See Renviron.bioc for more information.

raw results


Summary

Package: celda
Version: 1.27.0
Command: /Library/Frameworks/R.framework/Resources/bin/R CMD check --install=check:celda.install-out.txt --library=/Library/Frameworks/R.framework/Resources/library --no-vignettes --timings celda_1.27.0.tar.gz
StartedAt: 2025-11-20 19:59:53 -0500 (Thu, 20 Nov 2025)
EndedAt: 2025-11-20 20:09:56 -0500 (Thu, 20 Nov 2025)
EllapsedTime: 603.4 seconds
RetCode: 0
Status:   OK  
CheckDir: celda.Rcheck
Warnings: 0

Command output

##############################################################################
##############################################################################
###
### Running command:
###
###   /Library/Frameworks/R.framework/Resources/bin/R CMD check --install=check:celda.install-out.txt --library=/Library/Frameworks/R.framework/Resources/library --no-vignettes --timings celda_1.27.0.tar.gz
###
##############################################################################
##############################################################################


* using log directory ‘/Users/biocbuild/bbs-3.23-bioc/meat/celda.Rcheck’
* using R Under development (unstable) (2025-10-21 r88958)
* using platform: x86_64-apple-darwin20
* R was compiled by
    Apple clang version 14.0.0 (clang-1400.0.29.202)
    GNU Fortran (GCC) 14.2.0
* running under: macOS Ventura 13.7.8
* using session charset: UTF-8
* using option ‘--no-vignettes’
* checking for file ‘celda/DESCRIPTION’ ... OK
* this is package ‘celda’ version ‘1.27.0’
* package encoding: UTF-8
* checking package namespace information ... OK
* checking package dependencies ... INFO
Imports includes 32 non-default packages.
Importing from so many packages makes the package vulnerable to any of
them becoming unavailable.  Move as many as possible to Suggests and
use conditionally.
* checking if this is a source package ... OK
* checking if there is a namespace ... OK
* checking for hidden files and directories ... OK
* checking for portable file names ... OK
* checking for sufficient/correct file permissions ... OK
* checking whether package ‘celda’ can be installed ... OK
* used C compiler: ‘Apple clang version 14.0.3 (clang-1403.0.22.14.1)’
* used C++ compiler: ‘Apple clang version 14.0.3 (clang-1403.0.22.14.1)’
* used SDK: ‘MacOSX11.3.1.sdk’
* checking installed package size ... OK
* checking package directory ... OK
* checking ‘build’ directory ... OK
* checking DESCRIPTION meta-information ... OK
* checking top-level files ... OK
* checking for left-over files ... OK
* checking index information ... OK
* checking package subdirectories ... OK
* checking code files for non-ASCII characters ... OK
* checking R files for syntax errors ... OK
* checking whether the package can be loaded ... OK
* checking whether the package can be loaded with stated dependencies ... OK
* checking whether the package can be unloaded cleanly ... OK
* checking whether the namespace can be loaded with stated dependencies ... OK
* checking whether the namespace can be unloaded cleanly ... OK
* checking dependencies in R code ... OK
* checking S3 generic/method consistency ... OK
* checking replacement functions ... OK
* checking foreign function calls ... OK
* checking R code for possible problems ... NOTE
.removeZeroVariance: no visible global function definition for
  ‘complete.cases’
.splitMetricIGpIGd: no visible global function definition for
  ‘model.matrix’
.splitMetricModF1: no visible global function definition for
  ‘model.matrix’
findMarkersTree: no visible global function definition for ‘Idents’
findMarkersTree: no visible global function definition for ‘RunUMAP’
findMarkersTree: no visible global function definition for ‘dendrapply’
plotDendro: no visible binding for global variable ‘xend’
plotDendro: no visible binding for global variable ‘y’
plotDendro: no visible binding for global variable ‘label’
plotMarkerHeatmap: no visible global function definition for ‘head’
plotMarkerHeatmap: no visible global function definition for ‘setNames’
Undefined global functions or variables:
  Idents RunUMAP complete.cases dendrapply head label model.matrix
  setNames xend y
Consider adding
  importFrom("stats", "complete.cases", "dendrapply", "model.matrix",
             "setNames")
  importFrom("utils", "head")
to your NAMESPACE file.
* checking Rd files ... OK
* checking Rd metadata ... OK
* checking Rd cross-references ... NOTE
Found the following Rd file(s) with Rd \link{} targets missing package
anchors:
  bestLogLikelihood.Rd: SingleCellExperiment-class, altExp
  celdaClusters.Rd: SingleCellExperiment-class, altExp
  celdaGridSearch.Rd: SingleCellExperiment-class, assay, altExp,
    metadata
  celdaHeatmap.Rd: assay, altExp
  celdaModel.Rd: altExp
  celdaModules.Rd: SingleCellExperiment-class, altExp
  celdaProbabilityMap.Rd: assay, altExp
  celdaTsne.Rd: SingleCellExperiment-class, assay, altExp, reducedDim
  celdaUmap.Rd: assay, altExp, reducedDim
  celda_C.Rd: assay, altExp, SingleCellExperiment-class, metadata,
    colData
  celda_CG.Rd: assay, altExp, SingleCellExperiment-class, metadata,
    colData, rowData
  celda_G.Rd: assay, altExp, SingleCellExperiment-class, metadata,
    rowData
  celdatosce.Rd: SingleCellExperiment-class, assay, altExp, metadata,
    colData, rowData
  clusterProbability.Rd: SingleCellExperiment-class, assay, altExp
  decontX.Rd: SingleCellExperiment-class, Matrix
  decontXcounts.Rd: SingleCellExperiment-class, assay, assay<-
  factorizeMatrix.Rd: SingleCellExperiment-class, assay, altExp
  featureModuleLookup.Rd: SingleCellExperiment-class, altExp
  featureModuleTable.Rd: SingleCellExperiment-class, assay, altExp
  geneSetEnrich.Rd: SingleCellExperiment-class, assay, altExp
  logLikelihood.Rd: SingleCellExperiment-class, assay, altExp
  logLikelihoodHistory.Rd: SingleCellExperiment-class, altExp
  moduleHeatmap.Rd: SingleCellExperiment-class, assay, altExp
  perplexity.Rd: SingleCellExperiment-class, assay, altExp
  plotCeldaViolin.Rd: SingleCellExperiment-class, assay, altExp
  plotDecontXContamination.Rd: SingleCellExperiment-class
  plotDecontXMarkerExpression.Rd: SingleCellExperiment-class
  plotDecontXMarkerPercentage.Rd: SingleCellExperiment-class
  plotDimReduceCluster.Rd: SingleCellExperiment-class, altExp
  plotDimReduceFeature.Rd: SingleCellExperiment-class, assay, altExp,
    scale_colour_gradient2
  plotDimReduceGrid.Rd: SingleCellExperiment-class, assay, altExp,
    scale_colour_gradient2
  plotDimReduceModule.Rd: SingleCellExperiment-class, assay, altExp,
    scale_colour_gradient
  plotGridSearchPerplexity.Rd: SingleCellExperiment-class, altExp,
    geom_jitter
  plotRPC.Rd: SingleCellExperiment-class, altExp, geom_jitter
  recodeClusterY.Rd: SingleCellExperiment-class, rowData, altExp
  recodeClusterZ.Rd: SingleCellExperiment-class, colData, altExp
  recursiveSplitCell.Rd: SingleCellExperiment-class, assay, altExp,
    metadata
  recursiveSplitModule.Rd: SingleCellExperiment-class, assay, altExp,
    metadata
  reorderCelda.Rd: SingleCellExperiment-class, assay, altExp
  reportceldaCG.Rd: SingleCellExperiment-class, altExp, assay
  resList.Rd: SingleCellExperiment-class, altExp
  resamplePerplexity.Rd: SingleCellExperiment-class, assay, altExp
  retrieveFeatureIndex.Rd: SummarizedExperiment-class,
    SingleCellExperiment-class
  runParams.Rd: SingleCellExperiment-class, altExp
  sampleLabel.Rd: SingleCellExperiment-class, altExp
  sceCeldaC.Rd: SingleCellExperiment-class
  sceCeldaCG.Rd: SingleCellExperiment-class
  sceCeldaCGGridSearch.Rd: SingleCellExperiment-class
  sceCeldaG.Rd: SingleCellExperiment-class
  selectBestModel.Rd: SingleCellExperiment-class, altExp, metadata
  selectFeatures.Rd: SingleCellExperiment-class, altExp, assay,
    metadata
  simulateCells.Rd: SingleCellExperiment-class, metadata, colData,
    rowData
  splitModule.Rd: SingleCellExperiment-class, assay, altExp, rowData
  subsetCeldaList.Rd: SingleCellExperiment-class, altExp, metadata
Please provide package anchors for all Rd \link{} targets not in the
package itself and the base packages.
* checking for missing documentation entries ... OK
* checking for code/documentation mismatches ... OK
* checking Rd \usage sections ... OK
* checking Rd contents ... OK
* checking for unstated dependencies in examples ... OK
* checking contents of ‘data’ directory ... OK
* checking data for non-ASCII characters ... OK
* checking LazyData ... OK
* checking data for ASCII and uncompressed saves ... OK
* checking line endings in C/C++/Fortran sources/headers ... OK
* checking line endings in Makefiles ... OK
* checking compilation flags in Makevars ... OK
* checking for GNU extensions in Makefiles ... OK
* checking for portable use of $(BLAS_LIBS) and $(LAPACK_LIBS) ... OK
* checking use of PKG_*FLAGS in Makefiles ... OK
* checking compiled code ... INFO
Note: information on .o files is not available
* checking files in ‘vignettes’ ... OK
* checking examples ... OK
Examples with CPU (user + system) or elapsed time > 5s
                       user system elapsed
geneSetEnrich        35.488  0.648  52.784
plotDimReduceGrid    20.134  0.226  20.497
findMarkersTree      16.778  0.317  17.245
plotDendro           16.240  0.373  16.725
plotMarkerHeatmap    15.972  0.296  16.394
recursiveSplitCell   13.595  0.250  13.942
decontX              12.102  0.202  12.408
recursiveSplitModule 10.035  0.184  10.313
plotDimReduceModule   6.833  0.091   6.975
plotDimReduceFeature  5.294  0.071   5.390
plotDimReduceCluster  5.213  0.074   5.319
sceCeldaCGGridSearch  0.303  0.024  47.754
* checking for unstated dependencies in ‘tests’ ... OK
* checking tests ...
  Running ‘testthat.R’
 OK
* checking for unstated dependencies in vignettes ... OK
* checking package vignettes ... OK
* checking running R code from vignettes ... SKIPPED
* checking re-building of vignette outputs ... SKIPPED
* checking PDF version of manual ... OK
* DONE

Status: 2 NOTEs
See
  ‘/Users/biocbuild/bbs-3.23-bioc/meat/celda.Rcheck/00check.log’
for details.


Installation output

celda.Rcheck/00install.out

##############################################################################
##############################################################################
###
### Running command:
###
###   /Library/Frameworks/R.framework/Resources/bin/R CMD INSTALL celda
###
##############################################################################
##############################################################################


* installing to library ‘/Library/Frameworks/R.framework/Versions/4.6-x86_64/Resources/library’
* installing *source* package ‘celda’ ...
** this is package ‘celda’ version ‘1.27.0’
** using staged installation
** libs
using C compiler: ‘Apple clang version 14.0.3 (clang-1403.0.22.14.1)’
using C++ compiler: ‘Apple clang version 14.0.3 (clang-1403.0.22.14.1)’
using SDK: ‘MacOSX11.3.1.sdk’
clang++ -arch x86_64 -std=gnu++17 -I"/Library/Frameworks/R.framework/Resources/include" -DNDEBUG  -I'/Library/Frameworks/R.framework/Versions/4.6-x86_64/Resources/library/Rcpp/include' -I'/Library/Frameworks/R.framework/Versions/4.6-x86_64/Resources/library/RcppEigen/include' -I/opt/R/x86_64/include     -fPIC  -falign-functions=64 -Wall -g -O2   -c DecontX.cpp -o DecontX.o
In file included from DecontX.cpp:1:
In file included from /Library/Frameworks/R.framework/Versions/4.6-x86_64/Resources/library/RcppEigen/include/RcppEigen.h:25:
In file included from /Library/Frameworks/R.framework/Versions/4.6-x86_64/Resources/library/RcppEigen/include/RcppEigenForward.h:29:
In file included from /Library/Frameworks/R.framework/Versions/4.6-x86_64/Resources/library/RcppEigen/include/Eigen/Sparse:26:
In file included from /Library/Frameworks/R.framework/Versions/4.6-x86_64/Resources/library/RcppEigen/include/Eigen/SparseCore:61:
/Library/Frameworks/R.framework/Versions/4.6-x86_64/Resources/library/RcppEigen/include/Eigen/src/SparseCore/TriangularSolver.h:273:13: warning: variable 'count' set but not used [-Wunused-but-set-variable]
      Index count = 0;
            ^
In file included from DecontX.cpp:1:
In file included from /Library/Frameworks/R.framework/Versions/4.6-x86_64/Resources/library/RcppEigen/include/RcppEigen.h:25:
In file included from /Library/Frameworks/R.framework/Versions/4.6-x86_64/Resources/library/RcppEigen/include/RcppEigenForward.h:29:
In file included from /Library/Frameworks/R.framework/Versions/4.6-x86_64/Resources/library/RcppEigen/include/Eigen/Sparse:29:
In file included from /Library/Frameworks/R.framework/Versions/4.6-x86_64/Resources/library/RcppEigen/include/Eigen/SparseLU:35:
/Library/Frameworks/R.framework/Versions/4.6-x86_64/Resources/library/RcppEigen/include/Eigen/src/SparseLU/SparseLU_heap_relax_snode.h:78:9: warning: variable 'nsuper_et_post' set but not used [-Wunused-but-set-variable]
  Index nsuper_et_post = 0; // Number of relaxed snodes in postordered etree 
        ^
/Library/Frameworks/R.framework/Versions/4.6-x86_64/Resources/library/RcppEigen/include/Eigen/src/SparseLU/SparseLU_heap_relax_snode.h:79:9: warning: variable 'nsuper_et' set but not used [-Wunused-but-set-variable]
  Index nsuper_et = 0; // Number of relaxed snodes in the original etree 
        ^
In file included from DecontX.cpp:1:
In file included from /Library/Frameworks/R.framework/Versions/4.6-x86_64/Resources/library/RcppEigen/include/RcppEigen.h:25:
In file included from /Library/Frameworks/R.framework/Versions/4.6-x86_64/Resources/library/RcppEigen/include/RcppEigenForward.h:31:
In file included from /Library/Frameworks/R.framework/Versions/4.6-x86_64/Resources/library/RcppEigen/include/unsupported/Eigen/IterativeSolvers:46:
/Library/Frameworks/R.framework/Versions/4.6-x86_64/Resources/library/RcppEigen/include/unsupported/Eigen/src/IterativeSolvers/IDRS.h:72:10: warning: variable 'replacements' set but not used [-Wunused-but-set-variable]
                        Index replacements = 0;
                              ^
In file included from DecontX.cpp:1:
In file included from /Library/Frameworks/R.framework/Versions/4.6-x86_64/Resources/library/RcppEigen/include/RcppEigen.h:25:
In file included from /Library/Frameworks/R.framework/Versions/4.6-x86_64/Resources/library/RcppEigen/include/RcppEigenForward.h:37:
In file included from /Library/Frameworks/R.framework/Versions/4.6-x86_64/Resources/library/RcppEigen/include/unsupported/Eigen/SparseExtra:45:
/Library/Frameworks/R.framework/Versions/4.6-x86_64/Resources/library/RcppEigen/include/unsupported/Eigen/src/SparseExtra/MarketIO.h:246:7: warning: variable 'count' set but not used [-Wunused-but-set-variable]
  int count = 0;
      ^
DecontX.cpp:321:10: warning: variable 'x' set but not used [-Wunused-but-set-variable]
  double x;
         ^
6 warnings generated.
clang++ -arch x86_64 -std=gnu++17 -I"/Library/Frameworks/R.framework/Resources/include" -DNDEBUG  -I'/Library/Frameworks/R.framework/Versions/4.6-x86_64/Resources/library/Rcpp/include' -I'/Library/Frameworks/R.framework/Versions/4.6-x86_64/Resources/library/RcppEigen/include' -I/opt/R/x86_64/include     -fPIC  -falign-functions=64 -Wall -g -O2   -c RcppExports.cpp -o RcppExports.o
In file included from RcppExports.cpp:4:
In file included from /Library/Frameworks/R.framework/Versions/4.6-x86_64/Resources/library/RcppEigen/include/RcppEigen.h:25:
In file included from /Library/Frameworks/R.framework/Versions/4.6-x86_64/Resources/library/RcppEigen/include/RcppEigenForward.h:29:
In file included from /Library/Frameworks/R.framework/Versions/4.6-x86_64/Resources/library/RcppEigen/include/Eigen/Sparse:26:
In file included from /Library/Frameworks/R.framework/Versions/4.6-x86_64/Resources/library/RcppEigen/include/Eigen/SparseCore:61:
/Library/Frameworks/R.framework/Versions/4.6-x86_64/Resources/library/RcppEigen/include/Eigen/src/SparseCore/TriangularSolver.h:273:13: warning: variable 'count' set but not used [-Wunused-but-set-variable]
      Index count = 0;
            ^
In file included from RcppExports.cpp:4:
In file included from /Library/Frameworks/R.framework/Versions/4.6-x86_64/Resources/library/RcppEigen/include/RcppEigen.h:25:
In file included from /Library/Frameworks/R.framework/Versions/4.6-x86_64/Resources/library/RcppEigen/include/RcppEigenForward.h:29:
In file included from /Library/Frameworks/R.framework/Versions/4.6-x86_64/Resources/library/RcppEigen/include/Eigen/Sparse:29:
In file included from /Library/Frameworks/R.framework/Versions/4.6-x86_64/Resources/library/RcppEigen/include/Eigen/SparseLU:35:
/Library/Frameworks/R.framework/Versions/4.6-x86_64/Resources/library/RcppEigen/include/Eigen/src/SparseLU/SparseLU_heap_relax_snode.h:78:9: warning: variable 'nsuper_et_post' set but not used [-Wunused-but-set-variable]
  Index nsuper_et_post = 0; // Number of relaxed snodes in postordered etree 
        ^
/Library/Frameworks/R.framework/Versions/4.6-x86_64/Resources/library/RcppEigen/include/Eigen/src/SparseLU/SparseLU_heap_relax_snode.h:79:9: warning: variable 'nsuper_et' set but not used [-Wunused-but-set-variable]
  Index nsuper_et = 0; // Number of relaxed snodes in the original etree 
        ^
In file included from RcppExports.cpp:4:
In file included from /Library/Frameworks/R.framework/Versions/4.6-x86_64/Resources/library/RcppEigen/include/RcppEigen.h:25:
In file included from /Library/Frameworks/R.framework/Versions/4.6-x86_64/Resources/library/RcppEigen/include/RcppEigenForward.h:31:
In file included from /Library/Frameworks/R.framework/Versions/4.6-x86_64/Resources/library/RcppEigen/include/unsupported/Eigen/IterativeSolvers:46:
/Library/Frameworks/R.framework/Versions/4.6-x86_64/Resources/library/RcppEigen/include/unsupported/Eigen/src/IterativeSolvers/IDRS.h:72:10: warning: variable 'replacements' set but not used [-Wunused-but-set-variable]
                        Index replacements = 0;
                              ^
In file included from RcppExports.cpp:4:
In file included from /Library/Frameworks/R.framework/Versions/4.6-x86_64/Resources/library/RcppEigen/include/RcppEigen.h:25:
In file included from /Library/Frameworks/R.framework/Versions/4.6-x86_64/Resources/library/RcppEigen/include/RcppEigenForward.h:37:
In file included from /Library/Frameworks/R.framework/Versions/4.6-x86_64/Resources/library/RcppEigen/include/unsupported/Eigen/SparseExtra:45:
/Library/Frameworks/R.framework/Versions/4.6-x86_64/Resources/library/RcppEigen/include/unsupported/Eigen/src/SparseExtra/MarketIO.h:246:7: warning: variable 'count' set but not used [-Wunused-but-set-variable]
  int count = 0;
      ^
5 warnings generated.
clang++ -arch x86_64 -std=gnu++17 -I"/Library/Frameworks/R.framework/Resources/include" -DNDEBUG  -I'/Library/Frameworks/R.framework/Versions/4.6-x86_64/Resources/library/Rcpp/include' -I'/Library/Frameworks/R.framework/Versions/4.6-x86_64/Resources/library/RcppEigen/include' -I/opt/R/x86_64/include     -fPIC  -falign-functions=64 -Wall -g -O2   -c cG_calcGibbsProbY.cpp -o cG_calcGibbsProbY.o
clang++ -arch x86_64 -std=gnu++17 -I"/Library/Frameworks/R.framework/Resources/include" -DNDEBUG  -I'/Library/Frameworks/R.framework/Versions/4.6-x86_64/Resources/library/Rcpp/include' -I'/Library/Frameworks/R.framework/Versions/4.6-x86_64/Resources/library/RcppEigen/include' -I/opt/R/x86_64/include     -fPIC  -falign-functions=64 -Wall -g -O2   -c eigenMatMultInt.cpp -o eigenMatMultInt.o
In file included from eigenMatMultInt.cpp:3:
In file included from /Library/Frameworks/R.framework/Versions/4.6-x86_64/Resources/library/RcppEigen/include/RcppEigen.h:25:
In file included from /Library/Frameworks/R.framework/Versions/4.6-x86_64/Resources/library/RcppEigen/include/RcppEigenForward.h:29:
In file included from /Library/Frameworks/R.framework/Versions/4.6-x86_64/Resources/library/RcppEigen/include/Eigen/Sparse:26:
In file included from /Library/Frameworks/R.framework/Versions/4.6-x86_64/Resources/library/RcppEigen/include/Eigen/SparseCore:61:
/Library/Frameworks/R.framework/Versions/4.6-x86_64/Resources/library/RcppEigen/include/Eigen/src/SparseCore/TriangularSolver.h:273:13: warning: variable 'count' set but not used [-Wunused-but-set-variable]
      Index count = 0;
            ^
In file included from eigenMatMultInt.cpp:3:
In file included from /Library/Frameworks/R.framework/Versions/4.6-x86_64/Resources/library/RcppEigen/include/RcppEigen.h:25:
In file included from /Library/Frameworks/R.framework/Versions/4.6-x86_64/Resources/library/RcppEigen/include/RcppEigenForward.h:29:
In file included from /Library/Frameworks/R.framework/Versions/4.6-x86_64/Resources/library/RcppEigen/include/Eigen/Sparse:29:
In file included from /Library/Frameworks/R.framework/Versions/4.6-x86_64/Resources/library/RcppEigen/include/Eigen/SparseLU:35:
/Library/Frameworks/R.framework/Versions/4.6-x86_64/Resources/library/RcppEigen/include/Eigen/src/SparseLU/SparseLU_heap_relax_snode.h:78:9: warning: variable 'nsuper_et_post' set but not used [-Wunused-but-set-variable]
  Index nsuper_et_post = 0; // Number of relaxed snodes in postordered etree 
        ^
/Library/Frameworks/R.framework/Versions/4.6-x86_64/Resources/library/RcppEigen/include/Eigen/src/SparseLU/SparseLU_heap_relax_snode.h:79:9: warning: variable 'nsuper_et' set but not used [-Wunused-but-set-variable]
  Index nsuper_et = 0; // Number of relaxed snodes in the original etree 
        ^
In file included from eigenMatMultInt.cpp:3:
In file included from /Library/Frameworks/R.framework/Versions/4.6-x86_64/Resources/library/RcppEigen/include/RcppEigen.h:25:
In file included from /Library/Frameworks/R.framework/Versions/4.6-x86_64/Resources/library/RcppEigen/include/RcppEigenForward.h:31:
In file included from /Library/Frameworks/R.framework/Versions/4.6-x86_64/Resources/library/RcppEigen/include/unsupported/Eigen/IterativeSolvers:46:
/Library/Frameworks/R.framework/Versions/4.6-x86_64/Resources/library/RcppEigen/include/unsupported/Eigen/src/IterativeSolvers/IDRS.h:72:10: warning: variable 'replacements' set but not used [-Wunused-but-set-variable]
                        Index replacements = 0;
                              ^
In file included from eigenMatMultInt.cpp:3:
In file included from /Library/Frameworks/R.framework/Versions/4.6-x86_64/Resources/library/RcppEigen/include/RcppEigen.h:25:
In file included from /Library/Frameworks/R.framework/Versions/4.6-x86_64/Resources/library/RcppEigen/include/RcppEigenForward.h:37:
In file included from /Library/Frameworks/R.framework/Versions/4.6-x86_64/Resources/library/RcppEigen/include/unsupported/Eigen/SparseExtra:45:
/Library/Frameworks/R.framework/Versions/4.6-x86_64/Resources/library/RcppEigen/include/unsupported/Eigen/src/SparseExtra/MarketIO.h:246:7: warning: variable 'count' set but not used [-Wunused-but-set-variable]
  int count = 0;
      ^
5 warnings generated.
clang++ -arch x86_64 -std=gnu++17 -I"/Library/Frameworks/R.framework/Resources/include" -DNDEBUG  -I'/Library/Frameworks/R.framework/Versions/4.6-x86_64/Resources/library/Rcpp/include' -I'/Library/Frameworks/R.framework/Versions/4.6-x86_64/Resources/library/RcppEigen/include' -I/opt/R/x86_64/include     -fPIC  -falign-functions=64 -Wall -g -O2   -c matrixNorm.cpp -o matrixNorm.o
clang -arch x86_64 -I"/Library/Frameworks/R.framework/Resources/include" -DNDEBUG  -I'/Library/Frameworks/R.framework/Versions/4.6-x86_64/Resources/library/Rcpp/include' -I'/Library/Frameworks/R.framework/Versions/4.6-x86_64/Resources/library/RcppEigen/include' -I/opt/R/x86_64/include    -fPIC  -falign-functions=64 -Wall -g -O2  -c matrixSums.c -o matrixSums.o
clang++ -arch x86_64 -std=gnu++17 -I"/Library/Frameworks/R.framework/Resources/include" -DNDEBUG  -I'/Library/Frameworks/R.framework/Versions/4.6-x86_64/Resources/library/Rcpp/include' -I'/Library/Frameworks/R.framework/Versions/4.6-x86_64/Resources/library/RcppEigen/include' -I/opt/R/x86_64/include     -fPIC  -falign-functions=64 -Wall -g -O2   -c matrixSumsSparse.cpp -o matrixSumsSparse.o
In file included from matrixSumsSparse.cpp:1:
In file included from /Library/Frameworks/R.framework/Versions/4.6-x86_64/Resources/library/RcppEigen/include/RcppEigen.h:25:
In file included from /Library/Frameworks/R.framework/Versions/4.6-x86_64/Resources/library/RcppEigen/include/RcppEigenForward.h:29:
In file included from /Library/Frameworks/R.framework/Versions/4.6-x86_64/Resources/library/RcppEigen/include/Eigen/Sparse:26:
In file included from /Library/Frameworks/R.framework/Versions/4.6-x86_64/Resources/library/RcppEigen/include/Eigen/SparseCore:61:
/Library/Frameworks/R.framework/Versions/4.6-x86_64/Resources/library/RcppEigen/include/Eigen/src/SparseCore/TriangularSolver.h:273:13: warning: variable 'count' set but not used [-Wunused-but-set-variable]
      Index count = 0;
            ^
In file included from matrixSumsSparse.cpp:1:
In file included from /Library/Frameworks/R.framework/Versions/4.6-x86_64/Resources/library/RcppEigen/include/RcppEigen.h:25:
In file included from /Library/Frameworks/R.framework/Versions/4.6-x86_64/Resources/library/RcppEigen/include/RcppEigenForward.h:29:
In file included from /Library/Frameworks/R.framework/Versions/4.6-x86_64/Resources/library/RcppEigen/include/Eigen/Sparse:29:
In file included from /Library/Frameworks/R.framework/Versions/4.6-x86_64/Resources/library/RcppEigen/include/Eigen/SparseLU:35:
/Library/Frameworks/R.framework/Versions/4.6-x86_64/Resources/library/RcppEigen/include/Eigen/src/SparseLU/SparseLU_heap_relax_snode.h:78:9: warning: variable 'nsuper_et_post' set but not used [-Wunused-but-set-variable]
  Index nsuper_et_post = 0; // Number of relaxed snodes in postordered etree 
        ^
/Library/Frameworks/R.framework/Versions/4.6-x86_64/Resources/library/RcppEigen/include/Eigen/src/SparseLU/SparseLU_heap_relax_snode.h:79:9: warning: variable 'nsuper_et' set but not used [-Wunused-but-set-variable]
  Index nsuper_et = 0; // Number of relaxed snodes in the original etree 
        ^
In file included from matrixSumsSparse.cpp:1:
In file included from /Library/Frameworks/R.framework/Versions/4.6-x86_64/Resources/library/RcppEigen/include/RcppEigen.h:25:
In file included from /Library/Frameworks/R.framework/Versions/4.6-x86_64/Resources/library/RcppEigen/include/RcppEigenForward.h:31:
In file included from /Library/Frameworks/R.framework/Versions/4.6-x86_64/Resources/library/RcppEigen/include/unsupported/Eigen/IterativeSolvers:46:
/Library/Frameworks/R.framework/Versions/4.6-x86_64/Resources/library/RcppEigen/include/unsupported/Eigen/src/IterativeSolvers/IDRS.h:72:10: warning: variable 'replacements' set but not used [-Wunused-but-set-variable]
                        Index replacements = 0;
                              ^
In file included from matrixSumsSparse.cpp:1:
In file included from /Library/Frameworks/R.framework/Versions/4.6-x86_64/Resources/library/RcppEigen/include/RcppEigen.h:25:
In file included from /Library/Frameworks/R.framework/Versions/4.6-x86_64/Resources/library/RcppEigen/include/RcppEigenForward.h:37:
In file included from /Library/Frameworks/R.framework/Versions/4.6-x86_64/Resources/library/RcppEigen/include/unsupported/Eigen/SparseExtra:45:
/Library/Frameworks/R.framework/Versions/4.6-x86_64/Resources/library/RcppEigen/include/unsupported/Eigen/src/SparseExtra/MarketIO.h:246:7: warning: variable 'count' set but not used [-Wunused-but-set-variable]
  int count = 0;
      ^
5 warnings generated.
clang -arch x86_64 -I"/Library/Frameworks/R.framework/Resources/include" -DNDEBUG  -I'/Library/Frameworks/R.framework/Versions/4.6-x86_64/Resources/library/Rcpp/include' -I'/Library/Frameworks/R.framework/Versions/4.6-x86_64/Resources/library/RcppEigen/include' -I/opt/R/x86_64/include    -fPIC  -falign-functions=64 -Wall -g -O2  -c perplexity.c -o perplexity.o
clang++ -arch x86_64 -std=gnu++17 -dynamiclib -Wl,-headerpad_max_install_names -undefined dynamic_lookup -L/Library/Frameworks/R.framework/Resources/lib -L/opt/R/x86_64/lib -o celda.so DecontX.o RcppExports.o cG_calcGibbsProbY.o eigenMatMultInt.o matrixNorm.o matrixSums.o matrixSumsSparse.o perplexity.o -L/Library/Frameworks/R.framework/Resources/lib -lRlapack -L/Library/Frameworks/R.framework/Resources/lib -lRblas -L/opt/gfortran/lib/gcc/x86_64-apple-darwin20.0/14.2.0 -L/opt/gfortran/lib -lemutls_w -lheapt_w -lgfortran -lquadmath -F/Library/Frameworks/R.framework/.. -framework R
installing to /Library/Frameworks/R.framework/Versions/4.6-x86_64/Resources/library/00LOCK-celda/00new/celda/libs
** R
** data
*** moving datasets to lazyload DB
** inst
** byte-compile and prepare package for lazy loading
** help
*** installing help indices
** building package indices
** installing vignettes
** testing if installed package can be loaded from temporary location
** checking absolute paths in shared objects and dynamic libraries
** testing if installed package can be loaded from final location
** testing if installed package keeps a record of temporary installation path
* DONE (celda)

Tests output

celda.Rcheck/tests/testthat.Rout


R Under development (unstable) (2025-10-21 r88958) -- "Unsuffered Consequences"
Copyright (C) 2025 The R Foundation for Statistical Computing
Platform: x86_64-apple-darwin20

R is free software and comes with ABSOLUTELY NO WARRANTY.
You are welcome to redistribute it under certain conditions.
Type 'license()' or 'licence()' for distribution details.

R is a collaborative project with many contributors.
Type 'contributors()' for more information and
'citation()' on how to cite R or R packages in publications.

Type 'demo()' for some demos, 'help()' for on-line help, or
'help.start()' for an HTML browser interface to help.
Type 'q()' to quit R.

> Sys.unsetenv("R_TESTS")
> library(testthat)
> test_check("celda")
Loading required package: celda
Loading required package: SingleCellExperiment
Loading required package: SummarizedExperiment
Loading required package: MatrixGenerics
Loading required package: matrixStats

Attaching package: 'MatrixGenerics'

The following objects are masked from 'package:matrixStats':

    colAlls, colAnyNAs, colAnys, colAvgsPerRowSet, colCollapse,
    colCounts, colCummaxs, colCummins, colCumprods, colCumsums,
    colDiffs, colIQRDiffs, colIQRs, colLogSumExps, colMadDiffs,
    colMads, colMaxs, colMeans2, colMedians, colMins, colOrderStats,
    colProds, colQuantiles, colRanges, colRanks, colSdDiffs, colSds,
    colSums2, colTabulates, colVarDiffs, colVars, colWeightedMads,
    colWeightedMeans, colWeightedMedians, colWeightedSds,
    colWeightedVars, rowAlls, rowAnyNAs, rowAnys, rowAvgsPerColSet,
    rowCollapse, rowCounts, rowCummaxs, rowCummins, rowCumprods,
    rowCumsums, rowDiffs, rowIQRDiffs, rowIQRs, rowLogSumExps,
    rowMadDiffs, rowMads, rowMaxs, rowMeans2, rowMedians, rowMins,
    rowOrderStats, rowProds, rowQuantiles, rowRanges, rowRanks,
    rowSdDiffs, rowSds, rowSums2, rowTabulates, rowVarDiffs, rowVars,
    rowWeightedMads, rowWeightedMeans, rowWeightedMedians,
    rowWeightedSds, rowWeightedVars

Loading required package: GenomicRanges
Loading required package: stats4
Loading required package: BiocGenerics
Loading required package: generics

Attaching package: 'generics'

The following objects are masked from 'package:base':

    as.difftime, as.factor, as.ordered, intersect, is.element, setdiff,
    setequal, union


Attaching package: 'BiocGenerics'

The following objects are masked from 'package:stats':

    IQR, mad, sd, var, xtabs

The following objects are masked from 'package:base':

    Filter, Find, Map, Position, Reduce, anyDuplicated, aperm, append,
    as.data.frame, basename, cbind, colnames, dirname, do.call,
    duplicated, eval, evalq, get, grep, grepl, is.unsorted, lapply,
    mapply, match, mget, order, paste, pmax, pmax.int, pmin, pmin.int,
    rank, rbind, rownames, sapply, saveRDS, table, tapply, unique,
    unsplit, which.max, which.min

Loading required package: S4Vectors

Attaching package: 'S4Vectors'

The following object is masked from 'package:utils':

    findMatches

The following objects are masked from 'package:base':

    I, expand.grid, unname

Loading required package: IRanges
Loading required package: Seqinfo
Loading required package: Biobase
Welcome to Bioconductor

    Vignettes contain introductory material; view with
    'browseVignettes()'. To cite Bioconductor, see
    'citation("Biobase")', and for packages 'citation("pkgname")'.


Attaching package: 'Biobase'

The following object is masked from 'package:MatrixGenerics':

    rowMedians

The following objects are masked from 'package:matrixStats':

    anyMissing, rowMedians

Loading required package: Matrix

Attaching package: 'Matrix'

The following object is masked from 'package:S4Vectors':

    expand


Attaching package: 'celda'

The following object is masked from 'package:S4Vectors':

    params

[ FAIL 0 | WARN 1 | SKIP 2 | PASS 101 ]

══ Skipped tests (2) ═══════════════════════════════════════════════════════════
• empty test (2): 'test-decon.R:27:1', 'test-decon.R:48:1'

[ FAIL 0 | WARN 1 | SKIP 2 | PASS 101 ]
> 
> proc.time()
   user  system elapsed 
 71.700   1.576  85.241 

Example timings

celda.Rcheck/celda-Ex.timings

nameusersystemelapsed
appendCeldaList0.0040.0030.007
bestLogLikelihood0.1290.0090.139
celda0.0010.0000.001
celdaClusters0.0600.0170.078
celdaGridSearch0.0000.0010.000
celdaHeatmap0.5940.0490.648
celdaModel0.0800.0040.084
celdaModules0.0530.0040.057
celdaPerplexity-celdaList-method0.0020.0030.004
celdaPerplexity0.0020.0030.004
celdaProbabilityMap3.3840.0753.481
celdaTsne2.3210.0592.405
celdaUmap3.6860.0743.782
celda_C0.4780.0080.490
celda_CG4.5570.0964.683
celda_G3.2830.0453.354
celdatosce0.8430.0340.884
clusterProbability0.4090.0150.429
compareCountMatrix0.0070.0060.013
countChecksum-celdaList-method0.0020.0020.005
countChecksum0.0020.0030.005
decontX12.102 0.20212.408
distinctColors0.0000.0000.001
factorizeMatrix0.2490.0160.268
featureModuleLookup0.1980.0060.207
featureModuleTable0.2970.0060.306
findMarkersTree16.778 0.31717.245
geneSetEnrich35.488 0.64852.784
logLikelihood0.6050.0090.616
logLikelihoodHistory0.0470.0060.053
matrixNames0.0030.0050.008
moduleHeatmap4.6490.0784.755
normalizeCounts0.0020.0030.005
params0.0010.0020.004
perplexity0.5190.0180.540
plotCeldaViolin1.0510.0291.087
plotDendro16.240 0.37316.725
plotDimReduceCluster5.2130.0745.319
plotDimReduceFeature5.2940.0715.390
plotDimReduceGrid20.134 0.22620.497
plotDimReduceModule6.8330.0916.975
plotGridSearchPerplexity1.1110.0161.135
plotHeatmap0.1100.0040.114
plotMarkerHeatmap15.972 0.29616.394
plotRPC0.9610.0190.988
recodeClusterY0.2180.0050.225
recodeClusterZ0.2090.0050.216
recursiveSplitCell13.595 0.25013.942
recursiveSplitModule10.035 0.18410.313
reorderCelda1.2840.0371.332
reportceldaCG0.0010.0040.006
resList0.0560.0080.065
resamplePerplexity0.8720.0180.900
retrieveFeatureIndex0.0030.0040.006
runParams0.0500.0100.061
sampleLabel0.0540.0150.069
sceCeldaC0.2980.0080.309
sceCeldaCG3.2820.0633.367
sceCeldaCGGridSearch 0.303 0.02447.754
sceCeldaG0.8330.0130.850
selectBestModel0.1720.0080.182
selectFeatures0.2320.0080.241
simulateCells0.2190.0150.238
simulateContamination0.0090.0000.009
splitModule0.2160.0040.222
subsetCeldaList0.3190.0100.331
topRank0.0020.0020.004