Back to Multiple platform build/check report for BioC 3.22: simplified long |
|
This page was generated on 2025-10-06 12:03 -0400 (Mon, 06 Oct 2025).
Hostname | OS | Arch (*) | R version | Installed pkgs |
---|---|---|---|---|
nebbiolo2 | Linux (Ubuntu 24.04.3 LTS) | x86_64 | 4.5.1 Patched (2025-08-23 r88802) -- "Great Square Root" | 4853 |
lconway | macOS 12.7.1 Monterey | x86_64 | 4.5.1 Patched (2025-09-10 r88807) -- "Great Square Root" | 4640 |
kjohnson3 | macOS 13.7.7 Ventura | arm64 | 4.5.1 Patched (2025-09-10 r88807) -- "Great Square Root" | 4585 |
taishan | Linux (openEuler 24.03 LTS) | aarch64 | 4.5.0 (2025-04-11) -- "How About a Twenty-Six" | 4576 |
Click on any hostname to see more info about the system (e.g. compilers) (*) as reported by 'uname -p', except on Windows and Mac OS X |
Package 232/2341 | Hostname | OS / Arch | INSTALL | BUILD | CHECK | BUILD BIN | ||||||||
blase 0.99.3 (landing page) Andrew McCluskey
| nebbiolo2 | Linux (Ubuntu 24.04.3 LTS) / x86_64 | OK | OK | OK | ![]() | ||||||||
lconway | macOS 12.7.1 Monterey / x86_64 | OK | OK | OK | OK | ![]() | ||||||||
kjohnson3 | macOS 13.7.7 Ventura / arm64 | OK | OK | OK | OK | ![]() | ||||||||
taishan | Linux (openEuler 24.03 LTS) / aarch64 | NA | NA | NA | ||||||||||
To the developers/maintainers of the blase package: - Allow up to 24 hours (and sometimes 48 hours) for your latest push to git@git.bioconductor.org:packages/blase.git to reflect on this report. See Troubleshooting Build Report for more information. - Use the following Renviron settings to reproduce errors and warnings. - If 'R CMD check' started to fail recently on the Linux builder(s) over a missing dependency, add the missing dependency to 'Suggests:' in your DESCRIPTION file. See Renviron.bioc for more information. |
Package: blase |
Version: 0.99.3 |
Command: /home/biocbuild/bbs-3.22-bioc/R/bin/R CMD check --install=check:blase.install-out.txt --library=/home/biocbuild/bbs-3.22-bioc/R/site-library --timings blase_0.99.3.tar.gz |
StartedAt: 2025-10-05 21:43:41 -0400 (Sun, 05 Oct 2025) |
EndedAt: 2025-10-05 22:14:29 -0400 (Sun, 05 Oct 2025) |
EllapsedTime: 1848.5 seconds |
RetCode: 0 |
Status: OK |
CheckDir: blase.Rcheck |
Warnings: 0 |
############################################################################## ############################################################################## ### ### Running command: ### ### /home/biocbuild/bbs-3.22-bioc/R/bin/R CMD check --install=check:blase.install-out.txt --library=/home/biocbuild/bbs-3.22-bioc/R/site-library --timings blase_0.99.3.tar.gz ### ############################################################################## ############################################################################## * using log directory ‘/home/biocbuild/bbs-3.22-bioc/meat/blase.Rcheck’ * using R version 4.5.1 Patched (2025-08-23 r88802) * using platform: x86_64-pc-linux-gnu * R was compiled by gcc (Ubuntu 13.3.0-6ubuntu2~24.04) 13.3.0 GNU Fortran (Ubuntu 13.3.0-6ubuntu2~24.04) 13.3.0 * running under: Ubuntu 24.04.3 LTS * using session charset: UTF-8 * checking for file ‘blase/DESCRIPTION’ ... OK * this is package ‘blase’ version ‘0.99.3’ * package encoding: UTF-8 * checking package namespace information ... OK * checking package dependencies ... OK * checking if this is a source package ... OK * checking if there is a namespace ... OK * checking for hidden files and directories ... OK * checking for portable file names ... OK * checking for sufficient/correct file permissions ... OK * checking whether package ‘blase’ can be installed ... OK * checking installed package size ... INFO installed size is 5.2Mb sub-directories of 1Mb or more: data 4.6Mb * checking package directory ... OK * checking ‘build’ directory ... OK * checking DESCRIPTION meta-information ... OK * checking top-level files ... OK * checking for left-over files ... OK * checking index information ... OK * checking package subdirectories ... OK * checking code files for non-ASCII characters ... OK * checking R files for syntax errors ... OK * checking whether the package can be loaded ... OK * checking whether the package can be loaded with stated dependencies ... OK * checking whether the package can be unloaded cleanly ... OK * checking whether the namespace can be loaded with stated dependencies ... OK * checking whether the namespace can be unloaded cleanly ... OK * checking loading without being on the library search path ... OK * checking dependencies in R code ... OK * checking S3 generic/method consistency ... OK * checking replacement functions ... OK * checking foreign function calls ... OK * checking R code for possible problems ... OK * checking Rd files ... OK * checking Rd metadata ... OK * checking Rd cross-references ... NOTE Non-topic package-anchored link(s) in Rd file 'plot_mapping_result.Rd': ‘[scater:plot_reddim]{scater::plotUMAP()}’ See section 'Cross-references' in the 'Writing R Extensions' manual. * checking for missing documentation entries ... OK * checking for code/documentation mismatches ... OK * checking Rd \usage sections ... OK * checking Rd contents ... OK * checking for unstated dependencies in examples ... OK * checking contents of ‘data’ directory ... OK * checking data for non-ASCII characters ... OK * checking data for ASCII and uncompressed saves ... OK * checking files in ‘vignettes’ ... OK * checking examples ... OK Examples with CPU (user + system) or elapsed time > 5s user system elapsed calculate_gene_peakedness 24.568 0.403 25.450 smooth_gene 23.243 0.080 23.782 gene_peakedness_spread_selection 22.894 0.273 24.171 plot_gene_peakedness 21.840 0.178 22.627 evaluate_parameters 15.287 0.123 15.670 plot_mapping_result 7.298 0.124 7.847 plot_find_best_params_results 5.297 0.016 5.477 * checking for unstated dependencies in ‘tests’ ... OK * checking tests ... Running ‘testthat.R’ OK * checking for unstated dependencies in vignettes ... OK * checking package vignettes ... OK * checking re-building of vignette outputs ... OK * checking PDF version of manual ... OK * DONE Status: 1 NOTE See ‘/home/biocbuild/bbs-3.22-bioc/meat/blase.Rcheck/00check.log’ for details.
blase.Rcheck/00install.out
############################################################################## ############################################################################## ### ### Running command: ### ### /home/biocbuild/bbs-3.22-bioc/R/bin/R CMD INSTALL blase ### ############################################################################## ############################################################################## * installing to library ‘/home/biocbuild/bbs-3.22-bioc/R/site-library’ * installing *source* package ‘blase’ ... ** this is package ‘blase’ version ‘0.99.3’ ** using staged installation ** R ** data ** inst ** byte-compile and prepare package for lazy loading ** help *** installing help indices *** copying figures ** building package indices ** installing vignettes ** testing if installed package can be loaded from temporary location ** testing if installed package can be loaded from final location ** testing if installed package keeps a record of temporary installation path * DONE (blase)
blase.Rcheck/tests/testthat.Rout
R version 4.5.1 Patched (2025-08-23 r88802) -- "Great Square Root" Copyright (C) 2025 The R Foundation for Statistical Computing Platform: x86_64-pc-linux-gnu R is free software and comes with ABSOLUTELY NO WARRANTY. You are welcome to redistribute it under certain conditions. Type 'license()' or 'licence()' for distribution details. R is a collaborative project with many contributors. Type 'contributors()' for more information and 'citation()' on how to cite R or R packages in publications. Type 'demo()' for some demos, 'help()' for on-line help, or 'help.start()' for an HTML browser interface to help. Type 'q()' to quit R. > # This file is part of the standard setup for testthat. > # It is recommended that you do not modify it. > # > # Where should you do additional test configuration? > # Learn more about the roles of various files in: > # * https://r-pkgs.org/testing-design.html#sec-tests-files-overview > # * https://testthat.r-lib.org/articles/special-files.html > > library(testthat) > library(blase) > > test_check("blase") [ FAIL 0 | WARN 4 | SKIP 0 | PASS 124 ] [ FAIL 0 | WARN 4 | SKIP 0 | PASS 124 ] > > proc.time() user system elapsed 88.236 2.543 94.900
blase.Rcheck/blase-Ex.timings
name | user | system | elapsed | |
BlaseData-class | 1.274 | 0.080 | 1.445 | |
MappingResult | 3.221 | 0.100 | 3.442 | |
annotate_sce | 1.721 | 0.016 | 1.770 | |
as.BlaseData | 0.324 | 0.009 | 0.333 | |
assign_pseudotime_bins | 3.274 | 0.046 | 3.364 | |
bins-getter | 0.215 | 0.000 | 0.218 | |
calculate_gene_peakedness | 24.568 | 0.403 | 25.450 | |
evaluate_parameters | 15.287 | 0.123 | 15.670 | |
evaluate_top_n_genes | 3.700 | 0.054 | 3.950 | |
find_best_params | 4.770 | 0.005 | 4.824 | |
gene_peakedness_spread_selection | 22.894 | 0.273 | 24.171 | |
genes-getter | 0.204 | 0.001 | 0.204 | |
genes-setter | 0.208 | 0.000 | 0.208 | |
get_bins_as_bulk | 2.015 | 0.016 | 2.032 | |
get_top_n_genes | 0.002 | 0.000 | 0.002 | |
map_all_best_bins | 2.783 | 0.007 | 2.884 | |
map_best_bin | 2.514 | 0.001 | 2.586 | |
mapping-result-best-bin-getter | 2.656 | 0.024 | 3.161 | |
mapping-result-best-correlation-getter | 3.329 | 0.002 | 3.382 | |
mapping-result-bootstrap-iterations-getter | 2.754 | 0.030 | 2.861 | |
mapping-result-bulk-name-getter | 2.892 | 0.004 | 2.949 | |
mapping-result-confident-mapping-getter | 3.544 | 0.065 | 3.640 | |
mapping-result-history-getter | 2.532 | 0.002 | 2.618 | |
mapping-result-top-2-distance-getter | 2.547 | 0.015 | 2.595 | |
plot_bin_population | 2.920 | 0.035 | 3.122 | |
plot_find_best_params_results | 5.297 | 0.016 | 5.477 | |
plot_gene_peakedness | 21.840 | 0.178 | 22.627 | |
plot_mapping_result | 7.298 | 0.124 | 7.847 | |
plot_mapping_result_corr | 2.491 | 0.020 | 2.597 | |
plot_mapping_result_heatmap | 2.615 | 0.000 | 2.631 | |
pseudobulk-bins-getter | 0.289 | 0.002 | 0.293 | |
show-MappingResult-method | 2.629 | 0.002 | 2.669 | |
show_blase_object | 0.21 | 0.00 | 0.21 | |
smooth_gene | 23.243 | 0.080 | 23.782 | |