Back to Multiple platform build/check report for BioC 3.23:   simplified   long
A[B]CDEFGHIJKLMNOPQRSTUVWXYZ

This page was generated on 2025-11-24 11:38 -0500 (Mon, 24 Nov 2025).

HostnameOSArch (*)R versionInstalled pkgs
nebbiolo1Linux (Ubuntu 24.04.3 LTS)x86_64R Under development (unstable) (2025-10-20 r88955) -- "Unsuffered Consequences" 4829
lconwaymacOS 12.7.6 Montereyx86_64R Under development (unstable) (2025-10-21 r88958) -- "Unsuffered Consequences" 4605
kjohnson3macOS 13.7.7 Venturaarm64R Under development (unstable) (2025-11-04 r88984) -- "Unsuffered Consequences" 4568
Click on any hostname to see more info about the system (e.g. compilers)      (*) as reported by 'uname -p', except on Windows and Mac OS X

Package 166/2327HostnameOS / ArchINSTALLBUILDCHECKBUILD BIN
benchdamic 1.17.0  (landing page)
Matteo Calgaro
Snapshot Date: 2025-11-23 13:40 -0500 (Sun, 23 Nov 2025)
git_url: https://git.bioconductor.org/packages/benchdamic
git_branch: devel
git_last_commit: 316209e
git_last_commit_date: 2025-10-29 11:13:17 -0500 (Wed, 29 Oct 2025)
nebbiolo1Linux (Ubuntu 24.04.3 LTS) / x86_64  OK    OK    OK  NO, package depends on 'Maaslin2' which is not available
lconwaymacOS 12.7.6 Monterey / x86_64  OK    OK    OK    OK  NO, package depends on 'DESeq2' which is only available as a source package that needs compilation
kjohnson3macOS 13.7.7 Ventura / arm64  OK    OK    OK    OK  NO, package depends on 'DESeq2' which is only available as a source package that needs compilation


CHECK results for benchdamic on lconway

To the developers/maintainers of the benchdamic package:
- Allow up to 24 hours (and sometimes 48 hours) for your latest push to git@git.bioconductor.org:packages/benchdamic.git to reflect on this report. See Troubleshooting Build Report for more information.
- Use the following Renviron settings to reproduce errors and warnings.
- If 'R CMD check' started to fail recently on the Linux builder(s) over a missing dependency, add the missing dependency to 'Suggests:' in your DESCRIPTION file. See Renviron.bioc for more information.

raw results


Summary

Package: benchdamic
Version: 1.17.0
Command: /Library/Frameworks/R.framework/Resources/bin/R CMD check --install=check:benchdamic.install-out.txt --library=/Library/Frameworks/R.framework/Resources/library --no-vignettes --timings benchdamic_1.17.0.tar.gz
StartedAt: 2025-11-23 19:42:09 -0500 (Sun, 23 Nov 2025)
EndedAt: 2025-11-23 19:56:08 -0500 (Sun, 23 Nov 2025)
EllapsedTime: 839.1 seconds
RetCode: 0
Status:   OK  
CheckDir: benchdamic.Rcheck
Warnings: 0

Command output

##############################################################################
##############################################################################
###
### Running command:
###
###   /Library/Frameworks/R.framework/Resources/bin/R CMD check --install=check:benchdamic.install-out.txt --library=/Library/Frameworks/R.framework/Resources/library --no-vignettes --timings benchdamic_1.17.0.tar.gz
###
##############################################################################
##############################################################################


* using log directory ‘/Users/biocbuild/bbs-3.23-bioc/meat/benchdamic.Rcheck’
* using R Under development (unstable) (2025-10-21 r88958)
* using platform: x86_64-apple-darwin20
* R was compiled by
    Apple clang version 14.0.0 (clang-1400.0.29.202)
    GNU Fortran (GCC) 14.2.0
* running under: macOS Ventura 13.7.8
* using session charset: UTF-8
* using option ‘--no-vignettes’
* checking for file ‘benchdamic/DESCRIPTION’ ... OK
* checking extension type ... Package
* this is package ‘benchdamic’ version ‘1.17.0’
* package encoding: UTF-8
* checking package namespace information ... OK
* checking package dependencies ... INFO
Imports includes 32 non-default packages.
Importing from so many packages makes the package vulnerable to any of
them becoming unavailable.  Move as many as possible to Suggests and
use conditionally.
* checking if this is a source package ... OK
* checking if there is a namespace ... OK
* checking for hidden files and directories ... OK
* checking for portable file names ... OK
* checking for sufficient/correct file permissions ... OK
* checking whether package ‘benchdamic’ can be installed ... OK
* checking installed package size ... OK
* checking package directory ... OK
* checking ‘build’ directory ... OK
* checking DESCRIPTION meta-information ... OK
* checking top-level files ... OK
* checking for left-over files ... OK
* checking index information ... OK
* checking package subdirectories ... OK
* checking code files for non-ASCII characters ... OK
* checking R files for syntax errors ... OK
* checking whether the package can be loaded ... OK
* checking whether the package can be loaded with stated dependencies ... OK
* checking whether the package can be unloaded cleanly ... OK
* checking whether the namespace can be loaded with stated dependencies ... OK
* checking whether the namespace can be unloaded cleanly ... OK
* checking dependencies in R code ... NOTE
Namespace in Imports field not imported from: ‘microbiome’
  All declared Imports should be used.
* checking S3 generic/method consistency ... OK
* checking replacement functions ... OK
* checking foreign function calls ... OK
* checking R code for possible problems ... OK
* checking Rd files ... OK
* checking Rd metadata ... OK
* checking Rd cross-references ... NOTE
Non-topic package-anchored link(s) in Rd file 'norm_DESeq2.Rd':
  ‘[DESeq2]{estimateSizeFactors}’

See section 'Cross-references' in the 'Writing R Extensions' manual.
* checking for missing documentation entries ... OK
* checking for code/documentation mismatches ... OK
* checking Rd \usage sections ... OK
* checking Rd contents ... OK
* checking for unstated dependencies in examples ... OK
* checking contents of ‘data’ directory ... OK
* checking data for non-ASCII characters ... OK
* checking LazyData ... OK
* checking data for ASCII and uncompressed saves ... OK
* checking files in ‘vignettes’ ... OK
* checking examples ... OK
Examples with CPU (user + system) or elapsed time > 5s
                   user system elapsed
DA_ALDEx2         4.879  1.075   6.053
plotConcordance   5.604  0.069   5.750
createConcordance 4.952  0.075   5.118
plotMD            4.614  0.048   6.141
plotFPR           4.256  0.043   7.386
plotKS            4.241  0.037   7.362
plotFDR           3.923  0.040   6.401
runSplits         3.845  0.066   5.346
* checking for unstated dependencies in ‘tests’ ... OK
* checking tests ...
  Running ‘testthat.R’
 OK
* checking for unstated dependencies in vignettes ... OK
* checking package vignettes ... OK
* checking running R code from vignettes ... SKIPPED
* checking re-building of vignette outputs ... SKIPPED
* checking PDF version of manual ... OK
* DONE

Status: 2 NOTEs
See
  ‘/Users/biocbuild/bbs-3.23-bioc/meat/benchdamic.Rcheck/00check.log’
for details.


Installation output

benchdamic.Rcheck/00install.out

##############################################################################
##############################################################################
###
### Running command:
###
###   /Library/Frameworks/R.framework/Resources/bin/R CMD INSTALL benchdamic
###
##############################################################################
##############################################################################


* installing to library ‘/Library/Frameworks/R.framework/Versions/4.6-x86_64/Resources/library’
* installing *source* package ‘benchdamic’ ...
** this is package ‘benchdamic’ version ‘1.17.0’
** using staged installation
** R
** data
*** moving datasets to lazyload DB
** inst
** byte-compile and prepare package for lazy loading
Found more than one class "dist" in cache; using the first, from namespace 'BiocGenerics'
Also defined by ‘spam’
** help
*** installing help indices
** building package indices
** installing vignettes
** testing if installed package can be loaded from temporary location
Found more than one class "dist" in cache; using the first, from namespace 'BiocGenerics'
Also defined by ‘spam’
** testing if installed package can be loaded from final location
Found more than one class "dist" in cache; using the first, from namespace 'BiocGenerics'
Also defined by ‘spam’
** testing if installed package keeps a record of temporary installation path
* DONE (benchdamic)

Tests output

benchdamic.Rcheck/tests/testthat.Rout


R Under development (unstable) (2025-10-21 r88958) -- "Unsuffered Consequences"
Copyright (C) 2025 The R Foundation for Statistical Computing
Platform: x86_64-apple-darwin20

R is free software and comes with ABSOLUTELY NO WARRANTY.
You are welcome to redistribute it under certain conditions.
Type 'license()' or 'licence()' for distribution details.

R is a collaborative project with many contributors.
Type 'contributors()' for more information and
'citation()' on how to cite R or R packages in publications.

Type 'demo()' for some demos, 'help()' for on-line help, or
'help.start()' for an HTML browser interface to help.
Type 'q()' to quit R.

> library(testthat)
> library(benchdamic)
Found more than one class "dist" in cache; using the first, from namespace 'BiocGenerics'
Also defined by 'spam'
> 
> test_check("benchdamic")
|------------(25%)----------(50%)----------(75%)----------|
|------------(25%)----------(50%)----------(75%)----------|
|------------(25%)----------(50%)----------(75%)----------|
|------------(25%)----------(50%)----------(75%)----------|
|------------(25%)----------(50%)----------(75%)----------|
[ FAIL 0 | WARN 0 | SKIP 0 | PASS 334 ]
> 
> proc.time()
   user  system elapsed 
 80.685   9.009 208.118 

Example timings

benchdamic.Rcheck/benchdamic-Ex.timings

nameusersystemelapsed
CAT0.0030.0010.003
DA_ALDEx24.8791.0756.053
DA_ANCOM0.8540.0240.894
DA_DESeq23.1960.0653.302
DA_MAST1.4490.0441.569
DA_Maaslin20.2880.0590.957
DA_NOISeq1.5110.0191.587
DA_Seurat2.1140.0542.193
DA_ZicoSeq0.7680.0270.810
DA_basic0.0360.0030.040
DA_corncob0.7420.0710.862
DA_dearseq0.0600.0030.066
DA_edgeR0.2120.0110.226
DA_limma0.0840.0040.089
DA_linda0.0510.0030.058
DA_maaslin30.5800.0240.620
DA_metagenomeSeq0.3250.0130.346
DA_mixMC0.6790.0120.699
RMSE0.0010.0010.001
addKnowledge0.1800.0090.190
areaCAT4.5050.0924.684
checkNormalization000
createColors0.0040.0000.004
createConcordance4.9520.0755.118
createEnrichment0.2750.0080.283
createMocks0.0020.0010.004
createPositives1.0910.0321.139
createSplits0.0240.0010.026
createTIEC3.1930.0393.260
enrichmentTest0.1250.0050.130
extractDA0.1860.0030.188
extractStatistics0.2500.0080.260
fitDM0.0350.0020.038
fitHURDLE0.7110.0050.722
fitModels2.5000.0452.566
fitNB0.0410.0010.041
fitZIG0.0570.0010.059
fitZINB0.4520.0050.461
getDA0.0830.0080.092
getPositives0.0820.0040.088
getStatistics0.0720.0050.078
get_counts_metadata0.1260.0020.129
iterative_ordering0.0070.0000.009
meanDifferences0.0020.0000.002
norm_CSS0.0730.0010.074
norm_DESeq20.6470.0080.658
norm_TSS0.0390.0010.041
norm_edgeR0.0410.0010.043
plotConcordance5.6040.0695.750
plotContingency1.6780.0201.717
plotEnrichment1.8660.0291.933
plotFDR3.9230.0406.401
plotFPR4.2560.0437.386
plotKS4.2410.0377.362
plotLogP3.8060.0544.689
plotMD4.6140.0486.141
plotMutualFindings1.4700.0131.581
plotPositives1.2670.0181.556
plotQQ2.3200.0352.618
plotRMSE2.4590.0483.637
prepareObserved0.0010.0000.005
runDA0.4130.0040.424
runMocks0.7530.0131.116
runNormalizations0.3640.0020.400
runSplits3.8450.0665.346
setNormalizations0.0000.0000.001
set_ALDEx20.0050.0000.007
set_ANCOM0.0060.0010.008
set_DESeq20.0050.0010.005
set_MAST0.0030.0000.005
set_Maaslin20.0040.0000.004
set_NOISeq0.0030.0000.004
set_Seurat0.0050.0000.005
set_ZicoSeq0.0060.0010.009
set_basic0.0020.0010.002
set_corncob0.0030.0000.003
set_dearseq0.0020.0000.002
set_edgeR0.0100.0000.011
set_limma0.0070.0000.008
set_linda0.0040.0010.005
set_maaslin30.0060.0010.009
set_metagenomeSeq0.0040.0000.005
set_mixMC0.0020.0000.003
weights_ZINB0.3110.0020.327