| Back to Multiple platform build/check report for BioC 3.23: simplified long |
|
This page was generated on 2025-11-18 11:38 -0500 (Tue, 18 Nov 2025).
| Hostname | OS | Arch (*) | R version | Installed pkgs |
|---|---|---|---|---|
| nebbiolo1 | Linux (Ubuntu 24.04.3 LTS) | x86_64 | R Under development (unstable) (2025-10-20 r88955) -- "Unsuffered Consequences" | 4826 |
| lconway | macOS 12.7.6 Monterey | x86_64 | R Under development (unstable) (2025-10-21 r88958) -- "Unsuffered Consequences" | 4561 |
| kjohnson3 | macOS 13.7.7 Ventura | arm64 | R Under development (unstable) (2025-11-04 r88984) -- "Unsuffered Consequences" | 4562 |
| Click on any hostname to see more info about the system (e.g. compilers) (*) as reported by 'uname -p', except on Windows and Mac OS X | ||||
| Package 119/2325 | Hostname | OS / Arch | INSTALL | BUILD | CHECK | BUILD BIN | ||||||||
| autonomics 1.19.0 (landing page) Aditya Bhagwat
| nebbiolo1 | Linux (Ubuntu 24.04.3 LTS) / x86_64 | OK | OK | OK | |||||||||
| lconway | macOS 12.7.6 Monterey / x86_64 | OK | OK | OK | OK | |||||||||
| kjohnson3 | macOS 13.7.7 Ventura / arm64 | OK | OK | OK | OK | |||||||||
|
To the developers/maintainers of the autonomics package: - Allow up to 24 hours (and sometimes 48 hours) for your latest push to git@git.bioconductor.org:packages/autonomics.git to reflect on this report. See Troubleshooting Build Report for more information. - Use the following Renviron settings to reproduce errors and warnings. - If 'R CMD check' started to fail recently on the Linux builder(s) over a missing dependency, add the missing dependency to 'Suggests:' in your DESCRIPTION file. See Renviron.bioc for more information. |
| Package: autonomics |
| Version: 1.19.0 |
| Command: /Library/Frameworks/R.framework/Resources/bin/R CMD check --install=check:autonomics.install-out.txt --library=/Library/Frameworks/R.framework/Resources/library --no-vignettes --timings autonomics_1.19.0.tar.gz |
| StartedAt: 2025-11-17 20:21:24 -0500 (Mon, 17 Nov 2025) |
| EndedAt: 2025-11-17 20:53:54 -0500 (Mon, 17 Nov 2025) |
| EllapsedTime: 1950.1 seconds |
| RetCode: 0 |
| Status: OK |
| CheckDir: autonomics.Rcheck |
| Warnings: 0 |
##############################################################################
##############################################################################
###
### Running command:
###
### /Library/Frameworks/R.framework/Resources/bin/R CMD check --install=check:autonomics.install-out.txt --library=/Library/Frameworks/R.framework/Resources/library --no-vignettes --timings autonomics_1.19.0.tar.gz
###
##############################################################################
##############################################################################
* using log directory ‘/Users/biocbuild/bbs-3.23-bioc/meat/autonomics.Rcheck’
* using R Under development (unstable) (2025-10-21 r88958)
* using platform: x86_64-apple-darwin20
* R was compiled by
Apple clang version 14.0.0 (clang-1400.0.29.202)
GNU Fortran (GCC) 14.2.0
* running under: macOS Ventura 13.7.8
* using session charset: UTF-8
* using option ‘--no-vignettes’
* checking for file ‘autonomics/DESCRIPTION’ ... OK
* checking extension type ... Package
* this is package ‘autonomics’ version ‘1.19.0’
* package encoding: UTF-8
* checking package namespace information ... OK
* checking package dependencies ... INFO
Imports includes 32 non-default packages.
Importing from so many packages makes the package vulnerable to any of
them becoming unavailable. Move as many as possible to Suggests and
use conditionally.
* checking if this is a source package ... OK
* checking if there is a namespace ... OK
* checking for hidden files and directories ... NOTE
Found the following hidden files and directories:
.BBSoptions
These were most likely included in error. See section ‘Package
structure’ in the ‘Writing R Extensions’ manual.
* checking for portable file names ... OK
* checking for sufficient/correct file permissions ... OK
* checking whether package ‘autonomics’ can be installed ... OK
* checking installed package size ... OK
* checking package directory ... OK
* checking ‘build’ directory ... OK
* checking DESCRIPTION meta-information ... OK
* checking top-level files ... OK
* checking for left-over files ... OK
* checking index information ... OK
* checking package subdirectories ... OK
* checking code files for non-ASCII characters ... OK
* checking R files for syntax errors ... OK
* checking whether the package can be loaded ... OK
* checking whether the package can be loaded with stated dependencies ... OK
* checking whether the package can be unloaded cleanly ... OK
* checking whether the namespace can be loaded with stated dependencies ... OK
* checking whether the namespace can be unloaded cleanly ... OK
* checking dependencies in R code ... OK
* checking S3 generic/method consistency ... OK
* checking replacement functions ... OK
* checking foreign function calls ... OK
* checking R code for possible problems ... OK
* checking Rd files ... OK
* checking Rd metadata ... OK
* checking Rd cross-references ... NOTE
Non-topic package-anchored link(s) in Rd file 'reexports.Rd':
‘[magrittr:compound]{%<>%}’ ‘[magrittr:pipe]{%>%}’
‘[magrittr:aliases]{extract}’
See section 'Cross-references' in the 'Writing R Extensions' manual.
* checking for missing documentation entries ... OK
* checking for code/documentation mismatches ... OK
* checking Rd \usage sections ... OK
* checking Rd contents ... OK
* checking for unstated dependencies in examples ... OK
* checking files in ‘vignettes’ ... OK
* checking examples ... OK
Examples with CPU (user + system) or elapsed time > 5s
user system elapsed
write_xl 169.516 7.049 226.199
read_diann_proteingroups 112.537 2.177 116.331
awblinmod 42.234 0.351 43.166
read_rnaseq_counts 33.440 3.074 42.676
LINMOD 26.638 0.389 27.319
plot_exprs_per_coef 23.823 0.214 24.215
plot_exprs 23.010 0.181 23.300
rm_diann_contaminants 22.416 0.457 23.156
default_formula 21.164 0.673 29.628
plot_summary 16.542 0.791 17.736
read_somascan 14.946 0.127 15.217
plot_volcano 14.764 0.182 15.104
read_metabolon 14.678 0.212 15.047
analyze 14.383 0.294 14.901
fit_survival 13.092 0.222 13.420
plot_densities 11.757 0.356 12.340
explore-transforms 10.127 0.111 10.477
fcluster 9.964 0.101 10.168
ftype 8.005 0.351 12.513
plot_detections 8.276 0.063 8.389
biplot_covariates 7.751 0.102 7.918
plot_subgroup_points 7.091 0.104 7.254
plot_xy_density 6.895 0.071 7.042
read_fragpipe 6.542 0.217 6.854
subtract_baseline 5.437 0.093 5.575
plot_violins 5.402 0.120 5.598
code 5.248 0.089 5.380
plot_contrastogram 3.268 0.201 6.357
is_compounddiscoverer_output 0.676 1.054 20.954
download_mcclain21 0.727 0.470 8.096
annotate_uniprot_rest 0.073 0.013 8.003
* checking for unstated dependencies in ‘tests’ ... OK
* checking tests ...
Running ‘testthat.R’
OK
* checking for unstated dependencies in vignettes ... OK
* checking package vignettes ... OK
* checking running R code from vignettes ... SKIPPED
* checking re-building of vignette outputs ... SKIPPED
* checking PDF version of manual ... OK
* DONE
Status: 2 NOTEs
See
‘/Users/biocbuild/bbs-3.23-bioc/meat/autonomics.Rcheck/00check.log’
for details.
autonomics.Rcheck/00install.out
############################################################################## ############################################################################## ### ### Running command: ### ### /Library/Frameworks/R.framework/Resources/bin/R CMD INSTALL autonomics ### ############################################################################## ############################################################################## * installing to library ‘/Library/Frameworks/R.framework/Versions/4.6-x86_64/Resources/library’ * installing *source* package ‘autonomics’ ... ** this is package ‘autonomics’ version ‘1.19.0’ ** using staged installation ** R ** inst ** byte-compile and prepare package for lazy loading Note: wrong number of arguments to 'seq_along' Note: wrong number of arguments to 'sqrt' ** help *** installing help indices ** building package indices ** installing vignettes ** testing if installed package can be loaded from temporary location ** testing if installed package can be loaded from final location ** testing if installed package keeps a record of temporary installation path * DONE (autonomics)
autonomics.Rcheck/tests/testthat.Rout
R Under development (unstable) (2025-10-21 r88958) -- "Unsuffered Consequences"
Copyright (C) 2025 The R Foundation for Statistical Computing
Platform: x86_64-apple-darwin20
R is free software and comes with ABSOLUTELY NO WARRANTY.
You are welcome to redistribute it under certain conditions.
Type 'license()' or 'licence()' for distribution details.
R is a collaborative project with many contributors.
Type 'contributors()' for more information and
'citation()' on how to cite R or R packages in publications.
Type 'demo()' for some demos, 'help()' for on-line help, or
'help.start()' for an HTML browser interface to help.
Type 'q()' to quit R.
> library(testthat)
> library(autonomics)
Attaching package: 'autonomics'
The following objects are masked from 'package:stats':
biplot, loadings
The following object is masked from 'package:base':
beta
>
> test_check("autonomics")
trying URL 'https://bitbucket.org/graumannlabtools/autonomics/downloads/integer64.proteinGroups.txt'
Content type 'text/plain' length 57496 bytes (56 KB)
==================================================
downloaded 56 KB
[ FAIL 0 | WARN 3 | SKIP 0 | PASS 158 ]
[ FAIL 0 | WARN 3 | SKIP 0 | PASS 158 ]
>
> proc.time()
user system elapsed
159.006 59.175 715.220
autonomics.Rcheck/autonomics-Ex.timings
| name | user | system | elapsed | |
| AUTONOMICS_DATASETS | 0 | 0 | 0 | |
| COMPOUNDDISCOVERER_PATTERNS | 0.001 | 0.000 | 0.000 | |
| LINMOD | 26.638 | 0.389 | 27.319 | |
| LINMODENGINES | 0 | 0 | 0 | |
| MAXQUANT_PATTERNS | 0.001 | 0.000 | 0.001 | |
| TAXON_TO_ORGNAME | 0 | 0 | 0 | |
| TESTS | 0 | 0 | 0 | |
| X | 1.482 | 0.059 | 1.561 | |
| abstract_fit | 1.075 | 0.056 | 1.140 | |
| add_adjusted_pvalues | 0.402 | 0.009 | 0.476 | |
| add_assay_means | 0.317 | 0.009 | 0.414 | |
| add_facetvars | 1.632 | 0.068 | 1.711 | |
| add_opentargets_by_uniprot | 0.476 | 0.017 | 0.496 | |
| add_psp | 0.580 | 0.016 | 0.601 | |
| add_smiles | 0.541 | 0.051 | 0.601 | |
| all_non_numeric | 0.675 | 0.006 | 0.686 | |
| analysis | 0.353 | 0.009 | 0.417 | |
| analyze | 14.383 | 0.294 | 14.901 | |
| annotate_maxquant | 0.856 | 0.111 | 1.442 | |
| annotate_uniprot_rest | 0.073 | 0.013 | 8.003 | |
| assert_is_valid_sumexp | 1.578 | 0.070 | 1.675 | |
| awblinmod | 42.234 | 0.351 | 43.166 | |
| biplot | 3.908 | 0.081 | 4.036 | |
| biplot_corrections | 3.823 | 0.090 | 3.973 | |
| biplot_covariates | 7.751 | 0.102 | 7.918 | |
| block2limma | 0.003 | 0.000 | 0.003 | |
| block2lm | 0.004 | 0.000 | 0.003 | |
| block2lme | 0.003 | 0.000 | 0.003 | |
| block2lmer | 0.005 | 0.001 | 0.005 | |
| block_has_two_levels | 0.747 | 0.047 | 0.802 | |
| center | 1.994 | 0.025 | 2.032 | |
| code | 5.248 | 0.089 | 5.380 | |
| collapsed_entrezg_to_symbol | 1.201 | 0.117 | 1.349 | |
| contrast_subgroup_cols | 0.725 | 0.066 | 0.806 | |
| contrastdt | 0.696 | 0.008 | 0.708 | |
| count_in | 0.001 | 0.001 | 0.002 | |
| counts | 0.387 | 0.005 | 0.396 | |
| counts2cpm | 0.417 | 0.006 | 0.428 | |
| counts2tpm | 0.345 | 0.004 | 0.353 | |
| cpm | 0.400 | 0.005 | 0.409 | |
| create_design | 0.872 | 0.063 | 0.947 | |
| default_formula | 21.164 | 0.673 | 29.628 | |
| default_geom | 0.576 | 0.062 | 0.653 | |
| default_sfile | 0.002 | 0.001 | 0.003 | |
| demultiplex | 0.014 | 0.001 | 0.014 | |
| densities | 0.190 | 0.005 | 0.217 | |
| dequantify | 0.003 | 0.000 | 0.003 | |
| dequantify_compounddiscoverer | 0.002 | 0.000 | 0.002 | |
| dot-coxph | 0.414 | 0.061 | 0.512 | |
| dot-merge | 0.028 | 0.002 | 0.029 | |
| dot-read_maxquant_proteingroups | 0.136 | 0.008 | 0.152 | |
| download_data | 0.000 | 0.001 | 0.001 | |
| download_gtf | 0 | 0 | 0 | |
| download_mcclain21 | 0.727 | 0.470 | 8.096 | |
| dt2mat | 0.003 | 0.000 | 0.002 | |
| enrichment | 1.012 | 0.008 | 1.164 | |
| entrezg_to_symbol | 0.145 | 0.007 | 0.195 | |
| explore-transforms | 10.127 | 0.111 | 10.477 | |
| extract_contrast_features | 4.676 | 0.071 | 4.778 | |
| extract_rectangle | 0.145 | 0.096 | 0.270 | |
| factor.vars | 0.162 | 0.001 | 0.164 | |
| factorize | 0.727 | 0.015 | 0.747 | |
| fcluster | 9.964 | 0.101 | 10.168 | |
| fcor | 1.310 | 0.034 | 1.417 | |
| fdata | 0.594 | 0.017 | 0.616 | |
| fdr2p | 1.054 | 0.055 | 1.118 | |
| filter_exprs_replicated_in_some_subgroup | 1.146 | 0.112 | 1.370 | |
| filter_features | 0.589 | 0.049 | 0.644 | |
| filter_medoid | 0.673 | 0.007 | 0.684 | |
| filter_samples | 0.599 | 0.071 | 0.721 | |
| fit_survival | 13.092 | 0.222 | 13.420 | |
| fits | 0.341 | 0.003 | 0.343 | |
| fix_xlgenes | 0.002 | 0.001 | 0.002 | |
| flevels | 0.479 | 0.008 | 0.489 | |
| fnames | 0.497 | 0.009 | 0.507 | |
| formula2str | 0 | 0 | 0 | |
| ftype | 8.005 | 0.351 | 12.513 | |
| fvalues | 0.442 | 0.010 | 0.457 | |
| fvars | 0.425 | 0.008 | 0.434 | |
| genome_to_orgdb | 0.001 | 0.000 | 0.000 | |
| group_by_level | 0.001 | 0.000 | 0.002 | |
| guess_compounddiscoverer_quantity | 0.001 | 0.001 | 0.002 | |
| guess_fitsep | 0.522 | 0.009 | 0.535 | |
| guess_maxquant_quantity | 0.006 | 0.001 | 0.007 | |
| guess_sep | 0.491 | 0.049 | 0.551 | |
| has_multiple_levels | 0.064 | 0.003 | 0.067 | |
| hdlproteins | 0.067 | 0.038 | 0.890 | |
| impute | 3.664 | 0.045 | 3.733 | |
| invert_subgroups | 0.678 | 0.009 | 0.693 | |
| is_character_matrix | 0.154 | 0.002 | 0.159 | |
| is_collapsed_subset | 0 | 0 | 0 | |
| is_compounddiscoverer_output | 0.676 | 1.054 | 20.954 | |
| is_correlation_matrix | 0.001 | 0.000 | 0.001 | |
| is_diann_report | 0.085 | 0.016 | 0.111 | |
| is_fastadt | 0.055 | 0.002 | 0.058 | |
| is_file | 0.001 | 0.000 | 0.001 | |
| is_fraction | 0.001 | 0.001 | 0.001 | |
| is_fragpipe_tsv | 0.047 | 0.009 | 0.068 | |
| is_imputed | 0.610 | 0.009 | 0.698 | |
| is_maxquant_phosphosites | 0.046 | 0.007 | 0.084 | |
| is_maxquant_proteingroups | 0.041 | 0.007 | 0.049 | |
| is_positive_number | 0.001 | 0.000 | 0.001 | |
| is_scalar_subset | 0.234 | 0.005 | 0.283 | |
| is_sig | 1.367 | 0.013 | 1.470 | |
| is_valid_formula | 0.051 | 0.001 | 0.052 | |
| keep_estimable_features | 0.896 | 0.061 | 0.972 | |
| label2index | 0.001 | 0.001 | 0.002 | |
| list2mat | 0.001 | 0.000 | 0.001 | |
| log2counts | 0.398 | 0.005 | 0.404 | |
| log2cpm | 0.358 | 0.004 | 0.365 | |
| log2diffs | 0.356 | 0.006 | 0.365 | |
| log2proteins | 0.377 | 0.007 | 0.388 | |
| log2sites | 0.426 | 0.007 | 0.435 | |
| log2tpm | 0.349 | 0.003 | 0.355 | |
| log2transform | 4.511 | 0.057 | 4.760 | |
| logical2factor | 0.002 | 0.000 | 0.003 | |
| make_alpha_palette | 0.671 | 0.064 | 0.755 | |
| make_colors | 0.009 | 0.002 | 0.010 | |
| make_volcano_dt | 0.881 | 0.012 | 0.897 | |
| map_fvalues | 0.466 | 0.009 | 0.478 | |
| matrix2sumexp | 0.895 | 0.091 | 1.039 | |
| mclust_breaks | 0.612 | 0.156 | 1.076 | |
| merge_sample_file | 0.469 | 0.014 | 0.510 | |
| merge_sdata | 0.653 | 0.064 | 0.724 | |
| message_df | 0.002 | 0.000 | 0.002 | |
| model_coefs | 0.871 | 0.064 | 0.957 | |
| modelvar | 3.605 | 0.076 | 3.809 | |
| object1 | 0.645 | 0.008 | 0.660 | |
| order_on_p | 1.536 | 0.063 | 1.610 | |
| overall_parameters | 0.024 | 0.000 | 0.025 | |
| pca | 3.621 | 0.080 | 3.730 | |
| pg_to_canonical | 0.006 | 0.000 | 0.008 | |
| plot_coef_densities | 1.473 | 0.057 | 1.541 | |
| plot_contrast_venn | 2.636 | 0.064 | 2.720 | |
| plot_contrastogram | 3.268 | 0.201 | 6.357 | |
| plot_data | 1.935 | 0.060 | 2.003 | |
| plot_densities | 11.757 | 0.356 | 12.340 | |
| plot_design | 0.808 | 0.012 | 0.830 | |
| plot_detections | 8.276 | 0.063 | 8.389 | |
| plot_exprs | 23.010 | 0.181 | 23.300 | |
| plot_exprs_per_coef | 23.823 | 0.214 | 24.215 | |
| plot_fit_summary | 2.735 | 0.075 | 2.840 | |
| plot_heatmap | 2.415 | 0.025 | 2.460 | |
| plot_matrix | 0.695 | 0.053 | 0.756 | |
| plot_subgroup_points | 7.091 | 0.104 | 7.254 | |
| plot_summary | 16.542 | 0.791 | 17.736 | |
| plot_venn | 0.016 | 0.001 | 0.018 | |
| plot_venn_heatmap | 0.022 | 0.002 | 0.024 | |
| plot_violins | 5.402 | 0.120 | 5.598 | |
| plot_volcano | 14.764 | 0.182 | 15.104 | |
| plot_xy_density | 6.895 | 0.071 | 7.042 | |
| preprocess_rnaseq_counts | 0.363 | 0.004 | 0.370 | |
| pull_columns | 0.003 | 0.001 | 0.002 | |
| pvalues_estimable | 0.049 | 0.008 | 0.073 | |
| read_affymetrix | 0 | 0 | 0 | |
| read_diann_proteingroups | 112.537 | 2.177 | 116.331 | |
| read_fragpipe | 6.542 | 0.217 | 6.854 | |
| read_maxquant_phosphosites | 1.822 | 0.043 | 1.884 | |
| read_maxquant_proteingroups | 1.440 | 0.027 | 1.480 | |
| read_metabolon | 14.678 | 0.212 | 15.047 | |
| read_msigdt | 0.001 | 0.000 | 0.002 | |
| read_olink | 1.625 | 0.068 | 1.718 | |
| read_rectangles | 0.198 | 0.025 | 0.224 | |
| read_rnaseq_counts | 33.440 | 3.074 | 42.676 | |
| read_salmon | 0.000 | 0.000 | 0.001 | |
| read_somascan | 14.946 | 0.127 | 15.217 | |
| read_uniprotdt | 1.533 | 0.097 | 1.653 | |
| reset_fit | 4.793 | 0.112 | 4.950 | |
| rm_diann_contaminants | 22.416 | 0.457 | 23.156 | |
| rm_missing_in_some_samples | 0.482 | 0.056 | 0.555 | |
| rm_unmatched_samples | 0.657 | 0.030 | 0.692 | |
| sbind | 4.478 | 0.047 | 4.555 | |
| scaledlibsizes | 0.398 | 0.006 | 0.407 | |
| scoremat | 0.865 | 0.050 | 0.921 | |
| slevels | 0.448 | 0.009 | 0.460 | |
| snames | 0.415 | 0.010 | 0.427 | |
| split_extract_fixed | 0.515 | 0.047 | 0.566 | |
| split_samples | 1.212 | 0.053 | 1.271 | |
| stepauc | 0.367 | 0.003 | 0.373 | |
| stri_any_regex | 0.001 | 0.000 | 0.001 | |
| stri_detect_fixed_in_collapsed | 0.314 | 0.006 | 0.321 | |
| subgroup_matrix | 0.539 | 0.046 | 0.588 | |
| subtract_baseline | 5.437 | 0.093 | 5.575 | |
| sumexp_to_longdt | 1.809 | 0.075 | 1.893 | |
| sumexp_to_tsv | 0.540 | 0.008 | 0.550 | |
| sumexplist_to_longdt | 1.482 | 0.027 | 1.518 | |
| summarize_fit | 1.721 | 0.068 | 1.806 | |
| survobj | 0.150 | 0.002 | 0.154 | |
| svalues | 0.419 | 0.007 | 0.428 | |
| svars | 0.378 | 0.007 | 0.388 | |
| systematic_nas | 0.487 | 0.007 | 0.497 | |
| tag_features | 1.025 | 0.034 | 1.071 | |
| tag_hdlproteins | 0.511 | 0.035 | 0.552 | |
| taxon2org | 0.001 | 0.000 | 0.002 | |
| tpm | 0.427 | 0.009 | 0.438 | |
| uncollapse | 0.029 | 0.003 | 0.032 | |
| values | 0.455 | 0.018 | 0.476 | |
| varlevels_dont_clash | 0.029 | 0.001 | 0.030 | |
| venn_detects | 0.549 | 0.010 | 0.562 | |
| weights | 0.566 | 0.043 | 0.619 | |
| write_xl | 169.516 | 7.049 | 226.199 | |
| zero_to_na | 0.003 | 0.006 | 0.038 | |