Back to Build/check report for BioC 3.23:   simplified   long
ABCDEFGHIJKLMNOPQRSTU[V]WXYZ

This page was generated on 2025-11-05 11:32 -0500 (Wed, 05 Nov 2025).

HostnameOSArch (*)R versionInstalled pkgs
nebbiolo1Linux (Ubuntu 24.04.3 LTS)x86_64R Under development (unstable) (2025-10-20 r88955) -- "Unsuffered Consequences" 4818
Click on any hostname to see more info about the system (e.g. compilers)      (*) as reported by 'uname -p', except on Windows and Mac OS X

All results for package VariantAnnotation


To the developers/maintainers of the VariantAnnotation package:
- Allow up to 24 hours (and sometimes 48 hours) for your latest push to git@git.bioconductor.org:packages/VariantAnnotation.git to reflect on this report. See Troubleshooting Build Report for more information.
- Use the following Renviron settings to reproduce errors and warnings.
- If 'R CMD check' started to fail recently on the Linux builder(s) over a missing dependency, add the missing dependency to 'Suggests:' in your DESCRIPTION file. See Renviron.bioc for more information.

raw results

Package 2267/2323HostnameOS / ArchINSTALLBUILDCHECKBUILD BIN
VariantAnnotation 1.57.0  (landing page)
Bioconductor Package Maintainer
Snapshot Date: 2025-11-04 13:40 -0500 (Tue, 04 Nov 2025)
git_url: https://git.bioconductor.org/packages/VariantAnnotation
git_branch: devel
git_last_commit: 0da7ddb
git_last_commit_date: 2025-10-29 10:08:24 -0500 (Wed, 29 Oct 2025)
nebbiolo1Linux (Ubuntu 24.04.3 LTS) / x86_64  OK    OK    WARNINGS  YES



Results for Bioconductor software packages that depend directly on package VariantAnnotation

QUICK STATSOS / ArchINSTALLBUILDCHECKBUILD BIN
nebbiolo1Linux (Ubuntu 24.04.3 LTS) / x86_64
0065
0659
04649
Package 1/65HostnameOS / ArchINSTALLBUILDCHECKBUILD BIN
alabaster.vcf 1.11.0  (landing page)
Aaron Lun
git_last_commit: 53827bc
git_last_commit_date: 2025-10-29 11:21:32 -0500
nebbiolo1Linux (Ubuntu 24.04.3 LTS) / x86_64  OK    OK    OK  YES
Package 2/65HostnameOS / ArchINSTALLBUILDCHECKBUILD BIN
AllelicImbalance 1.49.0  (landing page)
Jesper R Gadin
git_last_commit: d78bb64
git_last_commit_date: 2025-10-29 10:16:36 -0500
nebbiolo1Linux (Ubuntu 24.04.3 LTS) / x86_64  OK    OK    OK  YES
Package 3/65HostnameOS / ArchINSTALLBUILDCHECKBUILD BIN
APAlyzer 1.25.0  (landing page)
Ruijia Wang
git_last_commit: 5b343c9
git_last_commit_date: 2025-10-29 10:53:34 -0500
nebbiolo1Linux (Ubuntu 24.04.3 LTS) / x86_64  OK    OK    ERROR  
Package 4/65HostnameOS / ArchINSTALLBUILDCHECKBUILD BIN
appreci8R 1.29.0  (landing page)
Sarah Sandmann
git_last_commit: bb148fd
git_last_commit_date: 2025-10-29 10:46:18 -0500
nebbiolo1Linux (Ubuntu 24.04.3 LTS) / x86_64  OK    OK    OK  YES
Package 5/65HostnameOS / ArchINSTALLBUILDCHECKBUILD BIN
BadRegionFinder 1.39.0  (landing page)
Sarah Sandmann
git_last_commit: d483500
git_last_commit_date: 2025-10-29 10:31:21 -0500
nebbiolo1Linux (Ubuntu 24.04.3 LTS) / x86_64  OK    OK    OK  YES
Package 6/65HostnameOS / ArchINSTALLBUILDCHECKBUILD BIN
BBCAnalyzer 1.41.0  (landing page)
Sarah Sandmann
git_last_commit: 7637b40
git_last_commit_date: 2025-10-29 10:27:19 -0500
nebbiolo1Linux (Ubuntu 24.04.3 LTS) / x86_64  OK    OK    OK  YES
Package 7/65HostnameOS / ArchINSTALLBUILDCHECKBUILD BIN
biovizBase 1.59.0  (landing page)
Michael Lawrence
git_last_commit: 7895cbf
git_last_commit_date: 2025-10-29 10:09:04 -0500
nebbiolo1Linux (Ubuntu 24.04.3 LTS) / x86_64  OK    OK    WARNINGS  YES
Package 8/65HostnameOS / ArchINSTALLBUILDCHECKBUILD BIN
biscuiteer 1.25.0  (landing page)
Jacob Morrison
git_last_commit: c74f865
git_last_commit_date: 2025-10-29 10:55:16 -0500
nebbiolo1Linux (Ubuntu 24.04.3 LTS) / x86_64  OK    OK    WARNINGS  NO, package depends on 'dmrseq' which is not available
Package 9/65HostnameOS / ArchINSTALLBUILDCHECKBUILD BIN
cardelino 1.13.0  (landing page)
Davis McCarthy
git_last_commit: d0e349d
git_last_commit_date: 2025-10-29 11:19:32 -0500
nebbiolo1Linux (Ubuntu 24.04.3 LTS) / x86_64  OK    OK    OK  YES
Package 10/65HostnameOS / ArchINSTALLBUILDCHECKBUILD BIN
CCAFE 1.3.0  (landing page)
Hayley Wolff
git_last_commit: 2736f80
git_last_commit_date: 2025-10-29 11:35:24 -0500
nebbiolo1Linux (Ubuntu 24.04.3 LTS) / x86_64  OK    OK    OK  YES
Package 11/65HostnameOS / ArchINSTALLBUILDCHECKBUILD BIN
CNVfilteR 1.25.0  (landing page)
Jose Marcos Moreno-Cabrera
git_last_commit: e65bd7a
git_last_commit_date: 2025-10-29 10:54:50 -0500
nebbiolo1Linux (Ubuntu 24.04.3 LTS) / x86_64  OK    OK    OK  YES
Package 12/65HostnameOS / ArchINSTALLBUILDCHECKBUILD BIN
CNVrd2 1.49.0  (landing page)
Hoang Tan Nguyen
git_last_commit: 1ed26d8
git_last_commit_date: 2025-10-29 10:17:16 -0500
nebbiolo1Linux (Ubuntu 24.04.3 LTS) / x86_64  OK    OK    OK  YES
Package 13/65HostnameOS / ArchINSTALLBUILDCHECKBUILD BIN
CopyNumberPlots 1.27.0  (landing page)
Bernat Gel
git_last_commit: d68d13f
git_last_commit_date: 2025-10-29 10:51:43 -0500
nebbiolo1Linux (Ubuntu 24.04.3 LTS) / x86_64  OK    OK    OK  YES
Package 14/65HostnameOS / ArchINSTALLBUILDCHECKBUILD BIN
crisprDesign 1.13.0  (landing page)
Jean-Philippe Fortin
git_last_commit: dd162c8
git_last_commit_date: 2025-10-29 11:17:54 -0500
nebbiolo1Linux (Ubuntu 24.04.3 LTS) / x86_64  OK    OK    OK  YES
Package 15/65HostnameOS / ArchINSTALLBUILDCHECKBUILD BIN
customProDB 1.51.0  (landing page)
Xiaojing Wang
git_last_commit: 8317345
git_last_commit_date: 2025-10-29 10:15:09 -0500
nebbiolo1Linux (Ubuntu 24.04.3 LTS) / x86_64  OK    OK    ERROR  
Package 16/65HostnameOS / ArchINSTALLBUILDCHECKBUILD BIN
DAMEfinder 1.23.0  (landing page)
Stephany Orjuela
git_last_commit: cb8c833
git_last_commit_date: 2025-10-29 10:56:31 -0500
nebbiolo1Linux (Ubuntu 24.04.3 LTS) / x86_64  OK    OK    OK  YES
Package 17/65HostnameOS / ArchINSTALLBUILDCHECKBUILD BIN
decompTumor2Sig 2.27.0  (landing page)
Rosario M. Piro
git_last_commit: d30b743
git_last_commit_date: 2025-10-29 10:49:06 -0500
nebbiolo1Linux (Ubuntu 24.04.3 LTS) / x86_64  OK    OK    OK  YES
Package 18/65HostnameOS / ArchINSTALLBUILDCHECKBUILD BIN
deepSNV 1.57.0  (landing page)
Moritz Gerstung
git_last_commit: 445cbf8
git_last_commit_date: 2025-10-29 10:10:15 -0500
nebbiolo1Linux (Ubuntu 24.04.3 LTS) / x86_64  OK    OK    OK  YES
Package 19/65HostnameOS / ArchINSTALLBUILDCHECKBUILD BIN
demuxSNP 1.9.0  (landing page)
Michael Lynch
git_last_commit: e594034
git_last_commit_date: 2025-10-29 11:23:27 -0500
nebbiolo1Linux (Ubuntu 24.04.3 LTS) / x86_64  OK    OK    OK  YES
Package 20/65HostnameOS / ArchINSTALLBUILDCHECKBUILD BIN
DominoEffect 1.31.0  (landing page)
Marija Buljan , Peter Blattmann
git_last_commit: 2cae082
git_last_commit_date: 2025-10-29 10:43:24 -0500
nebbiolo1Linux (Ubuntu 24.04.3 LTS) / x86_64  OK    OK    OK  YES
Package 21/65HostnameOS / ArchINSTALLBUILDCHECKBUILD BIN
fcScan 1.25.0  (landing page)
Pierre Khoueiry Abdullah El-Kurdi
git_last_commit: 5da32a8
git_last_commit_date: 2025-10-29 10:53:36 -0500
nebbiolo1Linux (Ubuntu 24.04.3 LTS) / x86_64  OK    OK    OK  YES
Package 22/65HostnameOS / ArchINSTALLBUILDCHECKBUILD BIN
G4SNVHunter 1.3.0  (landing page)
Rongxin Zhang
git_last_commit: ec8c408
git_last_commit_date: 2025-10-29 11:33:18 -0500
nebbiolo1Linux (Ubuntu 24.04.3 LTS) / x86_64  OK    OK    WARNINGS  YES
Package 23/65HostnameOS / ArchINSTALLBUILDCHECKBUILD BIN
GA4GHclient 1.35.0  (landing page)
Welliton Souza
git_last_commit: 22fbbfa
git_last_commit_date: 2025-10-29 10:37:37 -0500
nebbiolo1Linux (Ubuntu 24.04.3 LTS) / x86_64  OK    OK    OK  YES
Package 24/65HostnameOS / ArchINSTALLBUILDCHECKBUILD BIN
GenomicFiles 1.47.0  (landing page)
Bioconductor Package Maintainer
git_last_commit: 76a7462
git_last_commit_date: 2025-10-29 10:19:18 -0500
nebbiolo1Linux (Ubuntu 24.04.3 LTS) / x86_64  OK    OK    OK  YES
Package 25/65HostnameOS / ArchINSTALLBUILDCHECKBUILD BIN
GenVisR 1.43.0  (landing page)
Zachary Skidmore
git_last_commit: e398c9b
git_last_commit_date: 2025-10-29 10:29:36 -0500
nebbiolo1Linux (Ubuntu 24.04.3 LTS) / x86_64  OK    OK    ERROR  
Package 26/65HostnameOS / ArchINSTALLBUILDCHECKBUILD BIN
ggbio 1.59.0  (landing page)
Michael Lawrence
git_last_commit: 6c3efb9
git_last_commit_date: 2025-10-29 10:09:27 -0500
nebbiolo1Linux (Ubuntu 24.04.3 LTS) / x86_64  OK    OK    WARNINGS  YES
Package 27/65HostnameOS / ArchINSTALLBUILDCHECKBUILD BIN
gmapR 1.53.0  (landing page)
Michael Lawrence
git_last_commit: f0b8dac
git_last_commit_date: 2025-10-29 10:11:34 -0500
nebbiolo1Linux (Ubuntu 24.04.3 LTS) / x86_64  OK    ERROR  skipped
Package 28/65HostnameOS / ArchINSTALLBUILDCHECKBUILD BIN
gwascat 2.43.0  (landing page)
VJ Carey
git_last_commit: ec24f27
git_last_commit_date: 2025-10-29 10:10:23 -0500
nebbiolo1Linux (Ubuntu 24.04.3 LTS) / x86_64  OK    OK    OK  YES
Package 29/65HostnameOS / ArchINSTALLBUILDCHECKBUILD BIN
gwasurvivr 1.29.0  (landing page)
Abbas Rizvi
git_last_commit: f8ecda5
git_last_commit_date: 2025-10-29 10:45:55 -0500
nebbiolo1Linux (Ubuntu 24.04.3 LTS) / x86_64  OK    OK    OK  YES
Package 30/65HostnameOS / ArchINSTALLBUILDCHECKBUILD BIN
HelloRanges 1.37.0  (landing page)
Michael Lawrence
git_last_commit: 38fc888
git_last_commit_date: 2025-10-29 10:35:10 -0500
nebbiolo1Linux (Ubuntu 24.04.3 LTS) / x86_64  OK    OK    OK  YES
Package 31/65HostnameOS / ArchINSTALLBUILDCHECKBUILD BIN
icetea 1.29.0  (landing page)
Vivek Bhardwaj
git_last_commit: 2bfbdfd
git_last_commit_date: 2025-10-29 10:45:57 -0500
nebbiolo1Linux (Ubuntu 24.04.3 LTS) / x86_64  OK    OK    WARNINGS  YES
Package 32/65HostnameOS / ArchINSTALLBUILDCHECKBUILD BIN
igvR 1.31.0  (landing page)
Arkadiusz Gladki
git_last_commit: 62be310
git_last_commit_date: 2025-10-29 10:45:01 -0500
nebbiolo1Linux (Ubuntu 24.04.3 LTS) / x86_64  OK    OK    OK  YES
Package 33/65HostnameOS / ArchINSTALLBUILDCHECKBUILD BIN
karyoploteR 1.37.0  (landing page)
Bernat Gel
git_last_commit: fd32b1e
git_last_commit_date: 2025-10-29 10:36:38 -0500
nebbiolo1Linux (Ubuntu 24.04.3 LTS) / x86_64  OK    OK    OK  YES
Package 34/65HostnameOS / ArchINSTALLBUILDCHECKBUILD BIN
katdetectr 1.13.0  (landing page)
Daan Hazelaar
git_last_commit: 01624d8
git_last_commit_date: 2025-10-29 11:17:25 -0500
nebbiolo1Linux (Ubuntu 24.04.3 LTS) / x86_64  OK    OK    OK  YES
Package 35/65HostnameOS / ArchINSTALLBUILDCHECKBUILD BIN
lineagespot 1.15.0  (landing page)
Nikolaos Pechlivanis
git_last_commit: 409c851
git_last_commit_date: 2025-10-29 11:14:52 -0500
nebbiolo1Linux (Ubuntu 24.04.3 LTS) / x86_64  OK    OK    OK  YES
Package 36/65HostnameOS / ArchINSTALLBUILDCHECKBUILD BIN
motifbreakR 2.25.0  (landing page)
Simon Gert Coetzee
git_last_commit: 21e6965
git_last_commit_date: 2025-10-29 10:27:43 -0500
nebbiolo1Linux (Ubuntu 24.04.3 LTS) / x86_64  OK    ERROR  skipped
Package 37/65HostnameOS / ArchINSTALLBUILDCHECKBUILD BIN
MungeSumstats 1.19.0  (landing page)
Alan Murphy
git_last_commit: d3c5588
git_last_commit_date: 2025-10-29 11:08:14 -0500
nebbiolo1Linux (Ubuntu 24.04.3 LTS) / x86_64  OK    OK    OK  YES
Package 38/65HostnameOS / ArchINSTALLBUILDCHECKBUILD BIN
musicatk 2.5.0  (landing page)
Joshua D. Campbell
git_last_commit: ec6bf01
git_last_commit_date: 2025-10-29 11:03:52 -0500
nebbiolo1Linux (Ubuntu 24.04.3 LTS) / x86_64  OK    OK    OK  YES
Package 39/65HostnameOS / ArchINSTALLBUILDCHECKBUILD BIN
MutationalPatterns 3.21.0  (landing page)
Mark van Roosmalen
git_last_commit: b3f3115
git_last_commit_date: 2025-10-29 10:35:07 -0500
nebbiolo1Linux (Ubuntu 24.04.3 LTS) / x86_64  OK    OK    ERROR  
Package 40/65HostnameOS / ArchINSTALLBUILDCHECKBUILD BIN
myvariant 1.41.0  (landing page)
Adam Mark, Chunlei Wu
git_last_commit: a081fd4
git_last_commit_date: 2025-10-29 10:27:24 -0500
nebbiolo1Linux (Ubuntu 24.04.3 LTS) / x86_64  OK    ERROR  skipped
Package 41/65HostnameOS / ArchINSTALLBUILDCHECKBUILD BIN
ProteoDisco 1.17.0  (landing page)
Job van Riet
git_last_commit: 583baa5
git_last_commit_date: 2025-10-29 11:11:51 -0500
nebbiolo1Linux (Ubuntu 24.04.3 LTS) / x86_64  OK    OK    WARNINGS  YES
Package 42/65HostnameOS / ArchINSTALLBUILDCHECKBUILD BIN
PureCN 2.17.0  (landing page)
Markus Riester
git_last_commit: 3330cff
git_last_commit_date: 2025-10-29 10:31:57 -0500
nebbiolo1Linux (Ubuntu 24.04.3 LTS) / x86_64  OK    OK    OK  YES
Package 43/65HostnameOS / ArchINSTALLBUILDCHECKBUILD BIN
R453Plus1Toolbox 1.61.0  (landing page)
Hans-Ulrich Klein
git_last_commit: b396ba9
git_last_commit_date: 2025-10-29 10:06:02 -0500
nebbiolo1Linux (Ubuntu 24.04.3 LTS) / x86_64  OK    ERROR  skipped
Package 44/65HostnameOS / ArchINSTALLBUILDCHECKBUILD BIN
RAIDS 1.9.0  (landing page)
Pascal Belleau
git_last_commit: 27cee94
git_last_commit_date: 2025-10-29 11:25:36 -0500
nebbiolo1Linux (Ubuntu 24.04.3 LTS) / x86_64  OK    OK    OK  NO, package depends on 'GENESIS' which is not available
Package 45/65HostnameOS / ArchINSTALLBUILDCHECKBUILD BIN
RareVariantVis 2.39.0  (landing page)
Tomasz Stokowy
git_last_commit: 8b234dc
git_last_commit_date: 2025-10-29 10:26:20 -0500
nebbiolo1Linux (Ubuntu 24.04.3 LTS) / x86_64  OK    OK    OK  YES
Package 46/65HostnameOS / ArchINSTALLBUILDCHECKBUILD BIN
scoreInvHap 1.33.0  (landing page)
Dolors Pelegri-Siso
git_last_commit: e410f84
git_last_commit_date: 2025-10-29 10:39:17 -0500
nebbiolo1Linux (Ubuntu 24.04.3 LTS) / x86_64  OK    OK    OK  YES
Package 47/65HostnameOS / ArchINSTALLBUILDCHECKBUILD BIN
seqCAT 1.33.0  (landing page)
Erik Fasterius
git_last_commit: 52e812d
git_last_commit_date: 2025-10-29 10:40:54 -0500
nebbiolo1Linux (Ubuntu 24.04.3 LTS) / x86_64  OK    OK    OK  YES
Package 48/65HostnameOS / ArchINSTALLBUILDCHECKBUILD BIN
signeR 2.13.0  (landing page)
Renan Valieris
git_last_commit: 54b8b4d
git_last_commit_date: 2025-10-29 10:34:16 -0500
nebbiolo1Linux (Ubuntu 24.04.3 LTS) / x86_64  OK    OK    OK  YES
Package 49/65HostnameOS / ArchINSTALLBUILDCHECKBUILD BIN
SigsPack 1.25.0  (landing page)
Franziska Schumann
git_last_commit: 76511e2
git_last_commit_date: 2025-10-29 10:53:42 -0500
nebbiolo1Linux (Ubuntu 24.04.3 LTS) / x86_64  OK    OK    OK  YES
Package 50/65HostnameOS / ArchINSTALLBUILDCHECKBUILD BIN
SNPhood 1.41.0  (landing page)
Christian Arnold
git_last_commit: 4de7497
git_last_commit_date: 2025-10-29 10:28:24 -0500
nebbiolo1Linux (Ubuntu 24.04.3 LTS) / x86_64  OK    OK    OK  YES
Package 51/65HostnameOS / ArchINSTALLBUILDCHECKBUILD BIN
SomaticSignatures 2.47.0  (landing page)
Julian Gehring
git_last_commit: 97b6de8
git_last_commit_date: 2025-10-29 10:17:57 -0500
nebbiolo1Linux (Ubuntu 24.04.3 LTS) / x86_64  OK    OK    OK  YES
Package 52/65HostnameOS / ArchINSTALLBUILDCHECKBUILD BIN
StructuralVariantAnnotation 1.27.0  (landing page)
Daniel Cameron
git_last_commit: 72cd374
git_last_commit_date: 2025-10-29 10:52:25 -0500
nebbiolo1Linux (Ubuntu 24.04.3 LTS) / x86_64  OK    OK    OK  YES
Package 53/65HostnameOS / ArchINSTALLBUILDCHECKBUILD BIN
svaNUMT 1.17.0  (landing page)
Ruining Dong
git_last_commit: 798135e
git_last_commit_date: 2025-10-29 11:10:38 -0500
nebbiolo1Linux (Ubuntu 24.04.3 LTS) / x86_64  OK    OK    OK  YES
Package 54/65HostnameOS / ArchINSTALLBUILDCHECKBUILD BIN
svaRetro 1.17.0  (landing page)
Ruining Dong
git_last_commit: be18f25
git_last_commit_date: 2025-10-29 11:11:45 -0500
nebbiolo1Linux (Ubuntu 24.04.3 LTS) / x86_64  OK    ERROR  skipped
Package 55/65HostnameOS / ArchINSTALLBUILDCHECKBUILD BIN
tadar 1.9.0  (landing page)
Lachlan Baer
git_last_commit: 7b05448
git_last_commit_date: 2025-10-29 11:25:24 -0500
nebbiolo1Linux (Ubuntu 24.04.3 LTS) / x86_64  OK    OK    OK  YES
Package 56/65HostnameOS / ArchINSTALLBUILDCHECKBUILD BIN
tLOH 1.19.0  (landing page)
Michelle Webb
git_last_commit: 7e311df
git_last_commit_date: 2025-10-29 11:08:42 -0500
nebbiolo1Linux (Ubuntu 24.04.3 LTS) / x86_64  OK    OK    OK  YES
Package 57/65HostnameOS / ArchINSTALLBUILDCHECKBUILD BIN
transmogR 1.7.0  (landing page)
Stevie Pederson
git_last_commit: ad3458d
git_last_commit_date: 2025-10-29 11:27:49 -0500
nebbiolo1Linux (Ubuntu 24.04.3 LTS) / x86_64  OK    OK    OK  YES
Package 58/65HostnameOS / ArchINSTALLBUILDCHECKBUILD BIN
TVTB 1.37.0  (landing page)
Kevin Rue-Albrecht
git_last_commit: 7c8a13b
git_last_commit_date: 2025-10-29 10:35:21 -0500
nebbiolo1Linux (Ubuntu 24.04.3 LTS) / x86_64  OK    OK    OK  YES
Package 59/65HostnameOS / ArchINSTALLBUILDCHECKBUILD BIN
Uniquorn 2.31.0  (landing page)
Raik Otto
git_last_commit: baa8db3
git_last_commit_date: 2025-10-29 10:30:32 -0500
nebbiolo1Linux (Ubuntu 24.04.3 LTS) / x86_64  OK    OK    OK  YES
Package 60/65HostnameOS / ArchINSTALLBUILDCHECKBUILD BIN
UPDhmm 1.7.0  (landing page)
Marta Sevilla
git_last_commit: 031c3fa
git_last_commit_date: 2025-10-29 11:29:26 -0500
nebbiolo1Linux (Ubuntu 24.04.3 LTS) / x86_64  OK    OK    OK  YES
Package 61/65HostnameOS / ArchINSTALLBUILDCHECKBUILD BIN
VariantFiltering 1.47.0  (landing page)
Robert Castelo
git_last_commit: 270d88d
git_last_commit_date: 2025-10-29 10:19:08 -0500
nebbiolo1Linux (Ubuntu 24.04.3 LTS) / x86_64  OK    OK    OK  YES
Package 62/65HostnameOS / ArchINSTALLBUILDCHECKBUILD BIN
VariantTools 1.53.0  (landing page)
Michael Lawrence
git_last_commit: 4083347
git_last_commit_date: 2025-10-29 10:12:36 -0500
nebbiolo1Linux (Ubuntu 24.04.3 LTS) / x86_64  OK    ERROR  skipped
Package 63/65HostnameOS / ArchINSTALLBUILDCHECKBUILD BIN
VCFArray 1.27.0  (landing page)
Qian Liu
git_last_commit: c9fb606
git_last_commit_date: 2025-10-29 10:49:16 -0500
nebbiolo1Linux (Ubuntu 24.04.3 LTS) / x86_64  OK    OK    OK  YES
Package 64/65HostnameOS / ArchINSTALLBUILDCHECKBUILD BIN
YAPSA 1.37.0  (landing page)
Zuguang Gu
git_last_commit: f37ad09
git_last_commit_date: 2025-10-29 10:34:03 -0500
nebbiolo1Linux (Ubuntu 24.04.3 LTS) / x86_64  OK    OK    OK  YES
Package 65/65HostnameOS / ArchINSTALLBUILDCHECKBUILD BIN
ZygosityPredictor 1.11.0  (landing page)
Marco Rheinnecker
git_last_commit: 21ba67a
git_last_commit_date: 2025-10-29 11:22:08 -0500
nebbiolo1Linux (Ubuntu 24.04.3 LTS) / x86_64  OK    OK    OK  YES