Back to Build/check report for BioC 3.23:   simplified   long
ABCDEFGHIJKLMNOPQRS[T]UVWXYZ

This page was generated on 2025-11-08 11:32 -0500 (Sat, 08 Nov 2025).

HostnameOSArch (*)R versionInstalled pkgs
nebbiolo1Linux (Ubuntu 24.04.3 LTS)x86_64R Under development (unstable) (2025-10-20 r88955) -- "Unsuffered Consequences" 4821
Click on any hostname to see more info about the system (e.g. compilers)      (*) as reported by 'uname -p', except on Windows and Mac OS X

Package 2227/2323HostnameOS / ArchINSTALLBUILDCHECKBUILD BIN
TRESS 1.17.0  (landing page)
Zhenxing Guo
Snapshot Date: 2025-11-07 13:40 -0500 (Fri, 07 Nov 2025)
git_url: https://git.bioconductor.org/packages/TRESS
git_branch: devel
git_last_commit: 36f1f10
git_last_commit_date: 2025-10-29 11:12:49 -0500 (Wed, 29 Oct 2025)
nebbiolo1Linux (Ubuntu 24.04.3 LTS) / x86_64  OK    OK    OK  UNNEEDED, same version is already published


CHECK results for TRESS on nebbiolo1

To the developers/maintainers of the TRESS package:
- Allow up to 24 hours (and sometimes 48 hours) for your latest push to git@git.bioconductor.org:packages/TRESS.git to reflect on this report. See Troubleshooting Build Report for more information.
- Use the following Renviron settings to reproduce errors and warnings.
- If 'R CMD check' started to fail recently on the Linux builder(s) over a missing dependency, add the missing dependency to 'Suggests:' in your DESCRIPTION file. See Renviron.bioc for more information.

raw results


Summary

Package: TRESS
Version: 1.17.0
Command: /home/biocbuild/bbs-3.23-bioc/R/bin/R CMD check --install=check:TRESS.install-out.txt --library=/home/biocbuild/bbs-3.23-bioc/R/site-library --timings TRESS_1.17.0.tar.gz
StartedAt: 2025-11-08 04:55:06 -0500 (Sat, 08 Nov 2025)
EndedAt: 2025-11-08 04:59:40 -0500 (Sat, 08 Nov 2025)
EllapsedTime: 273.3 seconds
RetCode: 0
Status:   OK  
CheckDir: TRESS.Rcheck
Warnings: 0

Command output

##############################################################################
##############################################################################
###
### Running command:
###
###   /home/biocbuild/bbs-3.23-bioc/R/bin/R CMD check --install=check:TRESS.install-out.txt --library=/home/biocbuild/bbs-3.23-bioc/R/site-library --timings TRESS_1.17.0.tar.gz
###
##############################################################################
##############################################################################


* using log directory ‘/home/biocbuild/bbs-3.23-bioc/meat/TRESS.Rcheck’
* using R Under development (unstable) (2025-10-20 r88955)
* using platform: x86_64-pc-linux-gnu
* R was compiled by
    gcc (Ubuntu 13.3.0-6ubuntu2~24.04) 13.3.0
    GNU Fortran (Ubuntu 13.3.0-6ubuntu2~24.04) 13.3.0
* running under: Ubuntu 24.04.3 LTS
* using session charset: UTF-8
* checking for file ‘TRESS/DESCRIPTION’ ... OK
* checking extension type ... Package
* this is package ‘TRESS’ version ‘1.17.0’
* package encoding: UTF-8
* checking package namespace information ... OK
* checking package dependencies ... INFO
Vignette dependency required without any vignettes: ‘knitr’
* checking if this is a source package ... OK
* checking if there is a namespace ... OK
* checking for hidden files and directories ... OK
* checking for portable file names ... OK
* checking for sufficient/correct file permissions ... OK
* checking whether package ‘TRESS’ can be installed ... OK
* checking installed package size ... OK
* checking package directory ... OK
* checking DESCRIPTION meta-information ... OK
* checking top-level files ... OK
* checking for left-over files ... OK
* checking index information ... OK
* checking package subdirectories ... OK
* checking code files for non-ASCII characters ... OK
* checking R files for syntax errors ... OK
* checking whether the package can be loaded ... OK
* checking whether the package can be loaded with stated dependencies ... OK
* checking whether the package can be unloaded cleanly ... OK
* checking whether the namespace can be loaded with stated dependencies ... OK
* checking whether the namespace can be unloaded cleanly ... OK
* checking loading without being on the library search path ... OK
* checking dependencies in R code ... OK
* checking S3 generic/method consistency ... OK
* checking replacement functions ... OK
* checking foreign function calls ... OK
* checking R code for possible problems ... OK
* checking Rd files ... NOTE
checkRd: (-1) CallCandidates.Rd:61: Escaped LaTeX specials: \&
checkRd: (-1) CallCandidates.Rd:63: Escaped LaTeX specials: \&
checkRd: (-1) CallPeaks.multiRep.Rd:7: Escaped LaTeX specials: \&
checkRd: (-1) CallPeaks.paramEsti.Rd:10: Escaped LaTeX specials: \&
checkRd: (-1) CallPeaks.paramEsti.Rd:23: Escaped LaTeX specials: \&
checkRd: (-1) findBumps.Rd:8: Escaped LaTeX specials: \&
* checking Rd metadata ... OK
* checking Rd cross-references ... OK
* checking for missing documentation entries ... OK
* checking for code/documentation mismatches ... OK
* checking Rd \usage sections ... OK
* checking Rd contents ... OK
* checking for unstated dependencies in examples ... OK
* checking contents of ‘data’ directory ... OK
* checking data for non-ASCII characters ... OK
* checking data for ASCII and uncompressed saves ... OK
* checking examples ... OK
Examples with CPU (user + system) or elapsed time > 5s
                     user system elapsed
CoefName           21.199  3.454  17.923
CallDMRs.paramEsti 20.947  2.120  15.327
TRESS_DMRtest      19.933  1.121  13.275
DMRInfer            9.344  1.137   0.183
CallPeaks.multiRep  6.859  1.290   1.948
* checking PDF version of manual ... OK
* DONE

Status: 1 NOTE
See
  ‘/home/biocbuild/bbs-3.23-bioc/meat/TRESS.Rcheck/00check.log’
for details.


Installation output

TRESS.Rcheck/00install.out

##############################################################################
##############################################################################
###
### Running command:
###
###   /home/biocbuild/bbs-3.23-bioc/R/bin/R CMD INSTALL TRESS
###
##############################################################################
##############################################################################


* installing to library ‘/home/biocbuild/bbs-3.23-bioc/R/site-library’
* installing *source* package ‘TRESS’ ...
** this is package ‘TRESS’ version ‘1.17.0’
** using staged installation
** R
** data
** inst
** byte-compile and prepare package for lazy loading
** help
*** installing help indices
** building package indices
** testing if installed package can be loaded from temporary location
** testing if installed package can be loaded from final location
** testing if installed package keeps a record of temporary installation path
* DONE (TRESS)

Tests output


Example timings

TRESS.Rcheck/TRESS-Ex.timings

nameusersystemelapsed
CallCandidates1.5280.1221.651
CallDMRs.paramEsti20.947 2.12015.327
CallPeaks.multiRep6.8591.2901.948
CallPeaks.oneRep0.0660.0250.091
CallPeaks.paramEsti1.7100.0511.761
CoefName21.199 3.45417.923
DMRInfer9.3441.1370.183
DivideBins0.0010.0000.001
ShowOnePeak1.0890.3601.452
TRESS_DMRfit0.0000.0010.000
TRESS_DMRtest19.933 1.12113.275
TRESS_peak0.0000.0010.000
filterRegions0.0080.0010.009
findBumps4.3240.2070.081
meRatio0.0160.0010.017