| Back to Build/check report for BioC 3.22: simplified long | 
 | 
This page was generated on 2025-10-27 12:45 -0400 (Mon, 27 Oct 2025).
| Hostname | OS | Arch (*) | R version | Installed pkgs | 
|---|---|---|---|---|
| kjohnson3 | macOS 13.7.7 Ventura | arm64 | 4.5.1 Patched (2025-09-10 r88807) -- "Great Square Root" | 4637 | 
| Click on any hostname to see more info about the system (e.g. compilers) (*) as reported by 'uname -p', except on Windows and Mac OS X | ||||
| Package 2207/2361 | Hostname | OS / Arch | INSTALL | BUILD | CHECK | BUILD BIN | ||||||||
| TFutils 1.29.1  (landing page) Vincent Carey 
 | kjohnson3 | macOS 13.7.7 Ventura / arm64 | OK | OK | OK | OK |  | |||||||
| To the developers/maintainers of the TFutils package: - Allow up to 24 hours (and sometimes 48 hours) for your latest push to git@git.bioconductor.org:packages/TFutils.git to reflect on this report. See Troubleshooting Build Report for more information. - Use the following Renviron settings to reproduce errors and warnings. - If 'R CMD check' started to fail recently on the Linux builder(s) over a missing dependency, add the missing dependency to 'Suggests:' in your DESCRIPTION file. See Renviron.bioc for more information. | 
| Package: TFutils | 
| Version: 1.29.1 | 
| Command: /Library/Frameworks/R.framework/Resources/bin/R CMD build --keep-empty-dirs --no-resave-data TFutils | 
| StartedAt: 2025-10-26 18:13:15 -0400 (Sun, 26 Oct 2025) | 
| EndedAt: 2025-10-26 18:17:48 -0400 (Sun, 26 Oct 2025) | 
| EllapsedTime: 273.1 seconds | 
| RetCode: 0 | 
| Status: OK | 
| PackageFile: TFutils_1.29.1.tar.gz | 
| PackageFileSize: 6.014 MiB | 
############################################################################## ############################################################################## ### ### Running command: ### ### /Library/Frameworks/R.framework/Resources/bin/R CMD build --keep-empty-dirs --no-resave-data TFutils ### ############################################################################## ############################################################################## * checking for file ‘TFutils/DESCRIPTION’ ... OK * preparing ‘TFutils’: * checking DESCRIPTION meta-information ... OK * installing the package to build vignettes * creating vignettes ... OK * checking for LF line-endings in source and make files and shell scripts * checking for empty or unneeded directories * building ‘TFutils_1.29.1.tar.gz’