Back to Multiple platform build/check report for BioC 3.23:   simplified   long
ABCDEFGHIJKLMNOPQR[S]TUVWXYZ

This page was generated on 2025-11-18 11:39 -0500 (Tue, 18 Nov 2025).

HostnameOSArch (*)R versionInstalled pkgs
nebbiolo1Linux (Ubuntu 24.04.3 LTS)x86_64R Under development (unstable) (2025-10-20 r88955) -- "Unsuffered Consequences" 4826
lconwaymacOS 12.7.6 Montereyx86_64R Under development (unstable) (2025-10-21 r88958) -- "Unsuffered Consequences" 4561
kjohnson3macOS 13.7.7 Venturaarm64R Under development (unstable) (2025-11-04 r88984) -- "Unsuffered Consequences" 4562
Click on any hostname to see more info about the system (e.g. compilers)      (*) as reported by 'uname -p', except on Windows and Mac OS X

Package 2105/2325HostnameOS / ArchINSTALLBUILDCHECKBUILD BIN
Statial 1.13.0  (landing page)
Farhan Ameen
Snapshot Date: 2025-11-17 13:40 -0500 (Mon, 17 Nov 2025)
git_url: https://git.bioconductor.org/packages/Statial
git_branch: devel
git_last_commit: 2a5a1ee
git_last_commit_date: 2025-10-29 11:19:57 -0500 (Wed, 29 Oct 2025)
nebbiolo1Linux (Ubuntu 24.04.3 LTS) / x86_64  OK    OK    OK  UNNEEDED, same version is already published
lconwaymacOS 12.7.6 Monterey / x86_64  OK    OK    OK    OK  YES
kjohnson3macOS 13.7.7 Ventura / arm64  OK    OK    OK    OK  UNNEEDED, same version is already published


CHECK results for Statial on lconway

To the developers/maintainers of the Statial package:
- Allow up to 24 hours (and sometimes 48 hours) for your latest push to git@git.bioconductor.org:packages/Statial.git to reflect on this report. See Troubleshooting Build Report for more information.
- Use the following Renviron settings to reproduce errors and warnings.
- If 'R CMD check' started to fail recently on the Linux builder(s) over a missing dependency, add the missing dependency to 'Suggests:' in your DESCRIPTION file. See Renviron.bioc for more information.

raw results


Summary

Package: Statial
Version: 1.13.0
Command: /Library/Frameworks/R.framework/Resources/bin/R CMD check --install=check:Statial.install-out.txt --library=/Library/Frameworks/R.framework/Resources/library --no-vignettes --timings Statial_1.13.0.tar.gz
StartedAt: 2025-11-18 06:00:23 -0500 (Tue, 18 Nov 2025)
EndedAt: 2025-11-18 06:12:19 -0500 (Tue, 18 Nov 2025)
EllapsedTime: 716.1 seconds
RetCode: 0
Status:   OK  
CheckDir: Statial.Rcheck
Warnings: 0

Command output

##############################################################################
##############################################################################
###
### Running command:
###
###   /Library/Frameworks/R.framework/Resources/bin/R CMD check --install=check:Statial.install-out.txt --library=/Library/Frameworks/R.framework/Resources/library --no-vignettes --timings Statial_1.13.0.tar.gz
###
##############################################################################
##############################################################################


* using log directory ‘/Users/biocbuild/bbs-3.23-bioc/meat/Statial.Rcheck’
* using R Under development (unstable) (2025-10-21 r88958)
* using platform: x86_64-apple-darwin20
* R was compiled by
    Apple clang version 14.0.0 (clang-1400.0.29.202)
    GNU Fortran (GCC) 14.2.0
* running under: macOS Ventura 13.7.8
* using session charset: UTF-8
* using option ‘--no-vignettes’
* checking for file ‘Statial/DESCRIPTION’ ... OK
* checking extension type ... Package
* this is package ‘Statial’ version ‘1.13.0’
* package encoding: UTF-8
* checking package namespace information ... OK
* checking package dependencies ... INFO
Imports includes 23 non-default packages.
Importing from so many packages makes the package vulnerable to any of
them becoming unavailable.  Move as many as possible to Suggests and
use conditionally.
* checking if this is a source package ... OK
* checking if there is a namespace ... OK
* checking for hidden files and directories ... OK
* checking for portable file names ... OK
* checking for sufficient/correct file permissions ... OK
* checking whether package ‘Statial’ can be installed ... OK
* checking installed package size ... OK
* checking package directory ... OK
* checking ‘build’ directory ... OK
* checking DESCRIPTION meta-information ... OK
* checking top-level files ... OK
* checking for left-over files ... OK
* checking index information ... OK
* checking package subdirectories ... OK
* checking code files for non-ASCII characters ... OK
* checking R files for syntax errors ... OK
* checking whether the package can be loaded ... OK
* checking whether the package can be loaded with stated dependencies ... OK
* checking whether the package can be unloaded cleanly ... OK
* checking whether the namespace can be loaded with stated dependencies ... OK
* checking whether the namespace can be unloaded cleanly ... OK
* checking dependencies in R code ... NOTE
Namespaces in Imports field not imported from:
  ‘cluster’ ‘spatstat.explore’ ‘treekoR’
  All declared Imports should be used.
There are ::: calls to the package's namespace in its code. A package
  almost never needs to use ::: for its own objects:
  ‘.generateBPParam’ ‘.quiet’
* checking S3 generic/method consistency ... OK
* checking replacement functions ... OK
* checking foreign function calls ... OK
* checking R code for possible problems ... NOTE
.Kontext: no visible binding for global variable ‘cellTypeI’
.Kontext: no visible binding for global variable ‘cellTypeJ’
.Kontext: no visible binding for global variable ‘weightParent’
.Kontext: no visible binding for global variable ‘edge’
.Kontext: no visible binding for global variable ‘i’
.Kontext: no visible binding for global variable ‘j’
.Lfunction: no visible binding for global variable ‘cellTypeI’
.Linhomfunction: no visible binding for global variable ‘cellTypeI’
.Linhomfunction: no visible binding for global variable ‘cellTypeJ’
.Linhomfunction: no visible binding for global variable ‘weightParent’
.Linhomfunction: no visible binding for global variable ‘edge’
.Linhomfunction: no visible binding for global variable ‘i’
.Linhomfunction: no visible binding for global variable ‘j’
Kontextual : <anonymous> : <anonymous>: no visible binding for global
  variable ‘d’
Kontextual: no visible binding for global variable ‘test’
Kontextual: no visible binding for global variable ‘parent_name’
KontextualCore: no visible global function definition for ‘.’
KontextualCore: no visible binding for global variable ‘i’
KontextualCore: no visible binding for global variable ‘cellTypeI’
KontextualCore: no visible binding for global variable ‘cellTypeJ’
KontextualCore: no visible binding for global variable ‘Kontext’
calcContamination: no visible global function definition for ‘predict’
calcContamination: no visible binding for global variable ‘.’
calcContamination: no visible binding for global variable ‘cellID’
calcStateChanges: no visible binding for global variable ‘indx’
calcStateChanges: no visible binding for global variable
  ‘primaryCellType’
calcStateChanges: no visible binding for global variable
  ‘otherCellType’
calcStateChanges: no visible binding for global variable ‘coef’
calcStateChanges: no visible binding for global variable ‘tval’
calcStateChanges: no visible binding for global variable ‘pval’
calcStateChanges: no visible binding for global variable ‘fdr’
calculateChangesMarker : <anonymous> : <anonymous>: no visible global
  function definition for ‘var’
calculateChangesMarker : <anonymous>: no visible global function
  definition for ‘pt’
calculateChangesMarker : <anonymous>: no visible global function
  definition for ‘qnorm’
distanceCalculator: no visible binding for global variable ‘cellType’
distanceCalculator: no visible binding for global variable ‘d’
getMarkerMeans: no visible binding for global variable ‘value’
getParentPhylo: no visible binding for global variable ‘child’
getParentPhylo: no visible binding for global variable ‘parent’
getParentPhylo: no visible binding for global variable ‘children’
kontextCurve: no visible binding for global variable ‘type’
kontextCurve: no visible binding for global variable ‘r’
kontextCurve: no visible binding for global variable ‘original’
kontextCurve: no visible binding for global variable ‘kontextual’
kontextPlot: no visible binding for global variable ‘r’
kontextPlot: no visible binding for global variable ‘kontextualSd’
kontextPlot: no visible binding for global variable ‘originalSd’
kontextPlot: no visible binding for global variable ‘value’
kontextPlot: no visible binding for global variable ‘name’
kontextPlot: no visible binding for global variable ‘lower’
kontextPlot: no visible binding for global variable ‘upper’
parentCombinations: no visible binding for global variable ‘from’
parentCombinations: no visible binding for global variable ‘to’
plotStateChanges: no visible global function definition for ‘lm’
plotStateChanges: no visible global function definition for ‘formula’
plotStateChanges: no visible global function definition for ‘predict’
plotStateChanges: no visible binding for global variable ‘x’
plotStateChanges: no visible binding for global variable ‘y’
plotStateChanges: no visible binding for global variable ‘density’
plotStateChanges: no visible binding for global variable ‘lm’
prepMatrix: no visible binding for global variable ‘imageID’
prepMatrix: no visible binding for global variable ‘kontextual’
prepMatrix: no visible binding for global variable ‘primaryCellType’
prepMatrix: no visible binding for global variable ‘otherCellType’
prepMatrix: no visible binding for global variable ‘marker’
prepMatrix: no visible binding for global variable ‘type’
relabel: no visible binding for global variable ‘cellType’
Undefined global functions or variables:
  . Kontext cellID cellType cellTypeI cellTypeJ child children coef d
  density edge fdr formula from i imageID indx j kontextual
  kontextualSd lm lower marker name original originalSd otherCellType
  parent parent_name predict primaryCellType pt pval qnorm r test to
  tval type upper value var weightParent x y
Consider adding
  importFrom("stats", "coef", "density", "formula", "lm", "predict",
             "pt", "qnorm", "var")
to your NAMESPACE file.
* checking Rd files ... OK
* checking Rd metadata ... OK
* checking Rd cross-references ... OK
* checking for missing documentation entries ... OK
* checking for code/documentation mismatches ... OK
* checking Rd \usage sections ... OK
* checking Rd contents ... OK
* checking for unstated dependencies in examples ... OK
* checking contents of ‘data’ directory ... OK
* checking data for non-ASCII characters ... OK
* checking data for ASCII and uncompressed saves ... OK
* checking files in ‘vignettes’ ... OK
* checking examples ... OK
Examples with CPU (user + system) or elapsed time > 5s
                     user system elapsed
kontextCurve      443.004 82.358 207.792
plotStateChanges   79.661 19.860 100.197
calcContamination  84.260  1.732  51.100
kontextPlot        49.332 14.647  37.725
relabelKontextual  26.817  9.170  25.888
getMarkerMeans     21.461  1.168  22.792
getDistances        9.497  0.555  10.124
getAbundances       8.153  0.516   8.719
calcStateChanges    5.513  0.246   5.790
* checking for unstated dependencies in ‘tests’ ... OK
* checking tests ...
  Running ‘testthat.R’
 OK
* checking for unstated dependencies in vignettes ... OK
* checking package vignettes ... OK
* checking running R code from vignettes ... SKIPPED
* checking re-building of vignette outputs ... SKIPPED
* checking PDF version of manual ... OK
* DONE

Status: 2 NOTEs
See
  ‘/Users/biocbuild/bbs-3.23-bioc/meat/Statial.Rcheck/00check.log’
for details.


Installation output

Statial.Rcheck/00install.out

##############################################################################
##############################################################################
###
### Running command:
###
###   /Library/Frameworks/R.framework/Resources/bin/R CMD INSTALL Statial
###
##############################################################################
##############################################################################


* installing to library ‘/Library/Frameworks/R.framework/Versions/4.6-x86_64/Resources/library’
* installing *source* package ‘Statial’ ...
** this is package ‘Statial’ version ‘1.13.0’
** using staged installation
** R
** data
** inst
** byte-compile and prepare package for lazy loading
** help
*** installing help indices
** building package indices
** installing vignettes
** testing if installed package can be loaded from temporary location
** testing if installed package can be loaded from final location
** testing if installed package keeps a record of temporary installation path
* DONE (Statial)

Tests output

Statial.Rcheck/tests/testthat.Rout


R Under development (unstable) (2025-10-21 r88958) -- "Unsuffered Consequences"
Copyright (C) 2025 The R Foundation for Statistical Computing
Platform: x86_64-apple-darwin20

R is free software and comes with ABSOLUTELY NO WARRANTY.
You are welcome to redistribute it under certain conditions.
Type 'license()' or 'licence()' for distribution details.

R is a collaborative project with many contributors.
Type 'contributors()' for more information and
'citation()' on how to cite R or R packages in publications.

Type 'demo()' for some demos, 'help()' for on-line help, or
'help.start()' for an HTML browser interface to help.
Type 'q()' to quit R.

> # This file is part of the standard setup for testthat.
> # It is recommended that you do not modify it.
> #
> # Where should you do additional test configuration?
> # Learn more about the roles of various files in:
> # * https://r-pkgs.org/tests.html
> # * https://testthat.r-lib.org/reference/test_package.html#special-files
> 
> library(testthat)
> library(Statial)
> 
> test_check("Statial")
[ FAIL 0 | WARN 0 | SKIP 0 | PASS 3 ]
> 
> proc.time()
   user  system elapsed 
 11.734   0.668  12.474 

Example timings

Statial.Rcheck/Statial-Ex.timings

nameusersystemelapsed
Kontextual3.0650.0733.162
calcContamination84.260 1.73251.100
calcStateChanges5.5130.2465.790
getAbundances8.1530.5168.719
getDistances 9.497 0.55510.124
getMarkerMeans21.461 1.16822.792
isKontextual000
kontextCurve443.004 82.358207.792
kontextPlot49.33214.64737.725
makeWindow0.0030.0010.006
parentCombinations0.0280.0040.032
plotStateChanges 79.661 19.860100.197
prepMatrix1.3370.0311.375
relabelKontextual26.817 9.17025.888