Back to Build/check report for BioC 3.23:   simplified   long
ABCDEFGHIJKLMNOPQR[S]TUVWXYZ

This page was generated on 2025-11-07 11:32 -0500 (Fri, 07 Nov 2025).

HostnameOSArch (*)R versionInstalled pkgs
nebbiolo1Linux (Ubuntu 24.04.3 LTS)x86_64R Under development (unstable) (2025-10-20 r88955) -- "Unsuffered Consequences" 4818
Click on any hostname to see more info about the system (e.g. compilers)      (*) as reported by 'uname -p', except on Windows and Mac OS X

Package 2060/2323HostnameOS / ArchINSTALLBUILDCHECKBUILD BIN
SpectriPy 1.1.0  (landing page)
Johannes Rainer
Snapshot Date: 2025-11-06 13:40 -0500 (Thu, 06 Nov 2025)
git_url: https://git.bioconductor.org/packages/SpectriPy
git_branch: devel
git_last_commit: 09e5773
git_last_commit_date: 2025-10-29 11:36:52 -0500 (Wed, 29 Oct 2025)
nebbiolo1Linux (Ubuntu 24.04.3 LTS) / x86_64  OK    OK    OK  UNNEEDED, same version is already published


CHECK results for SpectriPy on nebbiolo1

To the developers/maintainers of the SpectriPy package:
- Allow up to 24 hours (and sometimes 48 hours) for your latest push to git@git.bioconductor.org:packages/SpectriPy.git to reflect on this report. See Troubleshooting Build Report for more information.
- Use the following Renviron settings to reproduce errors and warnings.
- If 'R CMD check' started to fail recently on the Linux builder(s) over a missing dependency, add the missing dependency to 'Suggests:' in your DESCRIPTION file. See Renviron.bioc for more information.

raw results


Summary

Package: SpectriPy
Version: 1.1.0
Command: /home/biocbuild/bbs-3.23-bioc/R/bin/R CMD check --install=check:SpectriPy.install-out.txt --library=/home/biocbuild/bbs-3.23-bioc/R/site-library --timings SpectriPy_1.1.0.tar.gz
StartedAt: 2025-11-07 04:05:03 -0500 (Fri, 07 Nov 2025)
EndedAt: 2025-11-07 04:18:12 -0500 (Fri, 07 Nov 2025)
EllapsedTime: 789.0 seconds
RetCode: 0
Status:   OK  
CheckDir: SpectriPy.Rcheck
Warnings: 0

Command output

##############################################################################
##############################################################################
###
### Running command:
###
###   /home/biocbuild/bbs-3.23-bioc/R/bin/R CMD check --install=check:SpectriPy.install-out.txt --library=/home/biocbuild/bbs-3.23-bioc/R/site-library --timings SpectriPy_1.1.0.tar.gz
###
##############################################################################
##############################################################################


* using log directory ‘/home/biocbuild/bbs-3.23-bioc/meat/SpectriPy.Rcheck’
* using R Under development (unstable) (2025-10-20 r88955)
* using platform: x86_64-pc-linux-gnu
* R was compiled by
    gcc (Ubuntu 13.3.0-6ubuntu2~24.04) 13.3.0
    GNU Fortran (Ubuntu 13.3.0-6ubuntu2~24.04) 13.3.0
* running under: Ubuntu 24.04.3 LTS
* using session charset: UTF-8
* checking for file ‘SpectriPy/DESCRIPTION’ ... OK
* this is package ‘SpectriPy’ version ‘1.1.0’
* package encoding: UTF-8
* checking package namespace information ... OK
* checking package dependencies ... OK
* checking if this is a source package ... OK
* checking if there is a namespace ... OK
* checking for hidden files and directories ... OK
* checking for portable file names ... OK
* checking for sufficient/correct file permissions ... OK
* checking whether package ‘SpectriPy’ can be installed ... OK
* checking installed package size ... OK
* checking package directory ... OK
* checking ‘build’ directory ... OK
* checking DESCRIPTION meta-information ... OK
* checking top-level files ... OK
* checking for left-over files ... OK
* checking index information ... OK
* checking package subdirectories ... OK
* checking code files for non-ASCII characters ... OK
* checking R files for syntax errors ... OK
* checking whether the package can be loaded ... OK
* checking whether the package can be loaded with stated dependencies ... OK
* checking whether the package can be unloaded cleanly ... OK
* checking whether the namespace can be loaded with stated dependencies ... OK
* checking whether the namespace can be unloaded cleanly ... OK
* checking loading without being on the library search path ... OK
* checking whether startup messages can be suppressed ... OK
* checking dependencies in R code ... NOTE
Unexported object imported by a ':::' call: ‘Spectra:::.check_peaks_data_value’
  See the note in ?`:::` about the use of this operator.
* checking S3 generic/method consistency ... OK
* checking replacement functions ... OK
* checking foreign function calls ... OK
* checking R code for possible problems ... OK
* checking Rd files ... OK
* checking Rd metadata ... OK
* checking Rd cross-references ... OK
* checking for missing documentation entries ... OK
* checking for code/documentation mismatches ... OK
* checking Rd \usage sections ... OK
* checking Rd contents ... OK
* checking for unstated dependencies in examples ... OK
* checking files in ‘vignettes’ ... OK
* checking examples ... OK
Examples with CPU (user + system) or elapsed time > 5s
             user system elapsed
MsBackendPy 5.335  0.782   5.974
* checking for unstated dependencies in ‘tests’ ... OK
* checking tests ...
  Running ‘testthat.R’
 OK
* checking for unstated dependencies in vignettes ... OK
* checking package vignettes ... OK
* checking re-building of vignette outputs ... OK
* checking PDF version of manual ... OK
* DONE

Status: 1 NOTE
See
  ‘/home/biocbuild/bbs-3.23-bioc/meat/SpectriPy.Rcheck/00check.log’
for details.


Installation output

SpectriPy.Rcheck/00install.out

##############################################################################
##############################################################################
###
### Running command:
###
###   /home/biocbuild/bbs-3.23-bioc/R/bin/R CMD INSTALL SpectriPy
###
##############################################################################
##############################################################################


* installing to library ‘/home/biocbuild/bbs-3.23-bioc/R/site-library’
* installing *source* package ‘SpectriPy’ ...
** this is package ‘SpectriPy’ version ‘1.1.0’
** using staged installation
** R
** inst
** byte-compile and prepare package for lazy loading
** help
*** installing help indices
*** copying figures
** building package indices
** installing vignettes
** testing if installed package can be loaded from temporary location
** testing if installed package can be loaded from final location
** testing if installed package keeps a record of temporary installation path
* DONE (SpectriPy)

Tests output

SpectriPy.Rcheck/tests/testthat.Rout


R Under development (unstable) (2025-10-20 r88955) -- "Unsuffered Consequences"
Copyright (C) 2025 The R Foundation for Statistical Computing
Platform: x86_64-pc-linux-gnu

R is free software and comes with ABSOLUTELY NO WARRANTY.
You are welcome to redistribute it under certain conditions.
Type 'license()' or 'licence()' for distribution details.

R is a collaborative project with many contributors.
Type 'contributors()' for more information and
'citation()' on how to cite R or R packages in publications.

Type 'demo()' for some demos, 'help()' for on-line help, or
'help.start()' for an HTML browser interface to help.
Type 'q()' to quit R.

> library(testthat)
> library(Spectra)
Loading required package: S4Vectors
Loading required package: stats4
Loading required package: BiocGenerics
Loading required package: generics

Attaching package: 'generics'

The following objects are masked from 'package:base':

    as.difftime, as.factor, as.ordered, intersect, is.element, setdiff,
    setequal, union


Attaching package: 'BiocGenerics'

The following objects are masked from 'package:stats':

    IQR, mad, sd, var, xtabs

The following objects are masked from 'package:base':

    Filter, Find, Map, Position, Reduce, anyDuplicated, aperm, append,
    as.data.frame, basename, cbind, colnames, dirname, do.call,
    duplicated, eval, evalq, get, grep, grepl, is.unsorted, lapply,
    mapply, match, mget, order, paste, pmax, pmax.int, pmin, pmin.int,
    rank, rbind, rownames, sapply, saveRDS, table, tapply, unique,
    unsplit, which.max, which.min


Attaching package: 'S4Vectors'

The following object is masked from 'package:utils':

    findMatches

The following objects are masked from 'package:base':

    I, expand.grid, unname

Loading required package: BiocParallel
> library(SpectriPy)
Loading required package: reticulate
> library(MsBackendMgf)
> 
> fl <- system.file("extdata", "mgf", "test.mgf", package = "SpectriPy")
> s <- Spectra(fl, source = MsBackendMgf())
Start data import from 1 files ... done
> s <- setBackend(s, MsBackendPy(), pythonVariableName = "py_be")
> 
> be <- s@backend
> 
> test_check("SpectriPy")
2025-11-07 04:09:31,915:WARNING:matchms:add_precursor_mz:No precursor_mz found in metadata.
2025-11-07 04:09:31,916:WARNING:matchms:add_precursor_mz:No precursor_mz found in metadata.
2025-11-07 04:09:31,917:WARNING:matchms:add_precursor_mz:No precursor_mz found in metadata.
2025-11-07 04:09:31,918:WARNING:matchms:add_precursor_mz:No precursor_mz found in metadata.
2025-11-07 04:09:31,919:WARNING:matchms:add_precursor_mz:No precursor_mz found in metadata.
2025-11-07 04:09:31,920:WARNING:matchms:add_precursor_mz:No precursor_mz found in metadata.
2025-11-07 04:09:31,921:WARNING:matchms:add_precursor_mz:No precursor_mz found in metadata.
2025-11-07 04:09:31,921:WARNING:matchms:add_precursor_mz:No precursor_mz found in metadata.
2025-11-07 04:09:31,922:WARNING:matchms:add_precursor_mz:No precursor_mz found in metadata.
2025-11-07 04:09:31,923:WARNING:matchms:add_precursor_mz:No precursor_mz found in metadata.
2025-11-07 04:09:31,924:WARNING:matchms:add_precursor_mz:No precursor_mz found in metadata.
2025-11-07 04:09:31,924:WARNING:matchms:add_precursor_mz:No precursor_mz found in metadata.
2025-11-07 04:09:31,925:WARNING:matchms:add_precursor_mz:No precursor_mz found in metadata.
2025-11-07 04:09:31,926:WARNING:matchms:add_precursor_mz:No precursor_mz found in metadata.
2025-11-07 04:09:31,927:WARNING:matchms:add_precursor_mz:No precursor_mz found in metadata.
2025-11-07 04:09:31,928:WARNING:matchms:add_precursor_mz:No precursor_mz found in metadata.
2025-11-07 04:09:31,928:WARNING:matchms:add_precursor_mz:No precursor_mz found in metadata.
2025-11-07 04:09:31,929:WARNING:matchms:add_precursor_mz:No precursor_mz found in metadata.
2025-11-07 04:09:31,930:WARNING:matchms:add_precursor_mz:No precursor_mz found in metadata.
2025-11-07 04:09:31,931:WARNING:matchms:add_precursor_mz:No precursor_mz found in metadata.
2025-11-07 04:09:31,931:WARNING:matchms:add_precursor_mz:No precursor_mz found in metadata.
2025-11-07 04:09:31,932:WARNING:matchms:add_precursor_mz:No precursor_mz found in metadata.
2025-11-07 04:09:31,933:WARNING:matchms:add_precursor_mz:No precursor_mz found in metadata.
2025-11-07 04:09:31,934:WARNING:matchms:add_precursor_mz:No precursor_mz found in metadata.
2025-11-07 04:09:31,935:WARNING:matchms:add_precursor_mz:No precursor_mz found in metadata.
2025-11-07 04:09:31,935:WARNING:matchms:add_precursor_mz:No precursor_mz found in metadata.
2025-11-07 04:09:31,936:WARNING:matchms:add_precursor_mz:No precursor_mz found in metadata.
2025-11-07 04:09:31,937:WARNING:matchms:add_precursor_mz:No precursor_mz found in metadata.
2025-11-07 04:09:31,938:WARNING:matchms:add_precursor_mz:No precursor_mz found in metadata.
2025-11-07 04:09:31,938:WARNING:matchms:add_precursor_mz:No precursor_mz found in metadata.
2025-11-07 04:09:31,939:WARNING:matchms:add_precursor_mz:No precursor_mz found in metadata.
2025-11-07 04:09:31,940:WARNING:matchms:add_precursor_mz:No precursor_mz found in metadata.
2025-11-07 04:09:31,941:WARNING:matchms:add_precursor_mz:No precursor_mz found in metadata.
2025-11-07 04:09:31,942:WARNING:matchms:add_precursor_mz:No precursor_mz found in metadata.
2025-11-07 04:09:31,942:WARNING:matchms:add_precursor_mz:No precursor_mz found in metadata.
2025-11-07 04:09:31,943:WARNING:matchms:add_precursor_mz:No precursor_mz found in metadata.
2025-11-07 04:09:31,944:WARNING:matchms:add_precursor_mz:No precursor_mz found in metadata.
2025-11-07 04:09:31,945:WARNING:matchms:add_precursor_mz:No precursor_mz found in metadata.
2025-11-07 04:09:31,946:WARNING:matchms:add_precursor_mz:No precursor_mz found in metadata.
2025-11-07 04:09:31,946:WARNING:matchms:add_precursor_mz:No precursor_mz found in metadata.
2025-11-07 04:09:31,947:WARNING:matchms:add_precursor_mz:No precursor_mz found in metadata.
2025-11-07 04:09:31,948:WARNING:matchms:add_precursor_mz:No precursor_mz found in metadata.
2025-11-07 04:09:31,949:WARNING:matchms:add_precursor_mz:No precursor_mz found in metadata.
2025-11-07 04:09:31,949:WARNING:matchms:add_precursor_mz:No precursor_mz found in metadata.
2025-11-07 04:09:31,950:WARNING:matchms:add_precursor_mz:No precursor_mz found in metadata.
2025-11-07 04:09:31,951:WARNING:matchms:add_precursor_mz:No precursor_mz found in metadata.
2025-11-07 04:09:31,952:WARNING:matchms:add_precursor_mz:No precursor_mz found in metadata.
2025-11-07 04:09:31,953:WARNING:matchms:add_precursor_mz:No precursor_mz found in metadata.
2025-11-07 04:09:31,954:WARNING:matchms:add_precursor_mz:No precursor_mz found in metadata.
2025-11-07 04:09:31,954:WARNING:matchms:add_precursor_mz:No precursor_mz found in metadata.
2025-11-07 04:09:31,955:WARNING:matchms:add_precursor_mz:No precursor_mz found in metadata.
2025-11-07 04:09:31,956:WARNING:matchms:add_precursor_mz:No precursor_mz found in metadata.
2025-11-07 04:09:31,957:WARNING:matchms:add_precursor_mz:No precursor_mz found in metadata.
2025-11-07 04:09:31,958:WARNING:matchms:add_precursor_mz:No precursor_mz found in metadata.
2025-11-07 04:09:31,958:WARNING:matchms:add_precursor_mz:No precursor_mz found in metadata.
2025-11-07 04:09:31,959:WARNING:matchms:add_precursor_mz:No precursor_mz found in metadata.
2025-11-07 04:09:31,960:WARNING:matchms:add_precursor_mz:No precursor_mz found in metadata.
2025-11-07 04:09:31,961:WARNING:matchms:add_precursor_mz:No precursor_mz found in metadata.
2025-11-07 04:09:31,961:WARNING:matchms:add_precursor_mz:No precursor_mz found in metadata.
2025-11-07 04:09:31,962:WARNING:matchms:add_precursor_mz:No precursor_mz found in metadata.
2025-11-07 04:09:31,963:WARNING:matchms:add_precursor_mz:No precursor_mz found in metadata.
2025-11-07 04:09:31,964:WARNING:matchms:add_precursor_mz:No precursor_mz found in metadata.
2025-11-07 04:09:31,965:WARNING:matchms:add_precursor_mz:No precursor_mz found in metadata.
2025-11-07 04:09:31,965:WARNING:matchms:add_precursor_mz:No precursor_mz found in metadata.
2025-11-07 04:09:31,966:WARNING:matchms:add_precursor_mz:No precursor_mz found in metadata.
2025-11-07 04:09:31,967:WARNING:matchms:add_precursor_mz:No precursor_mz found in metadata.
2025-11-07 04:09:31,968:WARNING:matchms:add_precursor_mz:No precursor_mz found in metadata.
2025-11-07 04:09:31,969:WARNING:matchms:add_precursor_mz:No precursor_mz found in metadata.
2025-11-07 04:09:31,969:WARNING:matchms:add_precursor_mz:No precursor_mz found in metadata.
2025-11-07 04:09:31,970:WARNING:matchms:add_precursor_mz:No precursor_mz found in metadata.
2025-11-07 04:09:31,971:WARNING:matchms:add_precursor_mz:No precursor_mz found in metadata.
2025-11-07 04:09:31,972:WARNING:matchms:add_precursor_mz:No precursor_mz found in metadata.
2025-11-07 04:09:31,972:WARNING:matchms:add_precursor_mz:No precursor_mz found in metadata.
2025-11-07 04:09:31,973:WARNING:matchms:add_precursor_mz:No precursor_mz found in metadata.
2025-11-07 04:09:31,974:WARNING:matchms:add_precursor_mz:No precursor_mz found in metadata.
2025-11-07 04:09:31,975:WARNING:matchms:add_precursor_mz:No precursor_mz found in metadata.
2025-11-07 04:09:31,976:WARNING:matchms:add_precursor_mz:No precursor_mz found in metadata.
2025-11-07 04:09:31,976:WARNING:matchms:add_precursor_mz:No precursor_mz found in metadata.
2025-11-07 04:09:31,977:WARNING:matchms:add_precursor_mz:No precursor_mz found in metadata.
2025-11-07 04:09:31,978:WARNING:matchms:add_precursor_mz:No precursor_mz found in metadata.
2025-11-07 04:09:31,979:WARNING:matchms:add_precursor_mz:No precursor_mz found in metadata.
2025-11-07 04:09:31,979:WARNING:matchms:add_precursor_mz:No precursor_mz found in metadata.
2025-11-07 04:09:31,980:WARNING:matchms:add_precursor_mz:No precursor_mz found in metadata.
2025-11-07 04:09:31,981:WARNING:matchms:add_precursor_mz:No precursor_mz found in metadata.
2025-11-07 04:09:31,982:WARNING:matchms:add_precursor_mz:No precursor_mz found in metadata.
2025-11-07 04:09:31,983:WARNING:matchms:add_precursor_mz:No precursor_mz found in metadata.
2025-11-07 04:09:31,983:WARNING:matchms:add_precursor_mz:No precursor_mz found in metadata.
2025-11-07 04:09:31,984:WARNING:matchms:add_precursor_mz:No precursor_mz found in metadata.
2025-11-07 04:09:31,985:WARNING:matchms:add_precursor_mz:No precursor_mz found in metadata.
2025-11-07 04:09:31,986:WARNING:matchms:add_precursor_mz:No precursor_mz found in metadata.
2025-11-07 04:09:31,987:WARNING:matchms:add_precursor_mz:No precursor_mz found in metadata.
2025-11-07 04:09:31,987:WARNING:matchms:add_precursor_mz:No precursor_mz found in metadata.
2025-11-07 04:09:31,988:WARNING:matchms:add_precursor_mz:No precursor_mz found in metadata.
2025-11-07 04:09:31,989:WARNING:matchms:add_precursor_mz:No precursor_mz found in metadata.
2025-11-07 04:09:31,990:WARNING:matchms:add_precursor_mz:No precursor_mz found in metadata.
2025-11-07 04:09:31,991:WARNING:matchms:add_precursor_mz:No precursor_mz found in metadata.
2025-11-07 04:09:31,991:WARNING:matchms:add_precursor_mz:No precursor_mz found in metadata.
2025-11-07 04:09:31,992:WARNING:matchms:add_precursor_mz:No precursor_mz found in metadata.
2025-11-07 04:09:31,993:WARNING:matchms:add_precursor_mz:No precursor_mz found in metadata.
2025-11-07 04:09:31,994:WARNING:matchms:add_precursor_mz:No precursor_mz found in metadata.

Calculating similarities:   0%|          | 0/4 [00:00<?, ?it/s]
Calculating similarities:  25%|██▌       | 1/4 [00:02<00:07,  2.48s/it]
Calculating similarities: 100%|██████████| 4/4 [00:02<00:00,  1.62it/s]

Calculating similarities:   0%|          | 0/4 [00:00<?, ?it/s]
Calculating similarities: 100%|██████████| 4/4 [00:00<00:00, 4314.02it/s]

Calculating similarities:   0%|          | 0/4 [00:00<?, ?it/s]
Calculating similarities: 100%|██████████| 4/4 [00:00<00:00, 3241.97it/s]

Calculating similarities:   0%|          | 0/4 [00:00<?, ?it/s]
Calculating similarities: 100%|██████████| 4/4 [00:00<00:00, 4416.22it/s]

Calculating similarities:   0%|          | 0/2 [00:00<?, ?it/s]
Calculating similarities: 100%|██████████| 2/2 [00:00<00:00, 5366.99it/s]

Calculating similarities:   0%|          | 0/2 [00:00<?, ?it/s]
Calculating similarities: 100%|██████████| 2/2 [00:00<00:00, 3916.25it/s]

Calculating similarities:   0%|          | 0/2 [00:00<?, ?it/s]
Calculating similarities: 100%|██████████| 2/2 [00:00<00:00, 4928.68it/s]

Calculating similarities:   0%|          | 0/2 [00:00<?, ?it/s]
Calculating similarities: 100%|██████████| 2/2 [00:00<00:00, 2133.42it/s]

Calculating similarities:   0%|          | 0/2 [00:00<?, ?it/s]
Calculating similarities: 100%|██████████| 2/2 [00:00<00:00, 3217.72it/s]

Calculating similarities:   0%|          | 0/2 [00:00<?, ?it/s]
Calculating similarities: 100%|██████████| 2/2 [00:00<00:00, 2833.03it/s]

Calculating similarities:   0%|          | 0/4 [00:00<?, ?it/s]
Calculating similarities:  50%|█████     | 2/4 [00:00<00:00, 1862.89it/s]

Calculating similarities:   0%|          | 0/2 [00:00<?, ?it/s]
Calculating similarities:  50%|█████     | 1/2 [00:00<00:00,  1.52it/s]
Calculating similarities: 100%|██████████| 2/2 [00:00<00:00,  3.04it/s]

Calculating similarities:   0%|          | 0/2 [00:00<?, ?it/s]
Calculating similarities:  50%|█████     | 1/2 [00:00<00:00,  1.07it/s]
Calculating similarities: 100%|██████████| 2/2 [00:00<00:00,  2.14it/s]
2025-11-07 04:09:43,739:WARNING:matchms:add_precursor_mz:No precursor_mz found in metadata.
2025-11-07 04:09:43,796:WARNING:matchms:add_precursor_mz:No precursor_mz found in metadata.
2025-11-07 04:09:43,797:WARNING:matchms:add_precursor_mz:No precursor_mz found in metadata.
2025-11-07 04:09:43,798:WARNING:matchms:add_precursor_mz:No precursor_mz found in metadata.
2025-11-07 04:09:43,865:WARNING:matchms:add_precursor_mz:No precursor_mz found in metadata.
2025-11-07 04:09:43,866:WARNING:matchms:add_precursor_mz:No precursor_mz found in metadata.
2025-11-07 04:09:43,867:WARNING:matchms:add_precursor_mz:No precursor_mz found in metadata.
2025-11-07 04:09:44,143:WARNING:matchms:add_precursor_mz:No precursor_mz found in metadata.
2025-11-07 04:09:44,144:WARNING:matchms:add_precursor_mz:No precursor_mz found in metadata.
2025-11-07 04:09:44,145:WARNING:matchms:add_precursor_mz:No precursor_mz found in metadata.
2025-11-07 04:09:44,187:WARNING:matchms:add_precursor_mz:No precursor_mz found in metadata.
2025-11-07 04:09:44,189:WARNING:matchms:add_precursor_mz:No precursor_mz found in metadata.
2025-11-07 04:09:44,189:WARNING:matchms:add_precursor_mz:No precursor_mz found in metadata.
2025-11-07 04:09:44,487:WARNING:matchms:add_precursor_mz:No precursor_mz found in metadata.
2025-11-07 04:09:44,488:WARNING:matchms:add_precursor_mz:No precursor_mz found in metadata.
2025-11-07 04:09:44,489:WARNING:matchms:add_precursor_mz:No precursor_mz found in metadata.
2025-11-07 04:09:44,504:WARNING:matchms:add_precursor_mz:No precursor_mz found in metadata.
2025-11-07 04:09:44,505:WARNING:matchms:add_precursor_mz:No precursor_mz found in metadata.
2025-11-07 04:09:44,506:WARNING:matchms:add_precursor_mz:No precursor_mz found in metadata.

Processing spectra:   0%|          | 0/4 [00:00<?, ?it/s]
Processing spectra: 100%|██████████| 4/4 [00:00<00:00, 3169.10it/s]

Processing spectra:   0%|          | 0/4 [00:00<?, ?it/s]
Processing spectra: 100%|██████████| 4/4 [00:00<00:00, 3530.56it/s]

Processing spectra:   0%|          | 0/4 [00:00<?, ?it/s]
Processing spectra: 100%|██████████| 4/4 [00:00<00:00, 3622.02it/s]

Processing spectra:   0%|          | 0/4 [00:00<?, ?it/s]
Processing spectra: 100%|██████████| 4/4 [00:00<00:00, 3940.16it/s]

Processing spectra:   0%|          | 0/4 [00:00<?, ?it/s]
Processing spectra: 100%|██████████| 4/4 [00:00<00:00, 3602.58it/s]
[ FAIL 0 | WARN 4 | SKIP 1 | PASS 592 ]

══ Skipped tests (1) ═══════════════════════════════════════════════════════════
• empty test (1): 'test_zzz.R:16:1'

[ FAIL 0 | WARN 4 | SKIP 1 | PASS 592 ]
> 
> ## TODO: add tests from the Spectra unit test suite!
> 
> ## ## Run the MsBackend spectra variable test suite
> ## test_suite <- system.file("test_backends", "test_MsBackend",
> ##                           package = "Spectra")
> 
> ## ## Run single test file.
> ## res <- test_dir(test_suite, stop_on_failure = TRUE)
> 
> proc.time()
   user  system elapsed 
 29.239   2.770  31.381 

Example timings

SpectriPy.Rcheck/SpectriPy-Ex.timings

nameusersystemelapsed
MsBackendPy5.3350.7825.974
compareSpectriPy2.3560.2782.661
conversion0.3380.2710.457
filterSpectriPy0.1750.0250.199