Back to Build/check report for BioC 3.23:   simplified   long
ABCDEFGHIJKLMNOPQR[S]TUVWXYZ

This page was generated on 2025-11-01 11:32 -0400 (Sat, 01 Nov 2025).

HostnameOSArch (*)R versionInstalled pkgs
nebbiolo1Linux (Ubuntu 24.04.3 LTS)x86_64R Under development (unstable) (2025-10-20 r88955) -- "Unsuffered Consequences" 4774
Click on any hostname to see more info about the system (e.g. compilers)      (*) as reported by 'uname -p', except on Windows and Mac OS X

All results for package Spectra


To the developers/maintainers of the Spectra package:
- Allow up to 24 hours (and sometimes 48 hours) for your latest push to git@git.bioconductor.org:packages/Spectra.git to reflect on this report. See Troubleshooting Build Report for more information.
- Use the following Renviron settings to reproduce errors and warnings.
- If 'R CMD check' started to fail recently on the Linux builder(s) over a missing dependency, add the missing dependency to 'Suggests:' in your DESCRIPTION file. See Renviron.bioc for more information.

raw results

Package 2056/2321HostnameOS / ArchINSTALLBUILDCHECKBUILD BIN
Spectra 1.21.0  (landing page)
RforMassSpectrometry Package Maintainer
Snapshot Date: 2025-10-31 13:40 -0400 (Fri, 31 Oct 2025)
git_url: https://git.bioconductor.org/packages/Spectra
git_branch: devel
git_last_commit: 3a71e5d
git_last_commit_date: 2025-10-29 11:01:49 -0400 (Wed, 29 Oct 2025)
nebbiolo1Linux (Ubuntu 24.04.3 LTS) / x86_64  OK    OK    OK  YES



Results for Bioconductor software packages that depend directly on package Spectra

QUICK STATSOS / ArchINSTALLBUILDCHECKBUILD BIN
nebbiolo1Linux (Ubuntu 24.04.3 LTS) / x86_64
0017
0116
00016
Package 1/17HostnameOS / ArchINSTALLBUILDCHECKBUILD BIN
Chromatograms 1.1.0  (landing page)
Philippine Louail
git_last_commit: c10498e
git_last_commit_date: 2025-10-29 11:37:38 -0400
nebbiolo1Linux (Ubuntu 24.04.3 LTS) / x86_64  OK    OK    OK  YES
Package 2/17HostnameOS / ArchINSTALLBUILDCHECKBUILD BIN
CompoundDb 1.15.0  (landing page)
Johannes Rainer
git_last_commit: c48af8f
git_last_commit_date: 2025-10-29 11:14:42 -0400
nebbiolo1Linux (Ubuntu 24.04.3 LTS) / x86_64  OK    OK    OK  YES
Package 3/17HostnameOS / ArchINSTALLBUILDCHECKBUILD BIN
hdxmsqc 1.7.0  (landing page)
Oliver M. Crook
git_last_commit: 1520631
git_last_commit_date: 2025-10-29 11:29:31 -0400
nebbiolo1Linux (Ubuntu 24.04.3 LTS) / x86_64  OK    OK    OK  YES
Package 4/17HostnameOS / ArchINSTALLBUILDCHECKBUILD BIN
MetaboAnnotation 1.15.0  (landing page)
Johannes Rainer
git_last_commit: 0232707
git_last_commit_date: 2025-10-29 11:14:44 -0400
nebbiolo1Linux (Ubuntu 24.04.3 LTS) / x86_64  OK    OK    OK  YES
Package 5/17HostnameOS / ArchINSTALLBUILDCHECKBUILD BIN
MetCirc 1.41.0  (landing page)
Thomas Naake
git_last_commit: ed1872d
git_last_commit_date: 2025-10-29 10:32:46 -0400
nebbiolo1Linux (Ubuntu 24.04.3 LTS) / x86_64  OK    OK    OK  YES
Package 6/17HostnameOS / ArchINSTALLBUILDCHECKBUILD BIN
MsBackendMassbank 1.19.0  (landing page)
RforMassSpectrometry Package Maintainer
git_last_commit: 1e6d7b3
git_last_commit_date: 2025-10-29 11:06:30 -0400
nebbiolo1Linux (Ubuntu 24.04.3 LTS) / x86_64  OK    OK    OK  YES
Package 7/17HostnameOS / ArchINSTALLBUILDCHECKBUILD BIN
MsBackendMetaboLights 1.5.0  (landing page)
Johannes Rainer
git_last_commit: 6566108
git_last_commit_date: 2025-10-29 11:32:30 -0400
nebbiolo1Linux (Ubuntu 24.04.3 LTS) / x86_64  OK    ERROR  skipped
Package 8/17HostnameOS / ArchINSTALLBUILDCHECKBUILD BIN
MsBackendMgf 1.19.0  (landing page)
RforMassSpectrometry Package Maintainer
git_last_commit: 3de3a3e
git_last_commit_date: 2025-10-29 11:06:57 -0400
nebbiolo1Linux (Ubuntu 24.04.3 LTS) / x86_64  OK    OK    OK  YES
Package 9/17HostnameOS / ArchINSTALLBUILDCHECKBUILD BIN
MsBackendMsp 1.15.0  (landing page)
Johannes Rainer
git_last_commit: 4b37244
git_last_commit_date: 2025-10-29 11:15:06 -0400
nebbiolo1Linux (Ubuntu 24.04.3 LTS) / x86_64  OK    OK    OK  YES
Package 10/17HostnameOS / ArchINSTALLBUILDCHECKBUILD BIN
MsBackendRawFileReader 1.17.0  (landing page)
Christian Panse
git_last_commit: c509d56
git_last_commit_date: 2025-10-29 11:12:57 -0400
nebbiolo1Linux (Ubuntu 24.04.3 LTS) / x86_64  OK    OK    OK  YES
Package 11/17HostnameOS / ArchINSTALLBUILDCHECKBUILD BIN
MsBackendSql 1.11.0  (landing page)
Johannes Rainer
git_last_commit: edb1158
git_last_commit_date: 2025-10-29 11:20:33 -0400
nebbiolo1Linux (Ubuntu 24.04.3 LTS) / x86_64  OK    OK    OK  YES
Package 12/17HostnameOS / ArchINSTALLBUILDCHECKBUILD BIN
MsExperiment 1.13.0  (landing page)
Laurent Gatto
git_last_commit: 18b0bf2
git_last_commit_date: 2025-10-29 11:18:49 -0400
nebbiolo1Linux (Ubuntu 24.04.3 LTS) / x86_64  OK    OK    OK  YES
Package 13/17HostnameOS / ArchINSTALLBUILDCHECKBUILD BIN
MsQuality 1.11.0  (landing page)
Thomas Naake
git_last_commit: 58f05c8
git_last_commit_date: 2025-10-29 11:20:21 -0400
nebbiolo1Linux (Ubuntu 24.04.3 LTS) / x86_64  OK    OK    OK  YES
Package 14/17HostnameOS / ArchINSTALLBUILDCHECKBUILD BIN
PSMatch 1.15.0  (landing page)
Laurent Gatto
git_last_commit: 269b755
git_last_commit_date: 2025-10-29 11:15:29 -0400
nebbiolo1Linux (Ubuntu 24.04.3 LTS) / x86_64  OK    OK    OK  YES
Package 15/17HostnameOS / ArchINSTALLBUILDCHECKBUILD BIN
SpectraQL 1.5.0  (landing page)
Johannes Rainer
git_last_commit: 5d7973b
git_last_commit_date: 2025-10-29 11:31:53 -0400
nebbiolo1Linux (Ubuntu 24.04.3 LTS) / x86_64  OK    OK    OK  YES
Package 16/17HostnameOS / ArchINSTALLBUILDCHECKBUILD BIN
SpectriPy 1.1.0  (landing page)
Johannes Rainer
git_last_commit: 09e5773
git_last_commit_date: 2025-10-29 11:36:52 -0400
nebbiolo1Linux (Ubuntu 24.04.3 LTS) / x86_64  OK    OK    OK  YES
Package 17/17HostnameOS / ArchINSTALLBUILDCHECKBUILD BIN
xcms 4.9.0  (landing page)
Steffen Neumann
git_last_commit: 3321e90
git_last_commit_date: 2025-10-29 09:56:19 -0400
nebbiolo1Linux (Ubuntu 24.04.3 LTS) / x86_64  OK    OK    OK  YES