Back to Build/check report for BioC 3.23:   simplified   long
ABCDEFGHIJKLMNOPQR[S]TUVWXYZ

This page was generated on 2025-11-08 11:32 -0500 (Sat, 08 Nov 2025).

HostnameOSArch (*)R versionInstalled pkgs
nebbiolo1Linux (Ubuntu 24.04.3 LTS)x86_64R Under development (unstable) (2025-10-20 r88955) -- "Unsuffered Consequences" 4821
Click on any hostname to see more info about the system (e.g. compilers)      (*) as reported by 'uname -p', except on Windows and Mac OS X

Package 2038/2323HostnameOS / ArchINSTALLBUILDCHECKBUILD BIN
SparseArray 1.11.1  (landing page)
Hervé Pagès
Snapshot Date: 2025-11-07 13:40 -0500 (Fri, 07 Nov 2025)
git_url: https://git.bioconductor.org/packages/SparseArray
git_branch: devel
git_last_commit: f62ecd6
git_last_commit_date: 2025-11-07 02:12:16 -0500 (Fri, 07 Nov 2025)
nebbiolo1Linux (Ubuntu 24.04.3 LTS) / x86_64  ERROR    ERROR  skipped


BUILD results for SparseArray on nebbiolo1

To the developers/maintainers of the SparseArray package:
- Allow up to 24 hours (and sometimes 48 hours) for your latest push to git@git.bioconductor.org:packages/SparseArray.git to reflect on this report. See Troubleshooting Build Report for more information.
- Use the following Renviron settings to reproduce errors and warnings.
- If 'R CMD check' started to fail recently on the Linux builder(s) over a missing dependency, add the missing dependency to 'Suggests:' in your DESCRIPTION file. See Renviron.bioc for more information.

raw results


Summary

Package: SparseArray
Version: 1.11.1
Command: /home/biocbuild/bbs-3.23-bioc/R/bin/R CMD build --keep-empty-dirs --no-resave-data SparseArray
StartedAt: 2025-11-07 20:08:16 -0500 (Fri, 07 Nov 2025)
EndedAt: 2025-11-07 20:08:20 -0500 (Fri, 07 Nov 2025)
EllapsedTime: 4.0 seconds
RetCode: 1
Status:   ERROR  
PackageFile: None
PackageFileSize: NA

Command output

##############################################################################
##############################################################################
###
### Running command:
###
###   /home/biocbuild/bbs-3.23-bioc/R/bin/R CMD build --keep-empty-dirs --no-resave-data SparseArray
###
##############################################################################
##############################################################################


* checking for file ‘SparseArray/DESCRIPTION’ ... OK
* preparing ‘SparseArray’:
* checking DESCRIPTION meta-information ... OK
* cleaning src
* installing the package (it is needed to build vignettes)
      -----------------------------------
* installing *source* package ‘SparseArray’ ...
** this is package ‘SparseArray’ version ‘1.11.1’
** using staged installation
** libs
using C compiler: ‘gcc (Ubuntu 13.3.0-6ubuntu2~24.04) 13.3.0’
gcc -std=gnu2x -I"/home/biocbuild/bbs-3.23-bioc/R/include" -DNDEBUG  -I'/home/biocbuild/bbs-3.23-bioc/R/site-library/S4Vectors/include' -I'/home/biocbuild/bbs-3.23-bioc/R/site-library/IRanges/include' -I'/home/biocbuild/bbs-3.23-bioc/R/site-library/XVector/include' -I/usr/local/include   -fopenmp -fpic  -g -O2  -Wall -Werror=format-security -c ExtendableJaggedArray.c -o ExtendableJaggedArray.o
ExtendableJaggedArray.c: In function ‘_move_ExtendableJaggedArrays_to_SVT’:
ExtendableJaggedArray.c:129:25: warning: ‘nzvals_p’ may be used uninitialized [-Wmaybe-uninitialized]
  129 |                         free(nzvals_p);
      |                         ^~~~~~~~~~~~~~
ExtendableJaggedArray.c:111:22: note: ‘nzvals_p’ was declared here
  111 |                 int *nzvals_p, *nzoffs_p;
      |                      ^~~~~~~~
ExtendableJaggedArray.c:125:25: warning: ‘nzoffs_p’ may be used uninitialized [-Wmaybe-uninitialized]
  125 |                         free(nzoffs_p);
      |                         ^~~~~~~~~~~~~~
ExtendableJaggedArray.c:111:33: note: ‘nzoffs_p’ was declared here
  111 |                 int *nzvals_p, *nzoffs_p;
      |                                 ^~~~~~~~
gcc -std=gnu2x -I"/home/biocbuild/bbs-3.23-bioc/R/include" -DNDEBUG  -I'/home/biocbuild/bbs-3.23-bioc/R/site-library/S4Vectors/include' -I'/home/biocbuild/bbs-3.23-bioc/R/site-library/IRanges/include' -I'/home/biocbuild/bbs-3.23-bioc/R/site-library/XVector/include' -I/usr/local/include   -fopenmp -fpic  -g -O2  -Wall -Werror=format-security -c IRanges_stubs.c -o IRanges_stubs.o
gcc -std=gnu2x -I"/home/biocbuild/bbs-3.23-bioc/R/include" -DNDEBUG  -I'/home/biocbuild/bbs-3.23-bioc/R/site-library/S4Vectors/include' -I'/home/biocbuild/bbs-3.23-bioc/R/site-library/IRanges/include' -I'/home/biocbuild/bbs-3.23-bioc/R/site-library/XVector/include' -I/usr/local/include   -fopenmp -fpic  -g -O2  -Wall -Werror=format-security -c OPBufTree.c -o OPBufTree.o
gcc -std=gnu2x -I"/home/biocbuild/bbs-3.23-bioc/R/include" -DNDEBUG  -I'/home/biocbuild/bbs-3.23-bioc/R/site-library/S4Vectors/include' -I'/home/biocbuild/bbs-3.23-bioc/R/site-library/IRanges/include' -I'/home/biocbuild/bbs-3.23-bioc/R/site-library/XVector/include' -I/usr/local/include   -fopenmp -fpic  -g -O2  -Wall -Werror=format-security -c R_init_SparseArray.c -o R_init_SparseArray.o
gcc -std=gnu2x -I"/home/biocbuild/bbs-3.23-bioc/R/include" -DNDEBUG  -I'/home/biocbuild/bbs-3.23-bioc/R/site-library/S4Vectors/include' -I'/home/biocbuild/bbs-3.23-bioc/R/site-library/IRanges/include' -I'/home/biocbuild/bbs-3.23-bioc/R/site-library/XVector/include' -I/usr/local/include   -fopenmp -fpic  -g -O2  -Wall -Werror=format-security -c Rvector_summarization.c -o Rvector_summarization.o
Rvector_summarization.c:1370:12: warning: ‘count_NA_list_elts’ defined but not used [-Wunused-function]
 1370 | static int count_NA_list_elts(SEXP x)
      |            ^~~~~~~~~~~~~~~~~~
Rvector_summarization.c:1360:12: warning: ‘any_NA_list_elt’ defined but not used [-Wunused-function]
 1360 | static int any_NA_list_elt(SEXP x)
      |            ^~~~~~~~~~~~~~~
gcc -std=gnu2x -I"/home/biocbuild/bbs-3.23-bioc/R/include" -DNDEBUG  -I'/home/biocbuild/bbs-3.23-bioc/R/site-library/S4Vectors/include' -I'/home/biocbuild/bbs-3.23-bioc/R/site-library/IRanges/include' -I'/home/biocbuild/bbs-3.23-bioc/R/site-library/XVector/include' -I/usr/local/include   -fopenmp -fpic  -g -O2  -Wall -Werror=format-security -c Rvector_utils.c -o Rvector_utils.o
gcc -std=gnu2x -I"/home/biocbuild/bbs-3.23-bioc/R/include" -DNDEBUG  -I'/home/biocbuild/bbs-3.23-bioc/R/site-library/S4Vectors/include' -I'/home/biocbuild/bbs-3.23-bioc/R/site-library/IRanges/include' -I'/home/biocbuild/bbs-3.23-bioc/R/site-library/XVector/include' -I/usr/local/include   -fopenmp -fpic  -g -O2  -Wall -Werror=format-security -c S4Vectors_stubs.c -o S4Vectors_stubs.o
gcc -std=gnu2x -I"/home/biocbuild/bbs-3.23-bioc/R/include" -DNDEBUG  -I'/home/biocbuild/bbs-3.23-bioc/R/site-library/S4Vectors/include' -I'/home/biocbuild/bbs-3.23-bioc/R/site-library/IRanges/include' -I'/home/biocbuild/bbs-3.23-bioc/R/site-library/XVector/include' -I/usr/local/include   -fopenmp -fpic  -g -O2  -Wall -Werror=format-security -c SBT_utils.c -o SBT_utils.o
gcc -std=gnu2x -I"/home/biocbuild/bbs-3.23-bioc/R/include" -DNDEBUG  -I'/home/biocbuild/bbs-3.23-bioc/R/site-library/S4Vectors/include' -I'/home/biocbuild/bbs-3.23-bioc/R/site-library/IRanges/include' -I'/home/biocbuild/bbs-3.23-bioc/R/site-library/XVector/include' -I/usr/local/include   -fopenmp -fpic  -g -O2  -Wall -Werror=format-security -c SVT_SparseArray_class.c -o SVT_SparseArray_class.o
gcc -std=gnu2x -I"/home/biocbuild/bbs-3.23-bioc/R/include" -DNDEBUG  -I'/home/biocbuild/bbs-3.23-bioc/R/site-library/S4Vectors/include' -I'/home/biocbuild/bbs-3.23-bioc/R/site-library/IRanges/include' -I'/home/biocbuild/bbs-3.23-bioc/R/site-library/XVector/include' -I/usr/local/include   -fopenmp -fpic  -g -O2  -Wall -Werror=format-security -c SparseArray_Arith_methods.c -o SparseArray_Arith_methods.o
gcc -std=gnu2x -I"/home/biocbuild/bbs-3.23-bioc/R/include" -DNDEBUG  -I'/home/biocbuild/bbs-3.23-bioc/R/site-library/S4Vectors/include' -I'/home/biocbuild/bbs-3.23-bioc/R/site-library/IRanges/include' -I'/home/biocbuild/bbs-3.23-bioc/R/site-library/XVector/include' -I/usr/local/include   -fopenmp -fpic  -g -O2  -Wall -Werror=format-security -c SparseArray_Compare_methods.c -o SparseArray_Compare_methods.o
gcc -std=gnu2x -I"/home/biocbuild/bbs-3.23-bioc/R/include" -DNDEBUG  -I'/home/biocbuild/bbs-3.23-bioc/R/site-library/S4Vectors/include' -I'/home/biocbuild/bbs-3.23-bioc/R/site-library/IRanges/include' -I'/home/biocbuild/bbs-3.23-bioc/R/site-library/XVector/include' -I/usr/local/include   -fopenmp -fpic  -g -O2  -Wall -Werror=format-security -c SparseArray_Complex_methods.c -o SparseArray_Complex_methods.o
gcc -std=gnu2x -I"/home/biocbuild/bbs-3.23-bioc/R/include" -DNDEBUG  -I'/home/biocbuild/bbs-3.23-bioc/R/site-library/S4Vectors/include' -I'/home/biocbuild/bbs-3.23-bioc/R/site-library/IRanges/include' -I'/home/biocbuild/bbs-3.23-bioc/R/site-library/XVector/include' -I/usr/local/include   -fopenmp -fpic  -g -O2  -Wall -Werror=format-security -c SparseArray_Logic_methods.c -o SparseArray_Logic_methods.o
SparseArray_Logic_methods.c: In function ‘C_Logic_NaSVT1_na’:
SparseArray_Logic_methods.c:232:28: warning: implicit declaration of function ‘alloc_SparseVec’; did you mean ‘_alloc_buf_SparseVec’? [-Wimplicit-function-declaration]
  232 |         SparseVec buf_sv = alloc_SparseVec(LGLSXP, dim0, 1);
      |                            ^~~~~~~~~~~~~~~
      |                            _alloc_buf_SparseVec
SparseArray_Logic_methods.c:232:28: error: invalid initializer
SparseArray_Logic_methods.c: In function ‘C_Logic_SVT1_SVT2’:
SparseArray_Logic_methods.c:263:28: error: invalid initializer
  263 |         SparseVec buf_sv = alloc_SparseVec(LGLSXP, dim0, out_na_background);
      |                            ^~~~~~~~~~~~~~~
make: *** [/home/biocbuild/bbs-3.23-bioc/R/etc/Makeconf:202: SparseArray_Logic_methods.o] Error 1
ERROR: compilation failed for package ‘SparseArray’
* removing ‘/tmp/Rtmp3wkrQY/Rinst1cd5aa6d3513a2/SparseArray’
      -----------------------------------
ERROR: package installation failed