Back to Multiple platform build/check report for BioC 3.22:   simplified   long
ABCDEFGHIJKLMNOPQR[S]TUVWXYZ

This page was generated on 2025-10-25 12:04 -0400 (Sat, 25 Oct 2025).

HostnameOSArch (*)R versionInstalled pkgs
nebbiolo2Linux (Ubuntu 24.04.3 LTS)x86_644.5.1 Patched (2025-08-23 r88802) -- "Great Square Root" 4901
lconwaymacOS 12.7.6 Montereyx86_644.5.1 Patched (2025-09-10 r88807) -- "Great Square Root" 4691
kjohnson3macOS 13.7.7 Venturaarm644.5.1 Patched (2025-09-10 r88807) -- "Great Square Root" 4637
taishanLinux (openEuler 24.03 LTS)aarch644.5.0 (2025-04-11) -- "How About a Twenty-Six" 4658
Click on any hostname to see more info about the system (e.g. compilers)      (*) as reported by 'uname -p', except on Windows and Mac OS X

Package 1983/2361HostnameOS / ArchINSTALLBUILDCHECKBUILD BIN
SeqGSEA 1.49.0  (landing page)
Xi Wang
Snapshot Date: 2025-10-24 13:45 -0400 (Fri, 24 Oct 2025)
git_url: https://git.bioconductor.org/packages/SeqGSEA
git_branch: devel
git_last_commit: 178db7c
git_last_commit_date: 2025-04-15 10:23:38 -0400 (Tue, 15 Apr 2025)
nebbiolo2Linux (Ubuntu 24.04.3 LTS) / x86_64  OK    OK    OK  UNNEEDED, same version is already published
lconwaymacOS 12.7.6 Monterey / x86_64  OK    OK    OK    OK  UNNEEDED, same version is already published
kjohnson3macOS 13.7.7 Ventura / arm64  OK    OK    OK    OK  UNNEEDED, same version is already published
taishanLinux (openEuler 24.03 LTS) / aarch64  OK    NA    NA  


CHECK results for SeqGSEA on nebbiolo2

To the developers/maintainers of the SeqGSEA package:
- Allow up to 24 hours (and sometimes 48 hours) for your latest push to git@git.bioconductor.org:packages/SeqGSEA.git to reflect on this report. See Troubleshooting Build Report for more information.
- Use the following Renviron settings to reproduce errors and warnings.
- If 'R CMD check' started to fail recently on the Linux builder(s) over a missing dependency, add the missing dependency to 'Suggests:' in your DESCRIPTION file. See Renviron.bioc for more information.

raw results


Summary

Package: SeqGSEA
Version: 1.49.0
Command: /home/biocbuild/bbs-3.22-bioc/R/bin/R CMD check --install=check:SeqGSEA.install-out.txt --library=/home/biocbuild/bbs-3.22-bioc/R/site-library --timings SeqGSEA_1.49.0.tar.gz
StartedAt: 2025-10-25 04:05:39 -0400 (Sat, 25 Oct 2025)
EndedAt: 2025-10-25 04:12:53 -0400 (Sat, 25 Oct 2025)
EllapsedTime: 433.5 seconds
RetCode: 0
Status:   OK  
CheckDir: SeqGSEA.Rcheck
Warnings: 0

Command output

##############################################################################
##############################################################################
###
### Running command:
###
###   /home/biocbuild/bbs-3.22-bioc/R/bin/R CMD check --install=check:SeqGSEA.install-out.txt --library=/home/biocbuild/bbs-3.22-bioc/R/site-library --timings SeqGSEA_1.49.0.tar.gz
###
##############################################################################
##############################################################################


* using log directory ‘/home/biocbuild/bbs-3.22-bioc/meat/SeqGSEA.Rcheck’
* using R version 4.5.1 Patched (2025-08-23 r88802)
* using platform: x86_64-pc-linux-gnu
* R was compiled by
    gcc (Ubuntu 13.3.0-6ubuntu2~24.04) 13.3.0
    GNU Fortran (Ubuntu 13.3.0-6ubuntu2~24.04) 13.3.0
* running under: Ubuntu 24.04.3 LTS
* using session charset: UTF-8
* checking for file ‘SeqGSEA/DESCRIPTION’ ... OK
* checking extension type ... Package
* this is package ‘SeqGSEA’ version ‘1.49.0’
* checking package namespace information ... OK
* checking package dependencies ... OK
* checking if this is a source package ... OK
* checking if there is a namespace ... OK
* checking for hidden files and directories ... OK
* checking for portable file names ... OK
* checking for sufficient/correct file permissions ... OK
* checking whether package ‘SeqGSEA’ can be installed ... OK
* checking installed package size ... OK
* checking package directory ... OK
* checking ‘build’ directory ... OK
* checking DESCRIPTION meta-information ... OK
* checking top-level files ... OK
* checking for left-over files ... OK
* checking index information ... OK
* checking package subdirectories ... OK
* checking code files for non-ASCII characters ... OK
* checking R files for syntax errors ... OK
* checking whether the package can be loaded ... OK
* checking whether the package can be loaded with stated dependencies ... OK
* checking whether the package can be unloaded cleanly ... OK
* checking whether the namespace can be loaded with stated dependencies ... OK
* checking whether the namespace can be unloaded cleanly ... OK
* checking loading without being on the library search path ... OK
* checking dependencies in R code ... NOTE
There are ::: calls to the package's namespace in its code. A package
  almost never needs to use ::: for its own objects:
  ‘estiExonProbVar’
* checking S3 generic/method consistency ... OK
* checking replacement functions ... OK
* checking foreign function calls ... OK
* checking R code for possible problems ... NOTE
DENBStat4GSEA: no visible global function definition for ‘colData’
DENBStatPermut4GSEA: no visible global function definition for
  ‘%dopar%’
DENBStatPermut4GSEA: no visible global function definition for
  ‘foreach’
DENBStatPermut4GSEA: no visible binding for global variable ‘i’
DENBTest: no visible global function definition for ‘colData’
DENBTest: no visible global function definition for ‘p.adjust’
DEpermutePval: no visible global function definition for ‘p.adjust’
DSpermute4GSEA: no visible global function definition for ‘%dopar%’
DSpermute4GSEA: no visible global function definition for ‘foreach’
DSpermute4GSEA : <anonymous>: no visible binding for global variable
  ‘i’
DSpermutePval: no visible global function definition for ‘p.adjust’
calES.perm: no visible global function definition for ‘%dopar%’
calES.perm: no visible global function definition for ‘foreach’
calES.perm: no visible binding for global variable ‘i’
calES.perm: no visible global function definition for ‘%do%’
calES.perm: no visible binding for global variable ‘j’
loadExonCountData : <anonymous>: no visible global function definition
  for ‘read.table’
nbinomTestForMatrices : <anonymous>: no visible global function
  definition for ‘dnbinom’
plotES : <anonymous>: no visible global function definition for
  ‘density’
plotES: no visible global function definition for ‘density’
plotES : <anonymous>: no visible global function definition for
  ‘points’
plotES: no visible global function definition for ‘points’
plotES: no visible global function definition for ‘colors’
plotES: no visible global function definition for ‘lines’
plotES: no visible global function definition for ‘legend’
plotES: no visible global function definition for ‘dev.off’
plotGeneScore: no visible global function definition for ‘lines’
plotGeneScore: no visible global function definition for ‘colors’
plotGeneScore: no visible global function definition for ‘points’
plotGeneScore: no visible global function definition for ‘matlines’
plotGeneScore: no visible global function definition for ‘legend’
plotGeneScore: no visible global function definition for ‘dev.off’
plotSig: no visible global function definition for ‘points’
plotSig: no visible global function definition for ‘colors’
plotSig: no visible global function definition for ‘legend’
plotSig: no visible global function definition for ‘dev.off’
plotSigGeneSet: no visible global function definition for ‘par’
plotSigGeneSet: no visible global function definition for ‘layout’
plotSigGeneSet: no visible global function definition for ‘lines’
plotSigGeneSet : <anonymous>: no visible global function definition for
  ‘lines’
plotSigGeneSet: no visible global function definition for ‘colors’
plotSigGeneSet: no visible global function definition for ‘text’
plotSigGeneSet: no visible global function definition for ‘density’
plotSigGeneSet: no visible global function definition for ‘legend’
plotSigGeneSet: no visible global function definition for ‘dev.off’
runDESeq: no visible global function definition for ‘DataFrame’
runSeqGSEA: no visible global function definition for ‘makeCluster’
runSeqGSEA: no visible global function definition for ‘write.table’
signifES : <anonymous>: no visible global function definition for
  ‘median’
writeScores: no visible global function definition for ‘write.table’
writeSigGeneSet: no visible global function definition for
  ‘write.table’
Undefined global functions or variables:
  %do% %dopar% DataFrame colData colors density dev.off dnbinom foreach
  i j layout legend lines makeCluster matlines median p.adjust par
  points read.table text write.table
Consider adding
  importFrom("grDevices", "colors", "dev.off")
  importFrom("graphics", "layout", "legend", "lines", "matlines", "par",
             "points", "text")
  importFrom("stats", "density", "dnbinom", "median", "p.adjust")
  importFrom("utils", "read.table", "write.table")
to your NAMESPACE file.
* checking Rd files ... OK
* checking Rd metadata ... OK
* checking Rd cross-references ... NOTE
Found the following Rd file(s) with Rd \link{} targets missing package
anchors:
  ReadCountSet-class.Rd: eSet-class
Please provide package anchors for all Rd \link{} targets not in the
package itself and the base packages.
* checking for missing documentation entries ... OK
* checking for code/documentation mismatches ... OK
* checking Rd \usage sections ... OK
* checking Rd contents ... OK
* checking for unstated dependencies in examples ... OK
* checking contents of ‘data’ directory ... OK
* checking data for non-ASCII characters ... OK
* checking data for ASCII and uncompressed saves ... OK
* checking files in ‘vignettes’ ... OK
* checking examples ... OK
Examples with CPU (user + system) or elapsed time > 5s
                     user system elapsed
DENBStatPermut4GSEA 9.897  0.045   9.942
topDEGenes          9.842  0.013   9.856
DEpermutePval       9.300  0.037   9.337
scoreNormalization  6.007  0.122   6.129
DSpermute4GSEA      5.408  0.117   5.526
normFactor          5.263  0.016   5.279
topDSGenes          5.199  0.017   5.216
DSresultGeneTable   5.187  0.002   5.189
DSresultExonTable   5.115  0.018   5.132
topDSExons          5.022  0.009   5.031
* checking for unstated dependencies in vignettes ... OK
* checking package vignettes ... OK
* checking re-building of vignette outputs ... OK
* checking PDF version of manual ... OK
* DONE

Status: 3 NOTEs
See
  ‘/home/biocbuild/bbs-3.22-bioc/meat/SeqGSEA.Rcheck/00check.log’
for details.


Installation output

SeqGSEA.Rcheck/00install.out

##############################################################################
##############################################################################
###
### Running command:
###
###   /home/biocbuild/bbs-3.22-bioc/R/bin/R CMD INSTALL SeqGSEA
###
##############################################################################
##############################################################################


* installing to library ‘/home/biocbuild/bbs-3.22-bioc/R/site-library’
* installing *source* package ‘SeqGSEA’ ...
** this is package ‘SeqGSEA’ version ‘1.49.0’
** using staged installation
** R
** data
** inst
** byte-compile and prepare package for lazy loading
** help
*** installing help indices
** building package indices
** installing vignettes
** testing if installed package can be loaded from temporary location
** testing if installed package can be loaded from final location
** testing if installed package keeps a record of temporary installation path
* DONE (SeqGSEA)

Tests output


Example timings

SeqGSEA.Rcheck/SeqGSEA-Ex.timings

nameusersystemelapsed
DENBStat4GSEA1.5760.1151.692
DENBStatPermut4GSEA9.8970.0459.942
DENBTest2.4810.0522.532
DEpermutePval9.3000.0379.337
DSpermute4GSEA5.4080.1175.526
DSpermutePval4.9590.0104.970
DSresultExonTable5.1150.0185.132
DSresultGeneTable5.1870.0025.189
GSEAresultTable1.5290.0301.558
GSEnrichAnalyze1.5330.0001.533
ReadCountSet-class0.0010.0000.001
SeqGeneSet-class000
calES0.0040.0000.005
calES.perm1.5050.0031.508
convertEnsembl2Symbol0.0010.0000.000
convertSymbol2Ensembl000
counts-methods0.0110.0010.011
estiExonNBstat0.5060.0240.529
estiGeneNBstat0.5320.0000.532
exonID0.0280.0090.037
exonTestability0.0180.0000.017
geneID0.0370.0060.042
geneList0.0030.0010.004
genePermuteScore0.0040.0010.005
geneScore0.0030.0000.002
geneSetDescs0.0010.0000.002
geneSetNames0.0020.0000.002
geneSetSize0.0020.0000.001
geneTestability0.0200.0000.019
genpermuteMat4.8380.0074.846
getGeneCount0.0160.0000.016
label0.0100.0010.012
loadExonCountData0.0010.0000.001
loadGenesets000
newGeneSets0.0020.0000.002
newReadCountSet0.0930.0090.102
normFactor5.2630.0165.279
plotES1.6050.0151.620
plotGeneScore0.0970.0010.098
plotSig1.5430.0001.544
plotSigGeneSet1.5290.0001.529
rankCombine0.0070.0000.007
runDESeq1.1710.0291.200
runSeqGSEA0.0010.0000.002
scoreNormalization6.0070.1226.129
size0.0020.0000.002
subsetByGenes0.030.000.03
topDEGenes9.8420.0139.856
topDSExons5.0220.0095.031
topDSGenes5.1990.0175.216
topGeneSets1.5040.0021.505
writeScores0.0050.0000.005
writeSigGeneSet1.4620.0031.465