| Back to Multiple platform build/check report for BioC 3.23: simplified long |
|
This page was generated on 2025-11-20 11:40 -0500 (Thu, 20 Nov 2025).
| Hostname | OS | Arch (*) | R version | Installed pkgs |
|---|---|---|---|---|
| nebbiolo1 | Linux (Ubuntu 24.04.3 LTS) | x86_64 | R Under development (unstable) (2025-10-20 r88955) -- "Unsuffered Consequences" | 4827 |
| lconway | macOS 12.7.6 Monterey | x86_64 | R Under development (unstable) (2025-10-21 r88958) -- "Unsuffered Consequences" | 4600 |
| kjohnson3 | macOS 13.7.7 Ventura | arm64 | R Under development (unstable) (2025-11-04 r88984) -- "Unsuffered Consequences" | 4564 |
| Click on any hostname to see more info about the system (e.g. compilers) (*) as reported by 'uname -p', except on Windows and Mac OS X | ||||
| Package 1925/2325 | Hostname | OS / Arch | INSTALL | BUILD | CHECK | BUILD BIN | ||||||||
| ScreenR 1.13.0 (landing page) Emanuel Michele Soda
| nebbiolo1 | Linux (Ubuntu 24.04.3 LTS) / x86_64 | OK | OK | ERROR | |||||||||
| lconway | macOS 12.7.6 Monterey / x86_64 | OK | OK | ERROR | OK | |||||||||
| kjohnson3 | macOS 13.7.7 Ventura / arm64 | OK | OK | ERROR | OK | |||||||||
|
To the developers/maintainers of the ScreenR package: - Allow up to 24 hours (and sometimes 48 hours) for your latest push to git@git.bioconductor.org:packages/ScreenR.git to reflect on this report. See Troubleshooting Build Report for more information. - Use the following Renviron settings to reproduce errors and warnings. - If 'R CMD check' started to fail recently on the Linux builder(s) over a missing dependency, add the missing dependency to 'Suggests:' in your DESCRIPTION file. See Renviron.bioc for more information. |
| Package: ScreenR |
| Version: 1.13.0 |
| Command: /Library/Frameworks/R.framework/Resources/bin/R CMD check --install=check:ScreenR.install-out.txt --library=/Library/Frameworks/R.framework/Resources/library --no-vignettes --timings ScreenR_1.13.0.tar.gz |
| StartedAt: 2025-11-19 22:24:29 -0500 (Wed, 19 Nov 2025) |
| EndedAt: 2025-11-19 22:26:04 -0500 (Wed, 19 Nov 2025) |
| EllapsedTime: 95.1 seconds |
| RetCode: 1 |
| Status: ERROR |
| CheckDir: ScreenR.Rcheck |
| Warnings: NA |
##############################################################################
##############################################################################
###
### Running command:
###
### /Library/Frameworks/R.framework/Resources/bin/R CMD check --install=check:ScreenR.install-out.txt --library=/Library/Frameworks/R.framework/Resources/library --no-vignettes --timings ScreenR_1.13.0.tar.gz
###
##############################################################################
##############################################################################
* using log directory ‘/Users/biocbuild/bbs-3.23-bioc/meat/ScreenR.Rcheck’
* using R Under development (unstable) (2025-11-04 r88984)
* using platform: aarch64-apple-darwin20
* R was compiled by
Apple clang version 16.0.0 (clang-1600.0.26.6)
GNU Fortran (GCC) 14.2.0
* running under: macOS Ventura 13.7.8
* using session charset: UTF-8
* using option ‘--no-vignettes’
* checking for file ‘ScreenR/DESCRIPTION’ ... OK
* checking extension type ... Package
* this is package ‘ScreenR’ version ‘1.13.0’
* package encoding: UTF-8
* checking package namespace information ... OK
* checking package dependencies ... OK
* checking if this is a source package ... OK
* checking if there is a namespace ... OK
* checking for hidden files and directories ... OK
* checking for portable file names ... OK
* checking for sufficient/correct file permissions ... OK
* checking whether package ‘ScreenR’ can be installed ... OK
* checking installed package size ... OK
* checking package directory ... OK
* checking ‘build’ directory ... OK
* checking DESCRIPTION meta-information ... OK
* checking top-level files ... OK
* checking for left-over files ... OK
* checking index information ... OK
* checking package subdirectories ... OK
* checking code files for non-ASCII characters ... OK
* checking R files for syntax errors ... OK
* checking whether the package can be loaded ... OK
* checking whether the package can be loaded with stated dependencies ... OK
* checking whether the package can be unloaded cleanly ... OK
* checking whether the namespace can be loaded with stated dependencies ... OK
* checking whether the namespace can be unloaded cleanly ... OK
* checking whether startup messages can be suppressed ... OK
* checking dependencies in R code ... OK
* checking S3 generic/method consistency ... OK
* checking replacement functions ... OK
* checking foreign function calls ... OK
* checking R code for possible problems ... OK
* checking Rd files ... NOTE
checkRd: (-1) annotation_table.Rd:25: Lost braces
25 | \url{https://cellecta.com/}{cellecta}}
| ^
* checking Rd metadata ... OK
* checking Rd cross-references ... OK
* checking for missing documentation entries ... OK
* checking for code/documentation mismatches ... OK
* checking Rd \usage sections ... NOTE
Documented arguments not in \usage in Rd file 'compute_camera.Rd':
‘...’
Documented arguments not in \usage in Rd file 'select_number_barcode.Rd':
‘...’
Documented arguments not in \usage in Rd file 'unique_gene_symbols.Rd':
‘...’
Functions with \usage entries need to have the appropriate \alias
entries, and all their arguments documented.
The \usage entries must correspond to syntactically valid R code.
See chapter ‘Writing R documentation files’ in the ‘Writing R
Extensions’ manual.
* checking Rd contents ... OK
* checking for unstated dependencies in examples ... OK
* checking contents of ‘data’ directory ... OK
* checking data for non-ASCII characters ... OK
* checking data for ASCII and uncompressed saves ... OK
* checking R/sysdata.rda ... OK
* checking files in ‘vignettes’ ... OK
* checking examples ... OK
Examples with CPU (user + system) or elapsed time > 5s
user system elapsed
plot_zscore_distribution 10.500 2.468 13.930
plot_barcode_trend 10.865 1.967 13.514
compute_metrics 6.980 0.542 8.180
find_zscore_hit 5.294 1.055 6.689
find_robust_zscore_hit 5.125 1.083 6.627
* checking for unstated dependencies in ‘tests’ ... OK
* checking tests ...
Running ‘testthat.R’
ERROR
Running the tests in ‘tests/testthat.R’ failed.
Last 13 lines of output:
Differences:
`actual`: "ggplot2::ggplot"
`expected`: "gg"
── Failure ('test-visualization.R:263:5'): Plot common Hit ─────────────────────
Expected "gg" to equal `class(plot)[1]`.
Differences:
`actual`: "gg"
`expected`: "ggplot2::ggplot"
[ FAIL 11 | WARN 253 | SKIP 0 | PASS 53 ]
Error:
! Test failures.
Execution halted
* checking for unstated dependencies in vignettes ... OK
* checking package vignettes ... OK
* checking running R code from vignettes ... SKIPPED
* checking re-building of vignette outputs ... SKIPPED
* checking PDF version of manual ... OK
* DONE
Status: 1 ERROR, 2 NOTEs
See
‘/Users/biocbuild/bbs-3.23-bioc/meat/ScreenR.Rcheck/00check.log’
for details.
ScreenR.Rcheck/00install.out
############################################################################## ############################################################################## ### ### Running command: ### ### /Library/Frameworks/R.framework/Resources/bin/R CMD INSTALL ScreenR ### ############################################################################## ############################################################################## * installing to library ‘/Library/Frameworks/R.framework/Versions/4.6-arm64/Resources/library’ * installing *source* package ‘ScreenR’ ... ** this is package ‘ScreenR’ version ‘1.13.0’ ** using staged installation ** R ** data ** inst ** byte-compile and prepare package for lazy loading ** help *** installing help indices *** copying figures ** building package indices ** installing vignettes ** testing if installed package can be loaded from temporary location ** testing if installed package can be loaded from final location ** testing if installed package keeps a record of temporary installation path * DONE (ScreenR)
ScreenR.Rcheck/tests/testthat.Rout.fail
R Under development (unstable) (2025-11-04 r88984) -- "Unsuffered Consequences"
Copyright (C) 2025 The R Foundation for Statistical Computing
Platform: aarch64-apple-darwin20
R is free software and comes with ABSOLUTELY NO WARRANTY.
You are welcome to redistribute it under certain conditions.
Type 'license()' or 'licence()' for distribution details.
R is a collaborative project with many contributors.
Type 'contributors()' for more information and
'citation()' on how to cite R or R packages in publications.
Type 'demo()' for some demos, 'help()' for on-line help, or
'help.start()' for an HTML browser interface to help.
Type 'q()' to quit R.
> library(testthat)
> library(ScreenR)
Welcome to ScreenR
--------------------------
See ?ScreenR for a list of
available functions.
Enjoy!
>
> test_check("ScreenR")
Saving _problems/test-MDS-52.R
Saving _problems/test-MDS-61.R
Saving _problems/test-MDS-70.R
Saving _problems/test-MDS-81.R
ScreenR count table containing:
5320 rows
15 columns
ScreenR annotation table containing:
5320 rows
5 columns
ScreenR normalized count table containing:
5320 rows
15 columns
ScreenR normalized data table containing:
74480 rows
9 columns
ScreenR annotation table containing:
5320 rows
5 columns
ScreenR annotation table containing:
5320 rows
5 columns
ScreenR count table containing:
5320 rows
15 columns
ScreenR count table containing:
5320 rows
15 columns
ScreenR normalized count table containing:
5320 rows
15 columns
ScreenR normalized count table containing:
5320 rows
15 columns
ScreenR normalized data table containing:
74480 rows
9 columns
ScreenR normalized data table containing:
74480 rows
9 columns
Saving _problems/test-visualization-57.R
Saving _problems/test-visualization-71.R
Saving _problems/test-visualization-85.R
Saving _problems/test-visualization-102.R
Saving _problems/test-visualization-108.R
Saving _problems/test-visualization-179.R
Using classic mode.
Saving _problems/test-visualization-263.R
[ FAIL 11 | WARN 253 | SKIP 0 | PASS 53 ]
══ Failed tests ════════════════════════════════════════════════════════════════
── Failure ('test-MDS.R:52:5'): plot_mds NULL ──────────────────────────────────
Expected `class(plot)[1]` to equal "gg".
Differences:
`actual`: "ggplot2::ggplot"
`expected`: "gg"
── Failure ('test-MDS.R:61:5'): plot_mds ───────────────────────────────────────
Expected `class(plot)[1]` to equal "gg".
Differences:
`actual`: "ggplot2::ggplot"
`expected`: "gg"
── Failure ('test-MDS.R:70:5'): plot_explained_variance ────────────────────────
Expected `class(plot)[[1]]` to equal "gg".
Differences:
`actual`: "ggplot2::ggplot"
`expected`: "gg"
── Failure ('test-MDS.R:81:5'): plot_explained_variance CUM ────────────────────
Expected `class(plot)[[1]]` to equal "gg".
Differences:
`actual`: "ggplot2::ggplot"
`expected`: "gg"
── Failure ('test-visualization.R:57:5'): plot trend hit ───────────────────────
Expected `class(plot)[[1]]` to equal "gg".
Differences:
`actual`: "ggplot2::ggplot"
`expected`: "gg"
── Failure ('test-visualization.R:71:5'): Plot Boxplot violinplot ──────────────
Expected `class(p)[1]` to equal "gg".
Differences:
`actual`: "ggplot2::ggplot"
`expected`: "gg"
── Failure ('test-visualization.R:85:5'): Plot Boxplot boxplot ─────────────────
Expected `class(p)[1]` to equal "gg".
Differences:
`actual`: "ggplot2::ggplot"
`expected`: "gg"
── Failure ('test-visualization.R:102:5'): plot_barcode_lost_for_gene ──────────
Expected `class(p)[1]` to equal "gg".
Differences:
`actual`: "ggplot2::ggplot"
`expected`: "gg"
── Failure ('test-visualization.R:108:5'): plot_barcode_lost_for_gene ──────────
Expected `class(p)[1]` to equal "gg".
Differences:
`actual`: "ggplot2::ggplot"
`expected`: "gg"
── Failure ('test-visualization.R:179:5'): plot_zscore_distribution ────────────
Expected `class(p)[1]` to equal "gg".
Differences:
`actual`: "ggplot2::ggplot"
`expected`: "gg"
── Failure ('test-visualization.R:263:5'): Plot common Hit ─────────────────────
Expected "gg" to equal `class(plot)[1]`.
Differences:
`actual`: "gg"
`expected`: "ggplot2::ggplot"
[ FAIL 11 | WARN 253 | SKIP 0 | PASS 53 ]
Error:
! Test failures.
Execution halted
ScreenR.Rcheck/ScreenR-Ex.timings
| name | user | system | elapsed | |
| barcode_lost | 0.076 | 0.005 | 0.086 | |
| compute_data_table | 0.096 | 0.003 | 0.121 | |
| compute_explained_variance | 0.008 | 0.001 | 0.009 | |
| compute_metrics | 6.980 | 0.542 | 8.180 | |
| compute_slope | 0.014 | 0.001 | 0.015 | |
| count_mapped_reads | 0.011 | 0.000 | 0.011 | |
| create_edger_obj | 0.008 | 0.001 | 0.009 | |
| create_screenr_object | 0.015 | 0.001 | 0.015 | |
| filter_by_slope | 0.041 | 0.002 | 0.044 | |
| filter_by_variance | 0.439 | 0.032 | 0.502 | |
| find_camera_hit | 0.468 | 0.035 | 0.509 | |
| find_common_hit | 0.009 | 0.000 | 0.009 | |
| find_roast_hit | 0.658 | 0.057 | 0.760 | |
| find_robust_zscore_hit | 5.125 | 1.083 | 6.627 | |
| find_zscore_hit | 5.294 | 1.055 | 6.689 | |
| get_annotation_table | 0.004 | 0.000 | 0.004 | |
| get_count_table | 0.031 | 0.002 | 0.037 | |
| get_data_table | 0.010 | 0.001 | 0.010 | |
| get_groups | 0.000 | 0.000 | 0.001 | |
| get_normalized_count_table | 0.014 | 0.000 | 0.014 | |
| get_replicates | 0 | 0 | 0 | |
| mapped_reads | 0.015 | 0.000 | 0.015 | |
| normalize_data | 0.011 | 0.000 | 0.013 | |
| plot_barcode_hit | 0.531 | 0.025 | 0.590 | |
| plot_barcode_lost | 0.151 | 0.002 | 0.152 | |
| plot_barcode_lost_for_gene | 0.540 | 0.006 | 0.572 | |
| plot_barcode_trend | 10.865 | 1.967 | 13.514 | |
| plot_boxplot | 0.144 | 0.006 | 0.156 | |
| plot_common_hit | 0.080 | 0.001 | 0.087 | |
| plot_explained_variance | 0.150 | 0.004 | 0.187 | |
| plot_mapped_reads | 0.070 | 0.001 | 0.076 | |
| plot_mapped_reads_distribution | 0.567 | 0.023 | 0.626 | |
| plot_mds | 0.121 | 0.007 | 0.140 | |
| plot_trend | 0.662 | 0.335 | 1.034 | |
| plot_zscore_distribution | 10.500 | 2.468 | 13.930 | |
| remove_all_zero_row | 0.004 | 0.000 | 0.004 | |
| set_annotation_table | 0.048 | 0.001 | 0.054 | |
| set_count_table | 0.035 | 0.000 | 0.039 | |
| set_data_table | 0.034 | 0.000 | 0.035 | |
| set_groups | 0.039 | 0.001 | 0.040 | |
| set_normalized_count_table | 0.045 | 0.000 | 0.050 | |
| set_replicates | 0.033 | 0.000 | 0.034 | |