Back to Multiple platform build/check report for BioC 3.23:   simplified   long
ABCDEFGHIJKLMNOPQR[S]TUVWXYZ

This page was generated on 2025-11-17 11:40 -0500 (Mon, 17 Nov 2025).

HostnameOSArch (*)R versionInstalled pkgs
nebbiolo1Linux (Ubuntu 24.04.3 LTS)x86_64R Under development (unstable) (2025-10-20 r88955) -- "Unsuffered Consequences" 4826
lconwaymacOS 12.7.6 Montereyx86_64R Under development (unstable) (2025-10-21 r88958) -- "Unsuffered Consequences" 4491
kjohnson3macOS 13.7.7 Venturaarm64R Under development (unstable) (2025-11-04 r88984) -- "Unsuffered Consequences" 4562
Click on any hostname to see more info about the system (e.g. compilers)      (*) as reported by 'uname -p', except on Windows and Mac OS X

Package 2133/2325HostnameOS / ArchINSTALLBUILDCHECKBUILD BIN
SWATH2stats 1.41.0  (landing page)
Peter Blattmann
Snapshot Date: 2025-11-16 13:40 -0500 (Sun, 16 Nov 2025)
git_url: https://git.bioconductor.org/packages/SWATH2stats
git_branch: devel
git_last_commit: e8d705a
git_last_commit_date: 2025-10-29 10:28:13 -0500 (Wed, 29 Oct 2025)
nebbiolo1Linux (Ubuntu 24.04.3 LTS) / x86_64  OK    OK    ERROR  
lconwaymacOS 12.7.6 Monterey / x86_64  OK    OK    ERROR    OK  
kjohnson3macOS 13.7.7 Ventura / arm64  OK    OK    ERROR    OK  


CHECK results for SWATH2stats on lconway

To the developers/maintainers of the SWATH2stats package:
- Allow up to 24 hours (and sometimes 48 hours) for your latest push to git@git.bioconductor.org:packages/SWATH2stats.git to reflect on this report. See Troubleshooting Build Report for more information.
- Use the following Renviron settings to reproduce errors and warnings.
- If 'R CMD check' started to fail recently on the Linux builder(s) over a missing dependency, add the missing dependency to 'Suggests:' in your DESCRIPTION file. See Renviron.bioc for more information.

raw results


Summary

Package: SWATH2stats
Version: 1.41.0
Command: /Library/Frameworks/R.framework/Resources/bin/R CMD check --install=check:SWATH2stats.install-out.txt --library=/Library/Frameworks/R.framework/Resources/library --no-vignettes --timings SWATH2stats_1.41.0.tar.gz
StartedAt: 2025-11-17 06:03:04 -0500 (Mon, 17 Nov 2025)
EndedAt: 2025-11-17 06:05:51 -0500 (Mon, 17 Nov 2025)
EllapsedTime: 166.9 seconds
RetCode: 1
Status:   ERROR  
CheckDir: SWATH2stats.Rcheck
Warnings: NA

Command output

##############################################################################
##############################################################################
###
### Running command:
###
###   /Library/Frameworks/R.framework/Resources/bin/R CMD check --install=check:SWATH2stats.install-out.txt --library=/Library/Frameworks/R.framework/Resources/library --no-vignettes --timings SWATH2stats_1.41.0.tar.gz
###
##############################################################################
##############################################################################


* using log directory ‘/Users/biocbuild/bbs-3.23-bioc/meat/SWATH2stats.Rcheck’
* using R Under development (unstable) (2025-10-21 r88958)
* using platform: x86_64-apple-darwin20
* R was compiled by
    Apple clang version 14.0.0 (clang-1400.0.29.202)
    GNU Fortran (GCC) 14.2.0
* running under: macOS Ventura 13.7.8
* using session charset: UTF-8
* using option ‘--no-vignettes’
* checking for file ‘SWATH2stats/DESCRIPTION’ ... OK
* checking extension type ... Package
* this is package ‘SWATH2stats’ version ‘1.41.0’
* package encoding: UTF-8
* checking package namespace information ... OK
* checking package dependencies ... INFO
Package which this enhances but not available for checking: ‘aLFQ’
* checking if this is a source package ... OK
* checking if there is a namespace ... OK
* checking for hidden files and directories ... OK
* checking for portable file names ... OK
* checking for sufficient/correct file permissions ... OK
* checking whether package ‘SWATH2stats’ can be installed ... OK
* checking installed package size ... OK
* checking package directory ... OK
* checking ‘build’ directory ... OK
* checking DESCRIPTION meta-information ... OK
* checking top-level files ... OK
* checking for left-over files ... OK
* checking index information ... OK
* checking package subdirectories ... OK
* checking code files for non-ASCII characters ... OK
* checking R files for syntax errors ... OK
* checking whether the package can be loaded ... OK
* checking whether the package can be loaded with stated dependencies ... OK
* checking whether the package can be unloaded cleanly ... OK
* checking whether the namespace can be loaded with stated dependencies ... OK
* checking whether the namespace can be unloaded cleanly ... OK
* checking dependencies in R code ... OK
* checking S3 generic/method consistency ... OK
* checking replacement functions ... OK
* checking foreign function calls ... OK
* checking R code for possible problems ... OK
* checking Rd files ... OK
* checking Rd metadata ... OK
* checking Rd cross-references ... OK
* checking for missing documentation entries ... OK
* checking for code/documentation mismatches ... OK
* checking Rd \usage sections ... OK
* checking Rd contents ... OK
* checking for unstated dependencies in examples ... OK
* checking contents of ‘data’ directory ... OK
* checking data for non-ASCII characters ... OK
* checking data for ASCII and uncompressed saves ... OK
* checking sizes of PDF files under ‘inst/doc’ ... OK
* checking files in ‘vignettes’ ... OK
* checking examples ... OK
* checking for unstated dependencies in ‘tests’ ... OK
* checking tests ...
  Running ‘test-all.R’
 ERROR
Running the tests in ‘tests/test-all.R’ failed.
Last 13 lines of output:
  [1] "peterb_L150425_011_SW"
  [1] "peterb_L150514_002_SW"
  [ FAIL 1 | WARN 65 | SKIP 0 | PASS 93 ]
  
  ══ Failed tests ════════════════════════════════════════════════════════════════
  ── Error ('test_convert.R:33:3'): data conversion ──────────────────────────────
  Error in `is_true()`: could not find function "is_true"
  Backtrace:
      ▆
   1. └─testthat::expect_that(...) at test_convert.R:33:3
  
  [ FAIL 1 | WARN 65 | SKIP 0 | PASS 93 ]
  Error:
  ! Test failures.
  Execution halted
* checking for unstated dependencies in vignettes ... OK
* checking package vignettes ... OK
* checking running R code from vignettes ... SKIPPED
* checking re-building of vignette outputs ... SKIPPED
* checking PDF version of manual ... OK
* DONE

Status: 1 ERROR
See
  ‘/Users/biocbuild/bbs-3.23-bioc/meat/SWATH2stats.Rcheck/00check.log’
for details.


Installation output

SWATH2stats.Rcheck/00install.out

##############################################################################
##############################################################################
###
### Running command:
###
###   /Library/Frameworks/R.framework/Resources/bin/R CMD INSTALL SWATH2stats
###
##############################################################################
##############################################################################


* installing to library ‘/Library/Frameworks/R.framework/Versions/4.6-x86_64/Resources/library’
* installing *source* package ‘SWATH2stats’ ...
** this is package ‘SWATH2stats’ version ‘1.41.0’
** using staged installation
** R
** data
** inst
** byte-compile and prepare package for lazy loading
** help
*** installing help indices
** building package indices
** installing vignettes
** testing if installed package can be loaded from temporary location
** testing if installed package can be loaded from final location
** testing if installed package keeps a record of temporary installation path
* DONE (SWATH2stats)

Tests output

SWATH2stats.Rcheck/tests/test-all.Rout.fail


R Under development (unstable) (2025-10-21 r88958) -- "Unsuffered Consequences"
Copyright (C) 2025 The R Foundation for Statistical Computing
Platform: x86_64-apple-darwin20

R is free software and comes with ABSOLUTELY NO WARRANTY.
You are welcome to redistribute it under certain conditions.
Type 'license()' or 'licence()' for distribution details.

R is a collaborative project with many contributors.
Type 'contributors()' for more information and
'citation()' on how to cite R or R packages in publications.

Type 'demo()' for some demos, 'help()' for on-line help, or
'help.start()' for an HTML browser interface to help.
Type 'q()' to quit R.

> library(testthat)
> test_check("SWATH2stats")
Loading required package: SWATH2stats
Saving _problems/test_convert-33.R
[1] "peterb_J131223_054"
[1] "peterb_L150425_011_SW"
[1] "peterb_L150514_002_SW"
[ FAIL 1 | WARN 65 | SKIP 0 | PASS 93 ]

══ Failed tests ════════════════════════════════════════════════════════════════
── Error ('test_convert.R:33:3'): data conversion ──────────────────────────────
Error in `is_true()`: could not find function "is_true"
Backtrace:
    ▆
 1. └─testthat::expect_that(...) at test_convert.R:33:3

[ FAIL 1 | WARN 65 | SKIP 0 | PASS 93 ]
Error:
! Test failures.
Execution halted

Example timings

SWATH2stats.Rcheck/SWATH2stats-Ex.timings

nameusersystemelapsed
JPP_update0.1420.0050.147
add_genesymbol0.0060.0010.007
assess_decoy_rate0.1200.0030.123
assess_fdr_byrun0.3300.0090.340
assess_fdr_overall0.5210.0130.537
convert4MSstats0.6330.0160.650
convert4PECA0.1480.0040.152
convert4aLFQ0.6430.0250.670
convert4mapDIA0.4000.0220.424
convert4pythonscript0.1470.0040.152
convert_protein_ids0.0000.0000.001
count_analytes0.1550.0130.173
disaggregate0.2350.0090.246
filter_all_peptides0.1490.0110.160
filter_mscore0.1710.0070.180
filter_mscore_condition0.1620.0070.169
filter_mscore_fdr0.3880.0210.409
filter_mscore_freqobs0.1390.0070.146
filter_on_max_peptides0.1530.0070.166
filter_on_min_peptides0.1260.0070.132
filter_proteotypic_peptides0.1090.0020.112
import_data0.3980.0160.415
load_mart1.4120.1794.838
mscore4assayfdr0.2600.0400.301
mscore4pepfdr0.2810.0230.304
mscore4protfdr0.2260.0050.233
plot.fdr_cube0.1430.0070.152
plot.fdr_table0.1480.0060.155
plot_correlation_between_samples0.7440.0190.764
plot_variation0.5620.0120.577
plot_variation_vs_total0.5650.0060.573
reduce_OpenSWATH_output0.1110.0030.114
removeDecoyProteins0.1170.0030.120
sample_annotation0.1730.0070.180
transform_MSstats_OpenSWATH0.0030.0010.004
unifyProteinGroupLabels0.1150.0030.118
validate_columns0.0010.0000.001
write_matrix_peptides0.1100.0020.113
write_matrix_proteins0.1410.0040.146