Back to Multiple platform build/check report for BioC 3.23:   simplified   long
ABCDEFGHIJKLMNOPQ[R]STUVWXYZ

This page was generated on 2025-11-18 11:39 -0500 (Tue, 18 Nov 2025).

HostnameOSArch (*)R versionInstalled pkgs
nebbiolo1Linux (Ubuntu 24.04.3 LTS)x86_64R Under development (unstable) (2025-10-20 r88955) -- "Unsuffered Consequences" 4826
lconwaymacOS 12.7.6 Montereyx86_64R Under development (unstable) (2025-10-21 r88958) -- "Unsuffered Consequences" 4561
kjohnson3macOS 13.7.7 Venturaarm64R Under development (unstable) (2025-11-04 r88984) -- "Unsuffered Consequences" 4562
Click on any hostname to see more info about the system (e.g. compilers)      (*) as reported by 'uname -p', except on Windows and Mac OS X

Package 1776/2325HostnameOS / ArchINSTALLBUILDCHECKBUILD BIN
Rigraphlib 1.3.1  (landing page)
Aaron Lun
Snapshot Date: 2025-11-17 13:40 -0500 (Mon, 17 Nov 2025)
git_url: https://git.bioconductor.org/packages/Rigraphlib
git_branch: devel
git_last_commit: 445817d
git_last_commit_date: 2025-10-30 23:59:58 -0500 (Thu, 30 Oct 2025)
nebbiolo1Linux (Ubuntu 24.04.3 LTS) / x86_64  OK    OK    WARNINGS  UNNEEDED, same version is already published
lconwaymacOS 12.7.6 Monterey / x86_64  ERROR    ERROR  skippedskipped
kjohnson3macOS 13.7.7 Ventura / arm64  OK    OK    WARNINGS    OK  UNNEEDED, same version is already published


BUILD results for Rigraphlib on lconway

To the developers/maintainers of the Rigraphlib package:
- Allow up to 24 hours (and sometimes 48 hours) for your latest push to git@git.bioconductor.org:packages/Rigraphlib.git to reflect on this report. See Troubleshooting Build Report for more information.
- Use the following Renviron settings to reproduce errors and warnings.
- If 'R CMD check' started to fail recently on the Linux builder(s) over a missing dependency, add the missing dependency to 'Suggests:' in your DESCRIPTION file. See Renviron.bioc for more information.

raw results


Summary

Package: Rigraphlib
Version: 1.3.1
Command: /Library/Frameworks/R.framework/Resources/bin/R CMD build --keep-empty-dirs --no-resave-data Rigraphlib
StartedAt: 2025-11-17 18:39:15 -0500 (Mon, 17 Nov 2025)
EndedAt: 2025-11-17 18:39:25 -0500 (Mon, 17 Nov 2025)
EllapsedTime: 10.2 seconds
RetCode: 1
Status:   ERROR  
PackageFile: None
PackageFileSize: NA

Command output

##############################################################################
##############################################################################
###
### Running command:
###
###   /Library/Frameworks/R.framework/Resources/bin/R CMD build --keep-empty-dirs --no-resave-data Rigraphlib
###
##############################################################################
##############################################################################


* checking for file ‘Rigraphlib/DESCRIPTION’ ... OK
* preparing ‘Rigraphlib’:
* checking DESCRIPTION meta-information ... OK
* running ‘cleanup’
* installing the package (it is needed to build vignettes)
      -----------------------------------
* installing *source* package ‘Rigraphlib’ ...
** this is package ‘Rigraphlib’ version ‘1.3.1’
** using staged installation
Error in if (grepl("^[0-9]+\\.[0-9]+\\.[0-9]+[^0-9]", version)) { : 
  argument is of length zero
Calls: <Anonymous> -> get_version -> to_version
Execution halted
ERROR: configuration failed for package ‘Rigraphlib’
* removing ‘/private/tmp/RtmpUC9GYX/Rinst1536662c1db7c/Rigraphlib’
      -----------------------------------
ERROR: package installation failed